BEGIN:VCALENDAR
PRODID:-//nuDatenautomaten//framework iCal4j //DE
VERSION:2.0
CALSCALE:GREGORIAN
BEGIN:VTIMEZONE
TZID:Europe/Berlin
LAST-MODIFIED:20260306T231828Z
TZURL:https://www.tzurl.org/zoneinfo/Europe/Berlin
X-LIC-LOCATION:Europe/Berlin
X-PROLEPTIC-TZNAME:LMT
BEGIN:STANDARD
TZNAME:CET
TZOFFSETFROM:+005328
TZOFFSETTO:+0100
DTSTART:18930401T000000
END:STANDARD
BEGIN:DAYLIGHT
TZNAME:CEST
TZOFFSETFROM:+0100
TZOFFSETTO:+0200
DTSTART:19160430T230000
RDATE:19400401T020000
RDATE:19430329T020000
RDATE:19460414T020000
RDATE:19470406T030000
RDATE:19480418T020000
RDATE:19490410T020000
RDATE:19800406T020000
END:DAYLIGHT
BEGIN:STANDARD
TZNAME:CET
TZOFFSETFROM:+0200
TZOFFSETTO:+0100
DTSTART:19161001T010000
RDATE:19421102T030000
RDATE:19431004T030000
RDATE:19441002T030000
RDATE:19451118T030000
RDATE:19461007T030000
END:STANDARD
BEGIN:DAYLIGHT
TZNAME:CEST
TZOFFSETFROM:+0100
TZOFFSETTO:+0200
DTSTART:19170416T020000
RRULE:FREQ=YEARLY;UNTIL=19180415T010000Z;BYMONTH=4;BYDAY=3MO
END:DAYLIGHT
BEGIN:STANDARD
TZNAME:CET
TZOFFSETFROM:+0200
TZOFFSETTO:+0100
DTSTART:19170917T030000
RRULE:FREQ=YEARLY;UNTIL=19180916T010000Z;BYMONTH=9;BYDAY=3MO
END:STANDARD
BEGIN:DAYLIGHT
TZNAME:CEST
TZOFFSETFROM:+0100
TZOFFSETTO:+0200
DTSTART:19440403T020000
RRULE:FREQ=YEARLY;UNTIL=19450402T010000Z;BYMONTH=4;BYDAY=1MO
END:DAYLIGHT
BEGIN:DAYLIGHT
TZNAME:CEMT
TZOFFSETFROM:+0200
TZOFFSETTO:+0300
DTSTART:19450524T020000
RDATE:19470511T030000
END:DAYLIGHT
BEGIN:DAYLIGHT
TZNAME:CEST
TZOFFSETFROM:+0300
TZOFFSETTO:+0200
DTSTART:19450924T030000
RDATE:19470629T030000
END:DAYLIGHT
BEGIN:STANDARD
TZNAME:CET
TZOFFSETFROM:+0100
TZOFFSETTO:+0100
DTSTART:19460101T000000
RDATE:19800101T000000
END:STANDARD
BEGIN:STANDARD
TZNAME:CET
TZOFFSETFROM:+0200
TZOFFSETTO:+0100
DTSTART:19471005T030000
RRULE:FREQ=YEARLY;UNTIL=19491002T010000Z;BYMONTH=10;BYDAY=1SU
END:STANDARD
BEGIN:STANDARD
TZNAME:CET
TZOFFSETFROM:+0200
TZOFFSETTO:+0100
DTSTART:19800928T030000
RRULE:FREQ=YEARLY;UNTIL=19950924T010000Z;BYMONTH=9;BYDAY=-1SU
END:STANDARD
BEGIN:DAYLIGHT
TZNAME:CEST
TZOFFSETFROM:+0100
TZOFFSETTO:+0200
DTSTART:19810329T020000
RRULE:FREQ=YEARLY;BYMONTH=3;BYDAY=-1SU
END:DAYLIGHT
BEGIN:STANDARD
TZNAME:CET
TZOFFSETFROM:+0200
TZOFFSETTO:+0100
DTSTART:19961027T030000
RRULE:FREQ=YEARLY;BYMONTH=10;BYDAY=-1SU
END:STANDARD
END:VTIMEZONE
BEGIN:VEVENT
DTSTAMP:20260425T005046Z
DTSTART;TZID=Europe/Berlin:20240831T143000
DTEND;TZID=Europe/Berlin:20240831T173000
SUMMARY:JUG\, 2.Liga\, Gr.6\, Vorrunde Herisau vs Steckborn-Homburg (4)
UID:a3ba9173-a18b-4d2d-85aa-1534c188469c
STATUS:CONFIRMED
LAST-MODIFIED:20240819T112115Z
DESCRIPTION:Jugend\, 2. Liga\, Gruppe 6\, Vorrunde\nBegegnungs-Nr: 4\nHeim: Herisau\nGast: Steckborn-Homburg\n\nAdresse: Schwellbrunnerstrasse 29\, 9100 Herisau\n
LOCATION:Schwellbrunnerstrasse 29\, 9100 Herisau
CATEGORIES:Saison 2024/25
END:VEVENT
BEGIN:VEVENT
DTSTAMP:20260425T005046Z
DTSTART;TZID=Europe/Berlin:20240831T130000
DTEND;TZID=Europe/Berlin:20240831T160000
SUMMARY:JUG\, 2.Liga\, Gr.6\, Vorrunde Herisau vs St. Gallen II (1)
UID:62bc85e7-78dc-4f4a-9ba4-549bdc974ef8
STATUS:CONFIRMED
LAST-MODIFIED:20240904T124227Z
DESCRIPTION:Jugend\, 2. Liga\, Gruppe 6\, Vorrunde\nBegegnungs-Nr: 1\nHeim: Herisau\nGast: St. Gallen II\n
LOCATION:
CATEGORIES:Saison 2024/25
END:VEVENT
BEGIN:VEVENT
DTSTAMP:20260425T005046Z
DTSTART;TZID=Europe/Berlin:20241116T160000
DTEND;TZID=Europe/Berlin:20241116T190000
SUMMARY:JUG. 2.Liga\, Gr.6\, Zw-Runde Herisau vs Uster II (6)
UID:afce20cb-176b-47b2-82f6-3e658c55eb36
STATUS:CONFIRMED
LAST-MODIFIED:20241126T095110Z
DESCRIPTION:Jugend\, 2. Liga\, Gruppe 6\, Zw-Runde\nBegegnungs-Nr: 6\nHeim: Herisau\nGast: Uster II\n
LOCATION:
CATEGORIES:Saison 2024/25
END:VEVENT
BEGIN:VEVENT
DTSTAMP:20260425T005046Z
DTSTART;TZID=Europe/Berlin:20250329T160000
DTEND;TZID=Europe/Berlin:20250329T190000
SUMMARY:JUG\, 2.Liga\, Gr.5\, Final Herisau vs Meilen-Männedorf (3)
UID:d7b29e36-dbae-4b1d-9ffd-58c335a336d3
STATUS:CONFIRMED
LAST-MODIFIED:20250407T134536Z
DESCRIPTION:Jugend\, 2. Liga\, Gruppe 5\, Final\nBegegnungs-Nr: 3\nHeim: Herisau\nGast: Meilen-Männedorf\n\nAdresse: Schwellbrunnerstrasse 29\, 9100 Herisau\n
LOCATION:Schwellbrunnerstrasse 29\, 9100 Herisau
CATEGORIES:Saison 2024/25
END:VEVENT
BEGIN:VEVENT
DTSTAMP:20260425T005046Z
DTSTART;TZID=Europe/Berlin:20250329T160000
DTEND;TZID=Europe/Berlin:20250329T190000
SUMMARY:JUG\, 2.Liga\, Gr.5\, Final Herisau vs Wädenswil (6)
UID:e175f04a-2ef8-4b67-b6fd-1bf618ff8116
STATUS:CONFIRMED
LAST-MODIFIED:20250319T174755Z
DESCRIPTION:Jugend\, 2. Liga\, Gruppe 5\, Final\nBegegnungs-Nr: 6\nHeim: Herisau\nGast: Wädenswil\n\nAdresse: Schwellbrunnerstrasse 29\, 9100 Herisau\n
LOCATION:Schwellbrunnerstrasse 29\, 9100 Herisau
CATEGORIES:Saison 2024/25
END:VEVENT
BEGIN:VEVENT
DTSTAMP:20260425T005046Z
DTSTART;TZID=Europe/Berlin:20250329T130000
DTEND;TZID=Europe/Berlin:20250329T160000
SUMMARY:JUG\, 2.Liga\, Gr.5\, Final Herisau vs Winterthur II (2)
UID:3b165803-f65f-4f1d-ad9f-9f6aa4ad0638
STATUS:CONFIRMED
LAST-MODIFIED:20250407T134220Z
DESCRIPTION:Jugend\, 2. Liga\, Gruppe 5\, Final\nBegegnungs-Nr: 2\nHeim: Herisau\nGast: Winterthur II\n
LOCATION:
CATEGORIES:Saison 2024/25
END:VEVENT
BEGIN:VEVENT
DTSTAMP:20260425T005046Z
DTSTART;TZID=Europe/Berlin:20240831T160000
DTEND;TZID=Europe/Berlin:20240831T190000
SUMMARY:JUG\, 2.Liga\, Gr.6\, Vorrunde Ruggell vs Herisau (6)
UID:02aa993b-bbe3-43d9-a0e0-1d24ea4f40c3
STATUS:CONFIRMED
LAST-MODIFIED:20240904T124322Z
DESCRIPTION:Jugend\, 2. Liga\, Gruppe 6\, Vorrunde\nBegegnungs-Nr: 6\nHeim: Ruggell\nGast: Herisau\n\nAdresse: Nellengasse 40\, 9491 Ruggell\n
LOCATION:Nellengasse 40\, 9491 Ruggell
CATEGORIES:Saison 2024/25
END:VEVENT
BEGIN:VEVENT
DTSTAMP:20260425T005046Z
DTSTART;TZID=Europe/Berlin:20241116T143000
DTEND;TZID=Europe/Berlin:20241116T173000
SUMMARY:JUG. 2.Liga\, Gr.6\, Zw-Runde Wädenswil II vs Herisau (3)
UID:9b0a4ad1-d73e-4e1a-80af-8cec74ae89f3
STATUS:CONFIRMED
LAST-MODIFIED:20241027T200356Z
DESCRIPTION:Jugend\, 2. Liga\, Gruppe 6\, Zw-Runde\nBegegnungs-Nr: 3\nHeim: Wädenswil II\nGast: Herisau\n
LOCATION:
CATEGORIES:Saison 2024/25
END:VEVENT
BEGIN:VEVENT
DTSTAMP:20260425T005046Z
DTSTART;TZID=Europe/Berlin:20241116T130000
DTEND;TZID=Europe/Berlin:20241116T160000
SUMMARY:JUG. 2.Liga\, Gr.6\, Zw-Runde Höngg vs Herisau (2)
UID:6b4d5569-4000-4405-99e8-dd50ccf34563
STATUS:CONFIRMED
LAST-MODIFIED:20241122T152753Z
DESCRIPTION:Jugend\, 2. Liga\, Gruppe 6\, Zw-Runde\nBegegnungs-Nr: 2\nHeim: Höngg\nGast: Herisau\n
LOCATION:
CATEGORIES:Saison 2024/25
END:VEVENT
END:VCALENDAR
