BEGIN:VCALENDAR
PRODID:-//nuDatenautomaten//framework iCal4j //DE
VERSION:2.0
CALSCALE:GREGORIAN
BEGIN:VTIMEZONE
TZID:Europe/Berlin
LAST-MODIFIED:20260306T231828Z
TZURL:https://www.tzurl.org/zoneinfo/Europe/Berlin
X-LIC-LOCATION:Europe/Berlin
X-PROLEPTIC-TZNAME:LMT
BEGIN:STANDARD
TZNAME:CET
TZOFFSETFROM:+005328
TZOFFSETTO:+0100
DTSTART:18930401T000000
END:STANDARD
BEGIN:DAYLIGHT
TZNAME:CEST
TZOFFSETFROM:+0100
TZOFFSETTO:+0200
DTSTART:19160430T230000
RDATE:19400401T020000
RDATE:19430329T020000
RDATE:19460414T020000
RDATE:19470406T030000
RDATE:19480418T020000
RDATE:19490410T020000
RDATE:19800406T020000
END:DAYLIGHT
BEGIN:STANDARD
TZNAME:CET
TZOFFSETFROM:+0200
TZOFFSETTO:+0100
DTSTART:19161001T010000
RDATE:19421102T030000
RDATE:19431004T030000
RDATE:19441002T030000
RDATE:19451118T030000
RDATE:19461007T030000
END:STANDARD
BEGIN:DAYLIGHT
TZNAME:CEST
TZOFFSETFROM:+0100
TZOFFSETTO:+0200
DTSTART:19170416T020000
RRULE:FREQ=YEARLY;UNTIL=19180415T010000Z;BYMONTH=4;BYDAY=3MO
END:DAYLIGHT
BEGIN:STANDARD
TZNAME:CET
TZOFFSETFROM:+0200
TZOFFSETTO:+0100
DTSTART:19170917T030000
RRULE:FREQ=YEARLY;UNTIL=19180916T010000Z;BYMONTH=9;BYDAY=3MO
END:STANDARD
BEGIN:DAYLIGHT
TZNAME:CEST
TZOFFSETFROM:+0100
TZOFFSETTO:+0200
DTSTART:19440403T020000
RRULE:FREQ=YEARLY;UNTIL=19450402T010000Z;BYMONTH=4;BYDAY=1MO
END:DAYLIGHT
BEGIN:DAYLIGHT
TZNAME:CEMT
TZOFFSETFROM:+0200
TZOFFSETTO:+0300
DTSTART:19450524T020000
RDATE:19470511T030000
END:DAYLIGHT
BEGIN:DAYLIGHT
TZNAME:CEST
TZOFFSETFROM:+0300
TZOFFSETTO:+0200
DTSTART:19450924T030000
RDATE:19470629T030000
END:DAYLIGHT
BEGIN:STANDARD
TZNAME:CET
TZOFFSETFROM:+0100
TZOFFSETTO:+0100
DTSTART:19460101T000000
RDATE:19800101T000000
END:STANDARD
BEGIN:STANDARD
TZNAME:CET
TZOFFSETFROM:+0200
TZOFFSETTO:+0100
DTSTART:19471005T030000
RRULE:FREQ=YEARLY;UNTIL=19491002T010000Z;BYMONTH=10;BYDAY=1SU
END:STANDARD
BEGIN:STANDARD
TZNAME:CET
TZOFFSETFROM:+0200
TZOFFSETTO:+0100
DTSTART:19800928T030000
RRULE:FREQ=YEARLY;UNTIL=19950924T010000Z;BYMONTH=9;BYDAY=-1SU
END:STANDARD
BEGIN:DAYLIGHT
TZNAME:CEST
TZOFFSETFROM:+0100
TZOFFSETTO:+0200
DTSTART:19810329T020000
RRULE:FREQ=YEARLY;BYMONTH=3;BYDAY=-1SU
END:DAYLIGHT
BEGIN:STANDARD
TZNAME:CET
TZOFFSETFROM:+0200
TZOFFSETTO:+0100
DTSTART:19961027T030000
RRULE:FREQ=YEARLY;BYMONTH=10;BYDAY=-1SU
END:STANDARD
END:VTIMEZONE
BEGIN:VEVENT
DTSTAMP:20260425T022335Z
DTSTART;TZID=Europe/Berlin:20240919T193000
DTEND;TZID=Europe/Berlin:20240919T223000
SUMMARY:HE 3. Liga Gr. 5 Affoltern A/A III vs Young Stars ZH V (0)
UID:9a5a24cd-3755-4635-888a-909327433d94
STATUS:CONFIRMED
LAST-MODIFIED:20240920T135615Z
DESCRIPTION:3. Liga Herren Gruppe 5\nBegegnungs-Nr: 0\nHeim: Affoltern A/A III\nGast: Young Stars ZH V\n\nAdresse: Butzenstrasse 8\, 8910 Affoltern am Albis\n
LOCATION:Butzenstrasse 8\, 8910 Affoltern am Albis
CATEGORIES:Saison 2024/25
END:VEVENT
BEGIN:VEVENT
DTSTAMP:20260425T022335Z
DTSTART;TZID=Europe/Berlin:20240829T193000
DTEND;TZID=Europe/Berlin:20240829T223000
SUMMARY:HE 3. Liga Gr. 5 Affoltern A/A III vs Pinguin Zürich II (0)
UID:27a60aa5-4192-48ac-a8f4-c39b3b2a0bd8
STATUS:CONFIRMED
LAST-MODIFIED:20240904T095757Z
DESCRIPTION:3. Liga Herren Gruppe 5\nBegegnungs-Nr: 0\nHeim: Affoltern A/A III\nGast: Pinguin Zürich II\n\nAdresse: Butzenstrasse 8\, 8910 Affoltern am Albis\n
LOCATION:Butzenstrasse 8\, 8910 Affoltern am Albis
CATEGORIES:Saison 2024/25
END:VEVENT
BEGIN:VEVENT
DTSTAMP:20260425T022335Z
DTSTART;TZID=Europe/Berlin:20241031T193000
DTEND;TZID=Europe/Berlin:20241031T223000
SUMMARY:HE 3. Liga Gr. 5 Affoltern A/A III vs Zürich-Affoltern IV (0)
UID:4754a030-2354-4ae8-9b20-07317fd356ca
STATUS:CONFIRMED
LAST-MODIFIED:20241108T134305Z
DESCRIPTION:3. Liga Herren Gruppe 5\nBegegnungs-Nr: 0\nHeim: Affoltern A/A III\nGast: Zürich-Affoltern IV\n\nAdresse: Butzenstrasse 8\, 8910 Affoltern am Albis\n
LOCATION:Butzenstrasse 8\, 8910 Affoltern am Albis
CATEGORIES:Saison 2024/25
END:VEVENT
BEGIN:VEVENT
DTSTAMP:20260425T022335Z
DTSTART;TZID=Europe/Berlin:20250327T193000
DTEND;TZID=Europe/Berlin:20250327T223000
SUMMARY:HE 3. Liga Gr. 5 Affoltern A/A III vs Thalwil (0)
UID:c95b7003-8c37-4c6e-9e53-70a95fe98808
STATUS:CONFIRMED
LAST-MODIFIED:20250402T102759Z
DESCRIPTION:3. Liga Herren Gruppe 5\nBegegnungs-Nr: 0\nHeim: Affoltern A/A III\nGast: Thalwil\n\nAdresse: Butzenstrasse 8\, 8910 Affoltern am Albis\n
LOCATION:Butzenstrasse 8\, 8910 Affoltern am Albis
CATEGORIES:Saison 2024/25
END:VEVENT
BEGIN:VEVENT
DTSTAMP:20260425T022335Z
DTSTART;TZID=Europe/Berlin:20250313T193000
DTEND;TZID=Europe/Berlin:20250313T223000
SUMMARY:HE 3. Liga Gr. 5 Affoltern A/A III vs Horgen III (0)
UID:86363717-3c71-4c17-a4c1-daeac398da63
STATUS:CONFIRMED
LAST-MODIFIED:20250314T124137Z
DESCRIPTION:3. Liga Herren Gruppe 5\nBegegnungs-Nr: 0\nHeim: Affoltern A/A III\nGast: Horgen III\n\nAdresse: Butzenstrasse 8\, 8910 Affoltern am Albis\n
LOCATION:Butzenstrasse 8\, 8910 Affoltern am Albis
CATEGORIES:Saison 2024/25
END:VEVENT
BEGIN:VEVENT
DTSTAMP:20260425T022335Z
DTSTART;TZID=Europe/Berlin:20250123T193000
DTEND;TZID=Europe/Berlin:20250123T223000
SUMMARY:HE 3. Liga Gr. 5 Affoltern A/A III vs Niederhasli II (0)
UID:a43081c1-e6f1-4f42-bc4b-7db69fd1e957
STATUS:CONFIRMED
LAST-MODIFIED:20250128T105522Z
DESCRIPTION:3. Liga Herren Gruppe 5\nBegegnungs-Nr: 0\nHeim: Affoltern A/A III\nGast: Niederhasli II\n\nAdresse: Butzenstrasse 8\, 8910 Affoltern am Albis\n
LOCATION:Butzenstrasse 8\, 8910 Affoltern am Albis
CATEGORIES:Saison 2024/25
END:VEVENT
BEGIN:VEVENT
DTSTAMP:20260425T022335Z
DTSTART;TZID=Europe/Berlin:20250204T193000
DTEND;TZID=Europe/Berlin:20250204T223000
SUMMARY:HE 3. Liga Gr. 5 Affoltern A/A III vs Wädenswil IV (0)
UID:62118e4b-56c4-43a0-a14a-8b3c0b43b8a5
STATUS:CONFIRMED
LAST-MODIFIED:20250206T140645Z
DESCRIPTION:3. Liga Herren Gruppe 5\nBegegnungs-Nr: 0\nHeim: Affoltern A/A III\nGast: Wädenswil IV\n\nAdresse: Butzenstrasse 8\, 8910 Affoltern am Albis\n
LOCATION:Butzenstrasse 8\, 8910 Affoltern am Albis
CATEGORIES:Saison 2024/25
END:VEVENT
BEGIN:VEVENT
DTSTAMP:20260425T022335Z
DTSTART;TZID=Europe/Berlin:20240916T193000
DTEND;TZID=Europe/Berlin:20240916T223000
SUMMARY:HE 3. Liga Gr. 5 Niederhasli II vs Affoltern A/A III (0)
UID:cf8850c3-bbe9-4404-8eb7-c5087231242a
STATUS:CONFIRMED
LAST-MODIFIED:20240917T070900Z
DESCRIPTION:3. Liga Herren Gruppe 5\nBegegnungs-Nr: 0\nHeim: Niederhasli II\nGast: Affoltern A/A III\n\nAdresse: Dorfstrasse 22\, 8155 Niederhasli\n
LOCATION:Dorfstrasse 22\, 8155 Niederhasli
CATEGORIES:Saison 2024/25
END:VEVENT
BEGIN:VEVENT
DTSTAMP:20260425T022335Z
DTSTART;TZID=Europe/Berlin:20241120T201500
DTEND;TZID=Europe/Berlin:20241120T231500
SUMMARY:HE 3. Liga Gr. 5 Thalwil vs Affoltern A/A III (0)
UID:a911893a-9172-490b-91f7-223cbf0ffec3
STATUS:CONFIRMED
LAST-MODIFIED:20241122T150755Z
DESCRIPTION:3. Liga Herren Gruppe 5\nBegegnungs-Nr: 0\nHeim: Thalwil\nGast: Affoltern A/A III\n\nAdresse: Bergstrasse 2\, 8800 Thalwil\n
LOCATION:Bergstrasse 2\, 8800 Thalwil
CATEGORIES:Saison 2024/25
END:VEVENT
BEGIN:VEVENT
DTSTAMP:20260425T022335Z
DTSTART;TZID=Europe/Berlin:20241106T200000
DTEND;TZID=Europe/Berlin:20241106T230000
SUMMARY:HE 3. Liga Gr. 5 Horgen III vs Affoltern A/A III (0)
UID:b086e68f-b0a3-4f0d-9637-cff565b25dfb
STATUS:CONFIRMED
LAST-MODIFIED:20241108T134350Z
DESCRIPTION:3. Liga Herren Gruppe 5\nBegegnungs-Nr: 0\nHeim: Horgen III\nGast: Affoltern A/A III\n\nAdresse: Seestrasse 110\, 8810 Horgen\n
LOCATION:Seestrasse 110\, 8810 Horgen
CATEGORIES:Saison 2024/25
END:VEVENT
BEGIN:VEVENT
DTSTAMP:20260425T022335Z
DTSTART;TZID=Europe/Berlin:20240926T200000
DTEND;TZID=Europe/Berlin:20240926T230000
SUMMARY:HE 3. Liga Gr. 5 Wädenswil IV vs Affoltern A/A III (0)
UID:903a8b0f-8e84-4382-b89c-6d24163664b5
STATUS:CONFIRMED
LAST-MODIFIED:20240930T124447Z
DESCRIPTION:3. Liga Herren Gruppe 5\nBegegnungs-Nr: 0\nHeim: Wädenswil IV\nGast: Affoltern A/A III\n\nAdresse: Speerstrasse 95\, 8820 Wädenswil\n
LOCATION:Speerstrasse 95\, 8820 Wädenswil
CATEGORIES:Saison 2024/25
END:VEVENT
BEGIN:VEVENT
DTSTAMP:20260425T022335Z
DTSTART;TZID=Europe/Berlin:20250131T200000
DTEND;TZID=Europe/Berlin:20250131T230000
SUMMARY:HE 3. Liga Gr. 5 Young Stars ZH V vs Affoltern A/A III (0)
UID:3f580b4b-9a42-426d-be13-087605a870c5
STATUS:CONFIRMED
LAST-MODIFIED:20250203T104540Z
DESCRIPTION:3. Liga Herren Gruppe 5\nBegegnungs-Nr: 0\nHeim: Young Stars ZH V\nGast: Affoltern A/A III\n\nAdresse: Balgriststrasse 55\, 8008 Zürich\n
LOCATION:Balgriststrasse 55\, 8008 Zürich
CATEGORIES:Saison 2024/25
END:VEVENT
BEGIN:VEVENT
DTSTAMP:20260425T022335Z
DTSTART;TZID=Europe/Berlin:20250305T201500
DTEND;TZID=Europe/Berlin:20250305T231500
SUMMARY:HE 3. Liga Gr. 5 Zürich-Affoltern IV vs Affoltern A/A III (0)
UID:e08e548c-243a-4a89-b17a-5407c320561f
STATUS:CONFIRMED
LAST-MODIFIED:20250306T142216Z
DESCRIPTION:3. Liga Herren Gruppe 5\nBegegnungs-Nr: 0\nHeim: Zürich-Affoltern IV\nGast: Affoltern A/A III\n
LOCATION:
CATEGORIES:Saison 2024/25
END:VEVENT
BEGIN:VEVENT
DTSTAMP:20260425T022335Z
DTSTART;TZID=Europe/Berlin:20250106T193000
DTEND;TZID=Europe/Berlin:20250106T223000
SUMMARY:HE 3. Liga Gr. 5 Pinguin Zürich II vs Affoltern A/A III (0)
UID:dad6cec2-e6a7-4698-9e1d-e8289a9380dc
STATUS:CONFIRMED
LAST-MODIFIED:20250110T150804Z
DESCRIPTION:3. Liga Herren Gruppe 5\nBegegnungs-Nr: 0\nHeim: Pinguin Zürich II\nGast: Affoltern A/A III\n\nAdresse: Basteiplatz\, 8001 Zürich\n
LOCATION:Basteiplatz\, 8001 Zürich
CATEGORIES:Saison 2024/25
END:VEVENT
END:VCALENDAR
