BEGIN:VCALENDAR
PRODID:-//nuDatenautomaten//framework iCal4j //DE
VERSION:2.0
CALSCALE:GREGORIAN
BEGIN:VTIMEZONE
TZID:Europe/Berlin
LAST-MODIFIED:20260306T231828Z
TZURL:https://www.tzurl.org/zoneinfo/Europe/Berlin
X-LIC-LOCATION:Europe/Berlin
X-PROLEPTIC-TZNAME:LMT
BEGIN:STANDARD
TZNAME:CET
TZOFFSETFROM:+005328
TZOFFSETTO:+0100
DTSTART:18930401T000000
END:STANDARD
BEGIN:DAYLIGHT
TZNAME:CEST
TZOFFSETFROM:+0100
TZOFFSETTO:+0200
DTSTART:19160430T230000
RDATE:19400401T020000
RDATE:19430329T020000
RDATE:19460414T020000
RDATE:19470406T030000
RDATE:19480418T020000
RDATE:19490410T020000
RDATE:19800406T020000
END:DAYLIGHT
BEGIN:STANDARD
TZNAME:CET
TZOFFSETFROM:+0200
TZOFFSETTO:+0100
DTSTART:19161001T010000
RDATE:19421102T030000
RDATE:19431004T030000
RDATE:19441002T030000
RDATE:19451118T030000
RDATE:19461007T030000
END:STANDARD
BEGIN:DAYLIGHT
TZNAME:CEST
TZOFFSETFROM:+0100
TZOFFSETTO:+0200
DTSTART:19170416T020000
RRULE:FREQ=YEARLY;UNTIL=19180415T010000Z;BYMONTH=4;BYDAY=3MO
END:DAYLIGHT
BEGIN:STANDARD
TZNAME:CET
TZOFFSETFROM:+0200
TZOFFSETTO:+0100
DTSTART:19170917T030000
RRULE:FREQ=YEARLY;UNTIL=19180916T010000Z;BYMONTH=9;BYDAY=3MO
END:STANDARD
BEGIN:DAYLIGHT
TZNAME:CEST
TZOFFSETFROM:+0100
TZOFFSETTO:+0200
DTSTART:19440403T020000
RRULE:FREQ=YEARLY;UNTIL=19450402T010000Z;BYMONTH=4;BYDAY=1MO
END:DAYLIGHT
BEGIN:DAYLIGHT
TZNAME:CEMT
TZOFFSETFROM:+0200
TZOFFSETTO:+0300
DTSTART:19450524T020000
RDATE:19470511T030000
END:DAYLIGHT
BEGIN:DAYLIGHT
TZNAME:CEST
TZOFFSETFROM:+0300
TZOFFSETTO:+0200
DTSTART:19450924T030000
RDATE:19470629T030000
END:DAYLIGHT
BEGIN:STANDARD
TZNAME:CET
TZOFFSETFROM:+0100
TZOFFSETTO:+0100
DTSTART:19460101T000000
RDATE:19800101T000000
END:STANDARD
BEGIN:STANDARD
TZNAME:CET
TZOFFSETFROM:+0200
TZOFFSETTO:+0100
DTSTART:19471005T030000
RRULE:FREQ=YEARLY;UNTIL=19491002T010000Z;BYMONTH=10;BYDAY=1SU
END:STANDARD
BEGIN:STANDARD
TZNAME:CET
TZOFFSETFROM:+0200
TZOFFSETTO:+0100
DTSTART:19800928T030000
RRULE:FREQ=YEARLY;UNTIL=19950924T010000Z;BYMONTH=9;BYDAY=-1SU
END:STANDARD
BEGIN:DAYLIGHT
TZNAME:CEST
TZOFFSETFROM:+0100
TZOFFSETTO:+0200
DTSTART:19810329T020000
RRULE:FREQ=YEARLY;BYMONTH=3;BYDAY=-1SU
END:DAYLIGHT
BEGIN:STANDARD
TZNAME:CET
TZOFFSETFROM:+0200
TZOFFSETTO:+0100
DTSTART:19961027T030000
RRULE:FREQ=YEARLY;BYMONTH=10;BYDAY=-1SU
END:STANDARD
END:VTIMEZONE
BEGIN:VEVENT
DTSTAMP:20260425T005047Z
DTSTART;TZID=Europe/Berlin:20241206T200000
DTEND;TZID=Europe/Berlin:20241206T230000
SUMMARY:HE 3. Liga Gr. 6 Glarus vs Wollerau (0)
UID:ed409668-0ada-441f-90e3-80b04dbe51cc
STATUS:CONFIRMED
LAST-MODIFIED:20241211T090337Z
DESCRIPTION:3. Liga Herren Gruppe 6\nBegegnungs-Nr: 0\nHeim: Glarus\nGast: Wollerau\n\nAdresse: Schwertgasse 23\, 8750 Glarus\n
LOCATION:Schwertgasse 23\, 8750 Glarus
CATEGORIES:Saison 2024/25
END:VEVENT
BEGIN:VEVENT
DTSTAMP:20260425T005047Z
DTSTART;TZID=Europe/Berlin:20241108T200000
DTEND;TZID=Europe/Berlin:20241108T230000
SUMMARY:HE 3. Liga Gr. 6 Glarus vs Rapperswil-Jona VI (0)
UID:e69e8a39-ea4e-44b6-bb7c-2232b8121b4f
STATUS:CONFIRMED
LAST-MODIFIED:20241114T071420Z
DESCRIPTION:3. Liga Herren Gruppe 6\nBegegnungs-Nr: 0\nHeim: Glarus\nGast: Rapperswil-Jona VI\n\nAdresse: Schwertgasse 23\, 8750 Glarus\n
LOCATION:Schwertgasse 23\, 8750 Glarus
CATEGORIES:Saison 2024/25
END:VEVENT
BEGIN:VEVENT
DTSTAMP:20260425T005047Z
DTSTART;TZID=Europe/Berlin:20240927T200000
DTEND;TZID=Europe/Berlin:20240927T230000
SUMMARY:HE 3. Liga Gr. 6 Glarus vs Flums (0)
UID:07804722-6961-4f81-aae5-544897c58810
STATUS:CONFIRMED
LAST-MODIFIED:20240930T124519Z
DESCRIPTION:3. Liga Herren Gruppe 6\nBegegnungs-Nr: 0\nHeim: Glarus\nGast: Flums\n\nAdresse: Schwertgasse 23\, 8750 Glarus\n
LOCATION:Schwertgasse 23\, 8750 Glarus
CATEGORIES:Saison 2024/25
END:VEVENT
BEGIN:VEVENT
DTSTAMP:20260425T005047Z
DTSTART;TZID=Europe/Berlin:20240906T200000
DTEND;TZID=Europe/Berlin:20240906T230000
SUMMARY:HE 3. Liga Gr. 6 Glarus vs Wolfhausen (0)
UID:fad895de-4a80-43e1-88e1-2c2cb7a7204e
STATUS:CONFIRMED
LAST-MODIFIED:20240912T075545Z
DESCRIPTION:3. Liga Herren Gruppe 6\nBegegnungs-Nr: 0\nHeim: Glarus\nGast: Wolfhausen\n\nAdresse: Schwertgasse 23\, 8750 Glarus\n
LOCATION:Schwertgasse 23\, 8750 Glarus
CATEGORIES:Saison 2024/25
END:VEVENT
BEGIN:VEVENT
DTSTAMP:20260425T005047Z
DTSTART;TZID=Europe/Berlin:20250307T200000
DTEND;TZID=Europe/Berlin:20250307T230000
SUMMARY:HE 3. Liga Gr. 6 Glarus vs Wetzikon V (0)
UID:431cfea5-6d59-4f70-8301-43eacf04e369
STATUS:CONFIRMED
LAST-MODIFIED:20250311T150943Z
DESCRIPTION:3. Liga Herren Gruppe 6\nBegegnungs-Nr: 0\nHeim: Glarus\nGast: Wetzikon V\n\nAdresse: Schwertgasse 23\, 8750 Glarus\n
LOCATION:Schwertgasse 23\, 8750 Glarus
CATEGORIES:Saison 2024/25
END:VEVENT
BEGIN:VEVENT
DTSTAMP:20260425T005047Z
DTSTART;TZID=Europe/Berlin:20250207T200000
DTEND;TZID=Europe/Berlin:20250207T230000
SUMMARY:HE 3. Liga Gr. 6 Glarus vs Meilen-Männedorf (0)
UID:3602e2aa-05b3-448d-8c52-e11ef0ff9a4e
STATUS:CONFIRMED
LAST-MODIFIED:20250213T085908Z
DESCRIPTION:3. Liga Herren Gruppe 6\nBegegnungs-Nr: 0\nHeim: Glarus\nGast: Meilen-Männedorf\n\nAdresse: Schwertgasse 23\, 8750 Glarus\n
LOCATION:Schwertgasse 23\, 8750 Glarus
CATEGORIES:Saison 2024/25
END:VEVENT
BEGIN:VEVENT
DTSTAMP:20260425T005047Z
DTSTART;TZID=Europe/Berlin:20250110T200000
DTEND;TZID=Europe/Berlin:20250110T230000
SUMMARY:HE 3. Liga Gr. 6 Glarus vs Wädenswil III (0)
UID:7d096898-b470-4065-88f0-ed6e48884d74
STATUS:CONFIRMED
LAST-MODIFIED:20250113T115632Z
DESCRIPTION:3. Liga Herren Gruppe 6\nBegegnungs-Nr: 0\nHeim: Glarus\nGast: Wädenswil III\n\nAdresse: Schwertgasse 23\, 8750 Glarus\n
LOCATION:Schwertgasse 23\, 8750 Glarus
CATEGORIES:Saison 2024/25
END:VEVENT
BEGIN:VEVENT
DTSTAMP:20260425T005047Z
DTSTART;TZID=Europe/Berlin:20241028T194500
DTEND;TZID=Europe/Berlin:20241028T224500
SUMMARY:HE 3. Liga Gr. 6 Wetzikon V vs Glarus (0)
UID:c542c698-9b81-4ebf-ab11-4da2c9bc6b72
STATUS:CONFIRMED
LAST-MODIFIED:20241030T102617Z
DESCRIPTION:3. Liga Herren Gruppe 6\nBegegnungs-Nr: 0\nHeim: Wetzikon V\nGast: Glarus\n\nAdresse: Usterstrasse 37\, 8620 Wetzikon\n
LOCATION:Usterstrasse 37\, 8620 Wetzikon
CATEGORIES:Saison 2024/25
END:VEVENT
BEGIN:VEVENT
DTSTAMP:20260425T005047Z
DTSTART;TZID=Europe/Berlin:20240916T194500
DTEND;TZID=Europe/Berlin:20240916T224500
SUMMARY:HE 3. Liga Gr. 6 Meilen-Männedorf vs Glarus (0)
UID:b34622b9-3e83-453a-9da1-e60ac2d40cad
STATUS:CONFIRMED
LAST-MODIFIED:20240917T070910Z
DESCRIPTION:3. Liga Herren Gruppe 6\nBegegnungs-Nr: 0\nHeim: Meilen-Männedorf\nGast: Glarus\n\nAdresse: Schulstrasse 10\, 8708 Männedorf\n
LOCATION:Schulstrasse 10\, 8708 Männedorf
CATEGORIES:Saison 2024/25
END:VEVENT
BEGIN:VEVENT
DTSTAMP:20260425T005047Z
DTSTART;TZID=Europe/Berlin:20240912T200000
DTEND;TZID=Europe/Berlin:20240912T230000
SUMMARY:HE 3. Liga Gr. 6 Wädenswil III vs Glarus (0)
UID:00f34a56-ebb9-41d0-855e-9e24c4f1a8c7
STATUS:CONFIRMED
LAST-MODIFIED:20240913T112710Z
DESCRIPTION:3. Liga Herren Gruppe 6\nBegegnungs-Nr: 0\nHeim: Wädenswil III\nGast: Glarus\n\nAdresse: Speerstrasse 95\, 8820 Wädenswil\n
LOCATION:Speerstrasse 95\, 8820 Wädenswil
CATEGORIES:Saison 2024/25
END:VEVENT
BEGIN:VEVENT
DTSTAMP:20260425T005047Z
DTSTART;TZID=Europe/Berlin:20250324T200000
DTEND;TZID=Europe/Berlin:20250324T230000
SUMMARY:HE 3. Liga Gr. 6 Wollerau vs Glarus (0)
UID:ba8c31ba-6623-4b24-9b74-6f1d876d0df3
STATUS:CONFIRMED
LAST-MODIFIED:20250327T133500Z
DESCRIPTION:3. Liga Herren Gruppe 6\nBegegnungs-Nr: 0\nHeim: Wollerau\nGast: Glarus\n\nAdresse: Erlenstrasse 18\, 8832 Wollerau\n
LOCATION:Erlenstrasse 18\, 8832 Wollerau
CATEGORIES:Saison 2024/25
END:VEVENT
BEGIN:VEVENT
DTSTAMP:20260425T005047Z
DTSTART;TZID=Europe/Berlin:20250317T193000
DTEND;TZID=Europe/Berlin:20250317T223000
SUMMARY:HE 3. Liga Gr. 6 Rapperswil-Jona VI vs Glarus (0)
UID:b4bd88a7-8ac5-46f5-86ea-fee30e116920
STATUS:CONFIRMED
LAST-MODIFIED:20250319T094217Z
DESCRIPTION:3. Liga Herren Gruppe 6\nBegegnungs-Nr: 0\nHeim: Rapperswil-Jona VI\nGast: Glarus\n\nAdresse: Kreuzstrasse 43\, 8640 Rapperswil\n
LOCATION:Kreuzstrasse 43\, 8640 Rapperswil
CATEGORIES:Saison 2024/25
END:VEVENT
BEGIN:VEVENT
DTSTAMP:20260425T005047Z
DTSTART;TZID=Europe/Berlin:20250210T201500
DTEND;TZID=Europe/Berlin:20250210T231500
SUMMARY:HE 3. Liga Gr. 6 Flums vs Glarus (0)
UID:04987e8e-ed9e-46d4-900a-9ed2955d2a79
STATUS:CONFIRMED
LAST-MODIFIED:20250213T085923Z
DESCRIPTION:3. Liga Herren Gruppe 6\nBegegnungs-Nr: 0\nHeim: Flums\nGast: Glarus\n\nAdresse: Bergstrasse\, 8890 Flums\n
LOCATION:Bergstrasse\, 8890 Flums
CATEGORIES:Saison 2024/25
END:VEVENT
BEGIN:VEVENT
DTSTAMP:20260425T005047Z
DTSTART;TZID=Europe/Berlin:20250120T200000
DTEND;TZID=Europe/Berlin:20250120T230000
SUMMARY:HE 3. Liga Gr. 6 Wolfhausen vs Glarus (0)
UID:86070244-9104-455c-85e3-f08a65cef5ba
STATUS:CONFIRMED
LAST-MODIFIED:20250123T071411Z
DESCRIPTION:3. Liga Herren Gruppe 6\nBegegnungs-Nr: 0\nHeim: Wolfhausen\nGast: Glarus\n\nAdresse: Schulstrasse 9\, 8633 Wolfhausen\n
LOCATION:Schulstrasse 9\, 8633 Wolfhausen
CATEGORIES:Saison 2024/25
END:VEVENT
END:VCALENDAR
