BEGIN:VCALENDAR
PRODID:-//nuDatenautomaten//framework iCal4j //DE
VERSION:2.0
CALSCALE:GREGORIAN
BEGIN:VTIMEZONE
TZID:Europe/Berlin
LAST-MODIFIED:20260306T231828Z
TZURL:https://www.tzurl.org/zoneinfo/Europe/Berlin
X-LIC-LOCATION:Europe/Berlin
X-PROLEPTIC-TZNAME:LMT
BEGIN:STANDARD
TZNAME:CET
TZOFFSETFROM:+005328
TZOFFSETTO:+0100
DTSTART:18930401T000000
END:STANDARD
BEGIN:DAYLIGHT
TZNAME:CEST
TZOFFSETFROM:+0100
TZOFFSETTO:+0200
DTSTART:19160430T230000
RDATE:19400401T020000
RDATE:19430329T020000
RDATE:19460414T020000
RDATE:19470406T030000
RDATE:19480418T020000
RDATE:19490410T020000
RDATE:19800406T020000
END:DAYLIGHT
BEGIN:STANDARD
TZNAME:CET
TZOFFSETFROM:+0200
TZOFFSETTO:+0100
DTSTART:19161001T010000
RDATE:19421102T030000
RDATE:19431004T030000
RDATE:19441002T030000
RDATE:19451118T030000
RDATE:19461007T030000
END:STANDARD
BEGIN:DAYLIGHT
TZNAME:CEST
TZOFFSETFROM:+0100
TZOFFSETTO:+0200
DTSTART:19170416T020000
RRULE:FREQ=YEARLY;UNTIL=19180415T010000Z;BYMONTH=4;BYDAY=3MO
END:DAYLIGHT
BEGIN:STANDARD
TZNAME:CET
TZOFFSETFROM:+0200
TZOFFSETTO:+0100
DTSTART:19170917T030000
RRULE:FREQ=YEARLY;UNTIL=19180916T010000Z;BYMONTH=9;BYDAY=3MO
END:STANDARD
BEGIN:DAYLIGHT
TZNAME:CEST
TZOFFSETFROM:+0100
TZOFFSETTO:+0200
DTSTART:19440403T020000
RRULE:FREQ=YEARLY;UNTIL=19450402T010000Z;BYMONTH=4;BYDAY=1MO
END:DAYLIGHT
BEGIN:DAYLIGHT
TZNAME:CEMT
TZOFFSETFROM:+0200
TZOFFSETTO:+0300
DTSTART:19450524T020000
RDATE:19470511T030000
END:DAYLIGHT
BEGIN:DAYLIGHT
TZNAME:CEST
TZOFFSETFROM:+0300
TZOFFSETTO:+0200
DTSTART:19450924T030000
RDATE:19470629T030000
END:DAYLIGHT
BEGIN:STANDARD
TZNAME:CET
TZOFFSETFROM:+0100
TZOFFSETTO:+0100
DTSTART:19460101T000000
RDATE:19800101T000000
END:STANDARD
BEGIN:STANDARD
TZNAME:CET
TZOFFSETFROM:+0200
TZOFFSETTO:+0100
DTSTART:19471005T030000
RRULE:FREQ=YEARLY;UNTIL=19491002T010000Z;BYMONTH=10;BYDAY=1SU
END:STANDARD
BEGIN:STANDARD
TZNAME:CET
TZOFFSETFROM:+0200
TZOFFSETTO:+0100
DTSTART:19800928T030000
RRULE:FREQ=YEARLY;UNTIL=19950924T010000Z;BYMONTH=9;BYDAY=-1SU
END:STANDARD
BEGIN:DAYLIGHT
TZNAME:CEST
TZOFFSETFROM:+0100
TZOFFSETTO:+0200
DTSTART:19810329T020000
RRULE:FREQ=YEARLY;BYMONTH=3;BYDAY=-1SU
END:DAYLIGHT
BEGIN:STANDARD
TZNAME:CET
TZOFFSETFROM:+0200
TZOFFSETTO:+0100
DTSTART:19961027T030000
RRULE:FREQ=YEARLY;BYMONTH=10;BYDAY=-1SU
END:STANDARD
END:VTIMEZONE
BEGIN:VEVENT
DTSTAMP:20260424T220530Z
DTSTART;TZID=Europe/Berlin:20241217T200000
DTEND;TZID=Europe/Berlin:20241217T230000
SUMMARY:S L2 Gr 1 Lausanne vs Romanel (0)
UID:d56a8711-9226-40fe-8a50-9b18b29d2f62
STATUS:CONFIRMED
LAST-MODIFIED:20241218T213437Z
DESCRIPTION:2ème ligue Seniors Groupe 1 \nBegegnungs-Nr: 0\nHeim: Lausanne\nGast: Romanel\n\nAdresse: Vaudoise Aréna\, Ch. du Viaduc 14\, 1008 Prilly\n
LOCATION:Vaudoise Aréna\, Ch. du Viaduc 14\, 1008 Prilly
CATEGORIES:Saison 2024/25
END:VEVENT
BEGIN:VEVENT
DTSTAMP:20260424T220530Z
DTSTART;TZID=Europe/Berlin:20241203T200000
DTEND;TZID=Europe/Berlin:20241203T230000
SUMMARY:S L2 Gr 1 Lausanne vs Eysins (0)
UID:7bb9b956-e693-4ff4-b142-442adda512ae
STATUS:CONFIRMED
LAST-MODIFIED:20241204T112104Z
DESCRIPTION:2ème ligue Seniors Groupe 1 \nBegegnungs-Nr: 0\nHeim: Lausanne\nGast: Eysins\n\nAdresse: Vaudoise Aréna\, Ch. du Viaduc 14\, 1008 Prilly\n
LOCATION:Vaudoise Aréna\, Ch. du Viaduc 14\, 1008 Prilly
CATEGORIES:Saison 2024/25
END:VEVENT
BEGIN:VEVENT
DTSTAMP:20260424T220530Z
DTSTART;TZID=Europe/Berlin:20241008T200000
DTEND;TZID=Europe/Berlin:20241008T230000
SUMMARY:S L2 Gr 1 Lausanne vs Forward-Morges (0)
UID:8579c80d-c1e3-4a08-952b-8e2cde29994b
STATUS:CONFIRMED
LAST-MODIFIED:20241009T145453Z
DESCRIPTION:2ème ligue Seniors Groupe 1 \nBegegnungs-Nr: 0\nHeim: Lausanne\nGast: Forward-Morges\n\nAdresse: Vaudoise Aréna\, Ch. du Viaduc 14\, 1008 Prilly\n
LOCATION:Vaudoise Aréna\, Ch. du Viaduc 14\, 1008 Prilly
CATEGORIES:Saison 2024/25
END:VEVENT
BEGIN:VEVENT
DTSTAMP:20260424T220530Z
DTSTART;TZID=Europe/Berlin:20250311T200000
DTEND;TZID=Europe/Berlin:20250311T230000
SUMMARY:S L2 Gr 1 Lausanne vs Trams-Renens (0)
UID:3eabc5f6-7cb2-434c-bbfc-6f50c842ac02
STATUS:CONFIRMED
LAST-MODIFIED:20250312T102956Z
DESCRIPTION:2ème ligue Seniors Groupe 1 \nBegegnungs-Nr: 0\nHeim: Lausanne\nGast: Trams-Renens\n\nAdresse: Vaudoise Aréna\, Ch. du Viaduc 14\, 1008 Prilly\n
LOCATION:Vaudoise Aréna\, Ch. du Viaduc 14\, 1008 Prilly
CATEGORIES:Saison 2024/25
END:VEVENT
BEGIN:VEVENT
DTSTAMP:20260424T220530Z
DTSTART;TZID=Europe/Berlin:20250114T200000
DTEND;TZID=Europe/Berlin:20250114T230000
SUMMARY:S L2 Gr 1 Lausanne vs Yverdon (0)
UID:8bf0fb39-7ac9-41b4-a440-51b7433bc4d9
STATUS:CONFIRMED
LAST-MODIFIED:20250120T123524Z
DESCRIPTION:2ème ligue Seniors Groupe 1 \nBegegnungs-Nr: 0\nHeim: Lausanne\nGast: Yverdon\n\nAdresse: Vaudoise Aréna\, Ch. du Viaduc 14\, 1008 Prilly\n
LOCATION:Vaudoise Aréna\, Ch. du Viaduc 14\, 1008 Prilly
CATEGORIES:Saison 2024/25
END:VEVENT
BEGIN:VEVENT
DTSTAMP:20260424T220530Z
DTSTART;TZID=Europe/Berlin:20241105T193000
DTEND;TZID=Europe/Berlin:20241105T223000
SUMMARY:S L2 Gr 1 Trams-Renens vs Lausanne (0)
UID:902a901a-c0de-451b-b0c6-2201182577b5
STATUS:CONFIRMED
LAST-MODIFIED:20241106T210851Z
DESCRIPTION:2ème ligue Seniors Groupe 1 \nBegegnungs-Nr: 0\nHeim: Trams-Renens\nGast: Lausanne\n\nAdresse: Av Saugiaz\, 1020 Renens\n
LOCATION:Av Saugiaz\, 1020 Renens
CATEGORIES:Saison 2024/25
END:VEVENT
BEGIN:VEVENT
DTSTAMP:20260424T220530Z
DTSTART;TZID=Europe/Berlin:20240927T201500
DTEND;TZID=Europe/Berlin:20240927T231500
SUMMARY:S L2 Gr 1 Yverdon vs Lausanne (0)
UID:923de0b1-e6af-491c-bf2e-61782f53e2ea
STATUS:CONFIRMED
LAST-MODIFIED:20240928T191835Z
DESCRIPTION:2ème ligue Seniors Groupe 1 \nBegegnungs-Nr: 0\nHeim: Yverdon\nGast: Lausanne\n\nAdresse: Avenue des Quatre Marroniers 1\, 1400 Yverdon-les-Bains\n
LOCATION:Avenue des Quatre Marroniers 1\, 1400 Yverdon-les-Bains
CATEGORIES:Saison 2024/25
END:VEVENT
BEGIN:VEVENT
DTSTAMP:20260424T220530Z
DTSTART;TZID=Europe/Berlin:20250402T200000
DTEND;TZID=Europe/Berlin:20250402T230000
SUMMARY:S L2 Gr 1 Romanel vs Lausanne (0)
UID:c7cd89ae-7d7e-4c2a-8a19-ad689ecfe178
STATUS:CONFIRMED
LAST-MODIFIED:20250403T072133Z
DESCRIPTION:2ème ligue Seniors Groupe 1 \nBegegnungs-Nr: 0\nHeim: Romanel\nGast: Lausanne\n\nAdresse: Ch des Epinettes 1\, 1032 Romanel-sur-Lausanne\n
LOCATION:Ch des Epinettes 1\, 1032 Romanel-sur-Lausanne
CATEGORIES:Saison 2024/25
END:VEVENT
BEGIN:VEVENT
DTSTAMP:20260424T220530Z
DTSTART;TZID=Europe/Berlin:20250319T200000
DTEND;TZID=Europe/Berlin:20250319T230000
SUMMARY:S L2 Gr 1 Eysins vs Lausanne (0)
UID:62d0690b-7726-48d9-b067-e51a7745e25c
STATUS:CONFIRMED
LAST-MODIFIED:20250320T012456Z
DESCRIPTION:2ème ligue Seniors Groupe 1 \nBegegnungs-Nr: 0\nHeim: Eysins\nGast: Lausanne\n\nAdresse: En Bellossiez 1\, 1262 Eysins\n
LOCATION:En Bellossiez 1\, 1262 Eysins
CATEGORIES:Saison 2024/25
END:VEVENT
BEGIN:VEVENT
DTSTAMP:20260424T220530Z
DTSTART;TZID=Europe/Berlin:20250206T194500
DTEND;TZID=Europe/Berlin:20250206T224500
SUMMARY:S L2 Gr 1 Forward-Morges vs Lausanne (0)
UID:1e31a4d4-6394-4fdb-b41d-45eae81a9da8
STATUS:CONFIRMED
LAST-MODIFIED:20250207T172101Z
DESCRIPTION:2ème ligue Seniors Groupe 1 \nBegegnungs-Nr: 0\nHeim: Forward-Morges\nGast: Lausanne\n\nAdresse: Chemin de Tolochenaz\, 1110 Morges\n
LOCATION:Chemin de Tolochenaz\, 1110 Morges
CATEGORIES:Saison 2024/25
END:VEVENT
END:VCALENDAR
