BEGIN:VCALENDAR
PRODID:-//nuDatenautomaten//framework iCal4j //DE
VERSION:2.0
CALSCALE:GREGORIAN
BEGIN:VTIMEZONE
TZID:Europe/Berlin
LAST-MODIFIED:20260306T231828Z
TZURL:https://www.tzurl.org/zoneinfo/Europe/Berlin
X-LIC-LOCATION:Europe/Berlin
X-PROLEPTIC-TZNAME:LMT
BEGIN:STANDARD
TZNAME:CET
TZOFFSETFROM:+005328
TZOFFSETTO:+0100
DTSTART:18930401T000000
END:STANDARD
BEGIN:DAYLIGHT
TZNAME:CEST
TZOFFSETFROM:+0100
TZOFFSETTO:+0200
DTSTART:19160430T230000
RDATE:19400401T020000
RDATE:19430329T020000
RDATE:19460414T020000
RDATE:19470406T030000
RDATE:19480418T020000
RDATE:19490410T020000
RDATE:19800406T020000
END:DAYLIGHT
BEGIN:STANDARD
TZNAME:CET
TZOFFSETFROM:+0200
TZOFFSETTO:+0100
DTSTART:19161001T010000
RDATE:19421102T030000
RDATE:19431004T030000
RDATE:19441002T030000
RDATE:19451118T030000
RDATE:19461007T030000
END:STANDARD
BEGIN:DAYLIGHT
TZNAME:CEST
TZOFFSETFROM:+0100
TZOFFSETTO:+0200
DTSTART:19170416T020000
RRULE:FREQ=YEARLY;UNTIL=19180415T010000Z;BYMONTH=4;BYDAY=3MO
END:DAYLIGHT
BEGIN:STANDARD
TZNAME:CET
TZOFFSETFROM:+0200
TZOFFSETTO:+0100
DTSTART:19170917T030000
RRULE:FREQ=YEARLY;UNTIL=19180916T010000Z;BYMONTH=9;BYDAY=3MO
END:STANDARD
BEGIN:DAYLIGHT
TZNAME:CEST
TZOFFSETFROM:+0100
TZOFFSETTO:+0200
DTSTART:19440403T020000
RRULE:FREQ=YEARLY;UNTIL=19450402T010000Z;BYMONTH=4;BYDAY=1MO
END:DAYLIGHT
BEGIN:DAYLIGHT
TZNAME:CEMT
TZOFFSETFROM:+0200
TZOFFSETTO:+0300
DTSTART:19450524T020000
RDATE:19470511T030000
END:DAYLIGHT
BEGIN:DAYLIGHT
TZNAME:CEST
TZOFFSETFROM:+0300
TZOFFSETTO:+0200
DTSTART:19450924T030000
RDATE:19470629T030000
END:DAYLIGHT
BEGIN:STANDARD
TZNAME:CET
TZOFFSETFROM:+0100
TZOFFSETTO:+0100
DTSTART:19460101T000000
RDATE:19800101T000000
END:STANDARD
BEGIN:STANDARD
TZNAME:CET
TZOFFSETFROM:+0200
TZOFFSETTO:+0100
DTSTART:19471005T030000
RRULE:FREQ=YEARLY;UNTIL=19491002T010000Z;BYMONTH=10;BYDAY=1SU
END:STANDARD
BEGIN:STANDARD
TZNAME:CET
TZOFFSETFROM:+0200
TZOFFSETTO:+0100
DTSTART:19800928T030000
RRULE:FREQ=YEARLY;UNTIL=19950924T010000Z;BYMONTH=9;BYDAY=-1SU
END:STANDARD
BEGIN:DAYLIGHT
TZNAME:CEST
TZOFFSETFROM:+0100
TZOFFSETTO:+0200
DTSTART:19810329T020000
RRULE:FREQ=YEARLY;BYMONTH=3;BYDAY=-1SU
END:DAYLIGHT
BEGIN:STANDARD
TZNAME:CET
TZOFFSETFROM:+0200
TZOFFSETTO:+0100
DTSTART:19961027T030000
RRULE:FREQ=YEARLY;BYMONTH=10;BYDAY=-1SU
END:STANDARD
END:VTIMEZONE
BEGIN:VEVENT
DTSTAMP:20260425T005109Z
DTSTART;TZID=Europe/Berlin:20250328T193000
DTEND;TZID=Europe/Berlin:20250328T223000
SUMMARY:HE 4. Liga Gr. 4 Pinguin Zürich IV vs Dietikon-Weiningen II (0)
UID:9dbe42e8-5a4f-4a01-98d6-99238a82dd6e
STATUS:CONFIRMED
LAST-MODIFIED:20250404T082951Z
DESCRIPTION:4. Liga Herren Gruppe 4\nBegegnungs-Nr: 0\nHeim: Pinguin Zürich IV\nGast: Dietikon-Weiningen II\n\nAdresse: Basteiplatz\, 8001 Zürich\n
LOCATION:Basteiplatz\, 8001 Zürich
CATEGORIES:Saison 2024/25
END:VEVENT
BEGIN:VEVENT
DTSTAMP:20260425T005109Z
DTSTART;TZID=Europe/Berlin:20250307T193000
DTEND;TZID=Europe/Berlin:20250307T223000
SUMMARY:HE 4. Liga Gr. 4 Pinguin Zürich IV vs Buchs Zürich II (0)
UID:eddd9ebe-f872-4853-a7e6-a0811e6b53df
STATUS:CONFIRMED
LAST-MODIFIED:20250311T152040Z
DESCRIPTION:4. Liga Herren Gruppe 4\nBegegnungs-Nr: 0\nHeim: Pinguin Zürich IV\nGast: Buchs Zürich II\n\nAdresse: Basteiplatz\, 8001 Zürich\n
LOCATION:Basteiplatz\, 8001 Zürich
CATEGORIES:Saison 2024/25
END:VEVENT
BEGIN:VEVENT
DTSTAMP:20260425T005109Z
DTSTART;TZID=Europe/Berlin:20250207T193000
DTEND;TZID=Europe/Berlin:20250207T223000
SUMMARY:HE 4. Liga Gr. 4 Pinguin Zürich IV vs Thalwil III (0)
UID:046ec4b3-5878-4b16-9f6d-79a6dea3da57
STATUS:CONFIRMED
LAST-MODIFIED:20250213T131807Z
DESCRIPTION:4. Liga Herren Gruppe 4\nBegegnungs-Nr: 0\nHeim: Pinguin Zürich IV\nGast: Thalwil III\n\nAdresse: Basteiplatz\, 8001 Zürich\n
LOCATION:Basteiplatz\, 8001 Zürich
CATEGORIES:Saison 2024/25
END:VEVENT
BEGIN:VEVENT
DTSTAMP:20260425T005109Z
DTSTART;TZID=Europe/Berlin:20250124T193000
DTEND;TZID=Europe/Berlin:20250124T223000
SUMMARY:HE 4. Liga Gr. 4 Pinguin Zürich IV vs Young Stars ZH VIII (0)
UID:aa4b199d-43ac-4ea4-8d69-09bdc9b2b05e
STATUS:CONFIRMED
LAST-MODIFIED:20250129T123503Z
DESCRIPTION:4. Liga Herren Gruppe 4\nBegegnungs-Nr: 0\nHeim: Pinguin Zürich IV\nGast: Young Stars ZH VIII\n\nAdresse: Basteiplatz\, 8001 Zürich\n
LOCATION:Basteiplatz\, 8001 Zürich
CATEGORIES:Saison 2024/25
END:VEVENT
BEGIN:VEVENT
DTSTAMP:20260425T005109Z
DTSTART;TZID=Europe/Berlin:20241108T193000
DTEND;TZID=Europe/Berlin:20241108T223000
SUMMARY:HE 4. Liga Gr. 4 Pinguin Zürich IV vs Niederhasli IV (0)
UID:be788c70-51bd-4680-80a5-20ba3af9ca7b
STATUS:CONFIRMED
LAST-MODIFIED:20241114T072921Z
DESCRIPTION:4. Liga Herren Gruppe 4\nBegegnungs-Nr: 0\nHeim: Pinguin Zürich IV\nGast: Niederhasli IV\n\nAdresse: Basteiplatz\, 8001 Zürich\n
LOCATION:Basteiplatz\, 8001 Zürich
CATEGORIES:Saison 2024/25
END:VEVENT
BEGIN:VEVENT
DTSTAMP:20260425T005109Z
DTSTART;TZID=Europe/Berlin:20240920T193000
DTEND;TZID=Europe/Berlin:20240920T223000
SUMMARY:HE 4. Liga Gr. 4 Pinguin Zürich IV vs Höngg II (0)
UID:660100d0-348c-4823-a386-18fba654210a
STATUS:CONFIRMED
LAST-MODIFIED:20240926T114719Z
DESCRIPTION:4. Liga Herren Gruppe 4\nBegegnungs-Nr: 0\nHeim: Pinguin Zürich IV\nGast: Höngg II\n\nAdresse: Basteiplatz\, 8001 Zürich\n
LOCATION:Basteiplatz\, 8001 Zürich
CATEGORIES:Saison 2024/25
END:VEVENT
BEGIN:VEVENT
DTSTAMP:20260425T005109Z
DTSTART;TZID=Europe/Berlin:20240830T193000
DTEND;TZID=Europe/Berlin:20240830T223000
SUMMARY:HE 4. Liga Gr. 4 Pinguin Zürich IV vs Seebach-Kügeliloo (0)
UID:e419e9b1-7406-432e-80f7-c74797f36330
STATUS:CONFIRMED
LAST-MODIFIED:20240904T102209Z
DESCRIPTION:4. Liga Herren Gruppe 4\nBegegnungs-Nr: 0\nHeim: Pinguin Zürich IV\nGast: Seebach-Kügeliloo\n\nAdresse: Basteiplatz\, 8001 Zürich\n
LOCATION:Basteiplatz\, 8001 Zürich
CATEGORIES:Saison 2024/25
END:VEVENT
BEGIN:VEVENT
DTSTAMP:20260425T005109Z
DTSTART;TZID=Europe/Berlin:20250310T193000
DTEND;TZID=Europe/Berlin:20250310T223000
SUMMARY:HE 4. Liga Gr. 4 Niederhasli IV vs Pinguin Zürich IV (0)
UID:ba9fb62c-66bc-45b1-a404-bb091161e491
STATUS:CONFIRMED
LAST-MODIFIED:20250311T152153Z
DESCRIPTION:4. Liga Herren Gruppe 4\nBegegnungs-Nr: 0\nHeim: Niederhasli IV\nGast: Pinguin Zürich IV\n\nAdresse: Dorfstrasse 22\, 8155 Niederhasli\n
LOCATION:Dorfstrasse 22\, 8155 Niederhasli
CATEGORIES:Saison 2024/25
END:VEVENT
BEGIN:VEVENT
DTSTAMP:20260425T005109Z
DTSTART;TZID=Europe/Berlin:20250131T200000
DTEND;TZID=Europe/Berlin:20250131T230000
SUMMARY:HE 4. Liga Gr. 4 Höngg II vs Pinguin Zürich IV (0)
UID:45dcd603-1172-48dd-b049-5bea491a3a9f
STATUS:CONFIRMED
LAST-MODIFIED:20250203T110149Z
DESCRIPTION:4. Liga Herren Gruppe 4\nBegegnungs-Nr: 0\nHeim: Höngg II\nGast: Pinguin Zürich IV\n\nAdresse: Bläsistrasse 2\, 8049 Zürich\n
LOCATION:Bläsistrasse 2\, 8049 Zürich
CATEGORIES:Saison 2024/25
END:VEVENT
BEGIN:VEVENT
DTSTAMP:20260425T005109Z
DTSTART;TZID=Europe/Berlin:20250108T193000
DTEND;TZID=Europe/Berlin:20250108T223000
SUMMARY:HE 4. Liga Gr. 4 Seebach-Kügeliloo vs Pinguin Zürich IV (0)
UID:495f54bc-b9b9-439e-95ce-7d20602ed271
STATUS:CONFIRMED
LAST-MODIFIED:20250110T151036Z
DESCRIPTION:4. Liga Herren Gruppe 4\nBegegnungs-Nr: 0\nHeim: Seebach-Kügeliloo\nGast: Pinguin Zürich IV\n\nAdresse: Maienstrasse 9\, 8050 Zürich\n
LOCATION:Maienstrasse 9\, 8050 Zürich
CATEGORIES:Saison 2024/25
END:VEVENT
BEGIN:VEVENT
DTSTAMP:20260425T005109Z
DTSTART;TZID=Europe/Berlin:20241206T200000
DTEND;TZID=Europe/Berlin:20241206T230000
SUMMARY:HE 4. Liga Gr. 4 Dietikon-Weiningen II vs Pinguin Zürich IV (0)
UID:00f1a263-148f-45fb-ac3b-152257845743
STATUS:CONFIRMED
LAST-MODIFIED:20241211T090534Z
DESCRIPTION:4. Liga Herren Gruppe 4\nBegegnungs-Nr: 0\nHeim: Dietikon-Weiningen II\nGast: Pinguin Zürich IV\n\nAdresse: Bohnackerstrasse 5\, 8953 Dietikon\n
LOCATION:Bohnackerstrasse 5\, 8953 Dietikon
CATEGORIES:Saison 2024/25
END:VEVENT
BEGIN:VEVENT
DTSTAMP:20260425T005109Z
DTSTART;TZID=Europe/Berlin:20241101T193000
DTEND;TZID=Europe/Berlin:20241101T223000
SUMMARY:HE 4. Liga Gr. 4 Buchs Zürich II vs Pinguin Zürich IV (0)
UID:859bc0ab-ba03-4130-9b8d-cecaac9dee6b
STATUS:CONFIRMED
LAST-MODIFIED:20241108T134649Z
DESCRIPTION:4. Liga Herren Gruppe 4\nBegegnungs-Nr: 0\nHeim: Buchs Zürich II\nGast: Pinguin Zürich IV\n\nAdresse: Drisglerstrasse 3\, 8107 Buchs ZH\n
LOCATION:Drisglerstrasse 3\, 8107 Buchs ZH
CATEGORIES:Saison 2024/25
END:VEVENT
BEGIN:VEVENT
DTSTAMP:20260425T005109Z
DTSTART;TZID=Europe/Berlin:20241004T201500
DTEND;TZID=Europe/Berlin:20241004T231500
SUMMARY:HE 4. Liga Gr. 4 Thalwil III vs Pinguin Zürich IV (0)
UID:1d21420d-38df-4bcb-8110-74b817211ebd
STATUS:CONFIRMED
LAST-MODIFIED:20241010T105353Z
DESCRIPTION:4. Liga Herren Gruppe 4\nBegegnungs-Nr: 0\nHeim: Thalwil III\nGast: Pinguin Zürich IV\n\nAdresse: Bergstrasse 2\, 8800 Thalwil\n
LOCATION:Bergstrasse 2\, 8800 Thalwil
CATEGORIES:Saison 2024/25
END:VEVENT
BEGIN:VEVENT
DTSTAMP:20260425T005109Z
DTSTART;TZID=Europe/Berlin:20241002T201500
DTEND;TZID=Europe/Berlin:20241002T231500
SUMMARY:HE 4. Liga Gr. 4 Young Stars ZH VIII vs Pinguin Zürich IV (0)
UID:36fe2557-596a-44e7-b64d-ddefb579c31b
STATUS:CONFIRMED
LAST-MODIFIED:20241004T080552Z
DESCRIPTION:4. Liga Herren Gruppe 4\nBegegnungs-Nr: 0\nHeim: Young Stars ZH VIII\nGast: Pinguin Zürich IV\n\nAdresse: Seefeldstrasse 93\, 8008 Zürich\n
LOCATION:Seefeldstrasse 93\, 8008 Zürich
CATEGORIES:Saison 2024/25
END:VEVENT
END:VCALENDAR
