BEGIN:VCALENDAR
PRODID:-//nuDatenautomaten//framework iCal4j //DE
VERSION:2.0
CALSCALE:GREGORIAN
BEGIN:VTIMEZONE
TZID:Europe/Berlin
LAST-MODIFIED:20260306T231828Z
TZURL:https://www.tzurl.org/zoneinfo/Europe/Berlin
X-LIC-LOCATION:Europe/Berlin
X-PROLEPTIC-TZNAME:LMT
BEGIN:STANDARD
TZNAME:CET
TZOFFSETFROM:+005328
TZOFFSETTO:+0100
DTSTART:18930401T000000
END:STANDARD
BEGIN:DAYLIGHT
TZNAME:CEST
TZOFFSETFROM:+0100
TZOFFSETTO:+0200
DTSTART:19160430T230000
RDATE:19400401T020000
RDATE:19430329T020000
RDATE:19460414T020000
RDATE:19470406T030000
RDATE:19480418T020000
RDATE:19490410T020000
RDATE:19800406T020000
END:DAYLIGHT
BEGIN:STANDARD
TZNAME:CET
TZOFFSETFROM:+0200
TZOFFSETTO:+0100
DTSTART:19161001T010000
RDATE:19421102T030000
RDATE:19431004T030000
RDATE:19441002T030000
RDATE:19451118T030000
RDATE:19461007T030000
END:STANDARD
BEGIN:DAYLIGHT
TZNAME:CEST
TZOFFSETFROM:+0100
TZOFFSETTO:+0200
DTSTART:19170416T020000
RRULE:FREQ=YEARLY;UNTIL=19180415T010000Z;BYMONTH=4;BYDAY=3MO
END:DAYLIGHT
BEGIN:STANDARD
TZNAME:CET
TZOFFSETFROM:+0200
TZOFFSETTO:+0100
DTSTART:19170917T030000
RRULE:FREQ=YEARLY;UNTIL=19180916T010000Z;BYMONTH=9;BYDAY=3MO
END:STANDARD
BEGIN:DAYLIGHT
TZNAME:CEST
TZOFFSETFROM:+0100
TZOFFSETTO:+0200
DTSTART:19440403T020000
RRULE:FREQ=YEARLY;UNTIL=19450402T010000Z;BYMONTH=4;BYDAY=1MO
END:DAYLIGHT
BEGIN:DAYLIGHT
TZNAME:CEMT
TZOFFSETFROM:+0200
TZOFFSETTO:+0300
DTSTART:19450524T020000
RDATE:19470511T030000
END:DAYLIGHT
BEGIN:DAYLIGHT
TZNAME:CEST
TZOFFSETFROM:+0300
TZOFFSETTO:+0200
DTSTART:19450924T030000
RDATE:19470629T030000
END:DAYLIGHT
BEGIN:STANDARD
TZNAME:CET
TZOFFSETFROM:+0100
TZOFFSETTO:+0100
DTSTART:19460101T000000
RDATE:19800101T000000
END:STANDARD
BEGIN:STANDARD
TZNAME:CET
TZOFFSETFROM:+0200
TZOFFSETTO:+0100
DTSTART:19471005T030000
RRULE:FREQ=YEARLY;UNTIL=19491002T010000Z;BYMONTH=10;BYDAY=1SU
END:STANDARD
BEGIN:STANDARD
TZNAME:CET
TZOFFSETFROM:+0200
TZOFFSETTO:+0100
DTSTART:19800928T030000
RRULE:FREQ=YEARLY;UNTIL=19950924T010000Z;BYMONTH=9;BYDAY=-1SU
END:STANDARD
BEGIN:DAYLIGHT
TZNAME:CEST
TZOFFSETFROM:+0100
TZOFFSETTO:+0200
DTSTART:19810329T020000
RRULE:FREQ=YEARLY;BYMONTH=3;BYDAY=-1SU
END:DAYLIGHT
BEGIN:STANDARD
TZNAME:CET
TZOFFSETFROM:+0200
TZOFFSETTO:+0100
DTSTART:19961027T030000
RRULE:FREQ=YEARLY;BYMONTH=10;BYDAY=-1SU
END:STANDARD
END:VTIMEZONE
BEGIN:VEVENT
DTSTAMP:20260425T005104Z
DTSTART;TZID=Europe/Berlin:20240831T160000
DTEND;TZID=Europe/Berlin:20240831T190000
SUMMARY:JUG\, 2.Liga\, Gr.3\, Vorrunde Neuhausen II vs Kloten (5)
UID:068d5b62-c6fb-4b11-8d11-4ce570364b5d
STATUS:CONFIRMED
LAST-MODIFIED:20240831T082520Z
DESCRIPTION:Jugend\, 2. Liga\, Gruppe 3\, Vorrunde\nBegegnungs-Nr: 5\nHeim: Neuhausen II\nGast: Kloten\n\nAdresse: Ebnatstrasse 35\, 8200 Schaffhausen\n
LOCATION:Ebnatstrasse 35\, 8200 Schaffhausen
CATEGORIES:Saison 2024/25
END:VEVENT
BEGIN:VEVENT
DTSTAMP:20260425T005104Z
DTSTART;TZID=Europe/Berlin:20240831T130000
DTEND;TZID=Europe/Berlin:20240831T160000
SUMMARY:JUG\, 2.Liga\, Gr.3\, Vorrunde Neuhausen II vs Uster II (2)
UID:21e0862a-5171-4502-b236-5ea3fe17ddc4
STATUS:CONFIRMED
LAST-MODIFIED:20240831T082408Z
DESCRIPTION:Jugend\, 2. Liga\, Gruppe 3\, Vorrunde\nBegegnungs-Nr: 2\nHeim: Neuhausen II\nGast: Uster II\n\nAdresse: Ebnatstrasse 35\, 8200 Schaffhausen\n
LOCATION:Ebnatstrasse 35\, 8200 Schaffhausen
CATEGORIES:Saison 2024/25
END:VEVENT
BEGIN:VEVENT
DTSTAMP:20260425T005104Z
DTSTART;TZID=Europe/Berlin:20241116T143000
DTEND;TZID=Europe/Berlin:20241116T173000
SUMMARY:JUG. 2.Liga\, Gr.5\, Zw-Runde Neuhausen II vs Libera Zürich (3)
UID:3a4ce362-ba4c-4761-baf0-f6e548407d30
STATUS:CONFIRMED
LAST-MODIFIED:20241122T152718Z
DESCRIPTION:Jugend\, 2. Liga\, Gruppe 5\, Zw-Runde\nBegegnungs-Nr: 3\nHeim: Neuhausen II\nGast: Libera Zürich\n
LOCATION:
CATEGORIES:Saison 2024/25
END:VEVENT
BEGIN:VEVENT
DTSTAMP:20260425T005104Z
DTSTART;TZID=Europe/Berlin:20250329T160000
DTEND;TZID=Europe/Berlin:20250329T190000
SUMMARY:JUG\, 2.Liga\, Gr.4\, Final Neuhausen II vs Uster II (6)
UID:c4c41d7e-c43d-4d1b-95f8-e560a405cba4
STATUS:CONFIRMED
LAST-MODIFIED:20250407T131935Z
DESCRIPTION:Jugend\, 2. Liga\, Gruppe 4\, Final\nBegegnungs-Nr: 6\nHeim: Neuhausen II\nGast: Uster II\n\nAdresse: Ebnatstrasse 35\, 8200 Schaffhausen\n
LOCATION:Ebnatstrasse 35\, 8200 Schaffhausen
CATEGORIES:Saison 2024/25
END:VEVENT
BEGIN:VEVENT
DTSTAMP:20260425T005104Z
DTSTART;TZID=Europe/Berlin:20240831T143000
DTEND;TZID=Europe/Berlin:20240831T173000
SUMMARY:JUG\, 2.Liga\, Gr.3\, Vorrunde Niederhasli vs Neuhausen II (4)
UID:c2118058-bb28-4b16-a0a2-6f19d9d71fc2
STATUS:CONFIRMED
LAST-MODIFIED:20240831T082441Z
DESCRIPTION:Jugend\, 2. Liga\, Gruppe 3\, Vorrunde\nBegegnungs-Nr: 4\nHeim: Niederhasli\nGast: Neuhausen II\n\nAdresse: Dorfstrasse 22\, 8155 Niederhasli\n
LOCATION:Dorfstrasse 22\, 8155 Niederhasli
CATEGORIES:Saison 2024/25
END:VEVENT
BEGIN:VEVENT
DTSTAMP:20260425T005104Z
DTSTART;TZID=Europe/Berlin:20241116T130000
DTEND;TZID=Europe/Berlin:20241116T160000
SUMMARY:JUG. 2.Liga\, Gr.5\, Zw-Runde Winterthur II vs Neuhausen II (1)
UID:a8cafea4-5efe-4eb7-898a-05d990c80cfd
STATUS:CONFIRMED
LAST-MODIFIED:20241122T152706Z
DESCRIPTION:Jugend\, 2. Liga\, Gruppe 5\, Zw-Runde\nBegegnungs-Nr: 1\nHeim: Winterthur II\nGast: Neuhausen II\n
LOCATION:
CATEGORIES:Saison 2024/25
END:VEVENT
BEGIN:VEVENT
DTSTAMP:20260425T005104Z
DTSTART;TZID=Europe/Berlin:20241116T160000
DTEND;TZID=Europe/Berlin:20241116T190000
SUMMARY:JUG. 2.Liga\, Gr.5\, Zw-Runde Young Stars ZH V vs Neuhausen II (5)
UID:708fc239-13ef-438d-9400-ba78f4d34517
STATUS:CONFIRMED
LAST-MODIFIED:20241126T094541Z
DESCRIPTION:Jugend\, 2. Liga\, Gruppe 5\, Zw-Runde\nBegegnungs-Nr: 5\nHeim: Young Stars ZH V\nGast: Neuhausen II\n
LOCATION:
CATEGORIES:Saison 2024/25
END:VEVENT
BEGIN:VEVENT
DTSTAMP:20260425T005104Z
DTSTART;TZID=Europe/Berlin:20250329T143000
DTEND;TZID=Europe/Berlin:20250329T173000
SUMMARY:JUG\, 2.Liga\, Gr.4\, Final Höngg vs Neuhausen II (3)
UID:5ba668f0-f7b7-416d-a683-54cfb4cfe0e2
STATUS:CONFIRMED
LAST-MODIFIED:20250404T084802Z
DESCRIPTION:Jugend\, 2. Liga\, Gruppe 4\, Final\nBegegnungs-Nr: 3\nHeim: Höngg\nGast: Neuhausen II\n\nAdresse: Bläsistrasse 2\, 8049 Zürich\n
LOCATION:Bläsistrasse 2\, 8049 Zürich
CATEGORIES:Saison 2024/25
END:VEVENT
BEGIN:VEVENT
DTSTAMP:20260425T005104Z
DTSTART;TZID=Europe/Berlin:20250329T130000
DTEND;TZID=Europe/Berlin:20250329T160000
SUMMARY:JUG\, 2.Liga\, Gr.4\, Final Steckborn-Homburg vs Neuhausen II (2)
UID:9407df6f-6fb2-402f-b426-ad620e9041e9
STATUS:CONFIRMED
LAST-MODIFIED:20250407T123416Z
DESCRIPTION:Jugend\, 2. Liga\, Gruppe 4\, Final\nBegegnungs-Nr: 2\nHeim: Steckborn-Homburg\nGast: Neuhausen II\n\nAdresse: Feldbach\, 8266 Steckborn\n
LOCATION:Feldbach\, 8266 Steckborn
CATEGORIES:Saison 2024/25
END:VEVENT
END:VCALENDAR
