BEGIN:VCALENDAR
PRODID:-//nuDatenautomaten//framework iCal4j //DE
VERSION:2.0
CALSCALE:GREGORIAN
BEGIN:VTIMEZONE
TZID:Europe/Berlin
LAST-MODIFIED:20260306T231828Z
TZURL:https://www.tzurl.org/zoneinfo/Europe/Berlin
X-LIC-LOCATION:Europe/Berlin
X-PROLEPTIC-TZNAME:LMT
BEGIN:STANDARD
TZNAME:CET
TZOFFSETFROM:+005328
TZOFFSETTO:+0100
DTSTART:18930401T000000
END:STANDARD
BEGIN:DAYLIGHT
TZNAME:CEST
TZOFFSETFROM:+0100
TZOFFSETTO:+0200
DTSTART:19160430T230000
RDATE:19400401T020000
RDATE:19430329T020000
RDATE:19460414T020000
RDATE:19470406T030000
RDATE:19480418T020000
RDATE:19490410T020000
RDATE:19800406T020000
END:DAYLIGHT
BEGIN:STANDARD
TZNAME:CET
TZOFFSETFROM:+0200
TZOFFSETTO:+0100
DTSTART:19161001T010000
RDATE:19421102T030000
RDATE:19431004T030000
RDATE:19441002T030000
RDATE:19451118T030000
RDATE:19461007T030000
END:STANDARD
BEGIN:DAYLIGHT
TZNAME:CEST
TZOFFSETFROM:+0100
TZOFFSETTO:+0200
DTSTART:19170416T020000
RRULE:FREQ=YEARLY;UNTIL=19180415T010000Z;BYMONTH=4;BYDAY=3MO
END:DAYLIGHT
BEGIN:STANDARD
TZNAME:CET
TZOFFSETFROM:+0200
TZOFFSETTO:+0100
DTSTART:19170917T030000
RRULE:FREQ=YEARLY;UNTIL=19180916T010000Z;BYMONTH=9;BYDAY=3MO
END:STANDARD
BEGIN:DAYLIGHT
TZNAME:CEST
TZOFFSETFROM:+0100
TZOFFSETTO:+0200
DTSTART:19440403T020000
RRULE:FREQ=YEARLY;UNTIL=19450402T010000Z;BYMONTH=4;BYDAY=1MO
END:DAYLIGHT
BEGIN:DAYLIGHT
TZNAME:CEMT
TZOFFSETFROM:+0200
TZOFFSETTO:+0300
DTSTART:19450524T020000
RDATE:19470511T030000
END:DAYLIGHT
BEGIN:DAYLIGHT
TZNAME:CEST
TZOFFSETFROM:+0300
TZOFFSETTO:+0200
DTSTART:19450924T030000
RDATE:19470629T030000
END:DAYLIGHT
BEGIN:STANDARD
TZNAME:CET
TZOFFSETFROM:+0100
TZOFFSETTO:+0100
DTSTART:19460101T000000
RDATE:19800101T000000
END:STANDARD
BEGIN:STANDARD
TZNAME:CET
TZOFFSETFROM:+0200
TZOFFSETTO:+0100
DTSTART:19471005T030000
RRULE:FREQ=YEARLY;UNTIL=19491002T010000Z;BYMONTH=10;BYDAY=1SU
END:STANDARD
BEGIN:STANDARD
TZNAME:CET
TZOFFSETFROM:+0200
TZOFFSETTO:+0100
DTSTART:19800928T030000
RRULE:FREQ=YEARLY;UNTIL=19950924T010000Z;BYMONTH=9;BYDAY=-1SU
END:STANDARD
BEGIN:DAYLIGHT
TZNAME:CEST
TZOFFSETFROM:+0100
TZOFFSETTO:+0200
DTSTART:19810329T020000
RRULE:FREQ=YEARLY;BYMONTH=3;BYDAY=-1SU
END:DAYLIGHT
BEGIN:STANDARD
TZNAME:CET
TZOFFSETFROM:+0200
TZOFFSETTO:+0100
DTSTART:19961027T030000
RRULE:FREQ=YEARLY;BYMONTH=10;BYDAY=-1SU
END:STANDARD
END:VTIMEZONE
BEGIN:VEVENT
DTSTAMP:20260425T004243Z
DTSTART;TZID=Europe/Berlin:20250124T200000
DTEND;TZID=Europe/Berlin:20250124T230000
SUMMARY:HE 3. Liga Gr. 2 Herisau vs St. Gallen IV (0)
UID:1714a93a-2619-4c4b-b604-78183b7826c6
STATUS:CONFIRMED
LAST-MODIFIED:20250128T105347Z
DESCRIPTION:3. Liga Herren Gruppe 2\nBegegnungs-Nr: 0\nHeim: Herisau\nGast: St. Gallen IV\n\nAdresse: Schwellbrunnerstrasse 29\, 9100 Herisau\n
LOCATION:Schwellbrunnerstrasse 29\, 9100 Herisau
CATEGORIES:Saison 2024/25
END:VEVENT
BEGIN:VEVENT
DTSTAMP:20260425T004243Z
DTSTART;TZID=Europe/Berlin:20241108T200000
DTEND;TZID=Europe/Berlin:20241108T230000
SUMMARY:HE 3. Liga Gr. 2 Herisau vs Toggenburg (0)
UID:2e65049e-2ea5-4fae-89fc-c4ad7942ce20
STATUS:CONFIRMED
LAST-MODIFIED:20241114T070729Z
DESCRIPTION:3. Liga Herren Gruppe 2\nBegegnungs-Nr: 0\nHeim: Herisau\nGast: Toggenburg\n\nAdresse: Schwellbrunnerstrasse 29\, 9100 Herisau\n
LOCATION:Schwellbrunnerstrasse 29\, 9100 Herisau
CATEGORIES:Saison 2024/25
END:VEVENT
BEGIN:VEVENT
DTSTAMP:20260425T004243Z
DTSTART;TZID=Europe/Berlin:20241001T201500
DTEND;TZID=Europe/Berlin:20241001T231500
SUMMARY:HE 3. Liga Gr. 2 Herisau vs Gaiserwald II (0)
UID:56c2f54a-4bed-41c5-822b-a1e2d78854e8
STATUS:CONFIRMED
LAST-MODIFIED:20241003T102422Z
DESCRIPTION:3. Liga Herren Gruppe 2\nBegegnungs-Nr: 0\nHeim: Herisau\nGast: Gaiserwald II\n\nAdresse: Schwellbrunnerstrasse 29\, 9100 Herisau\n
LOCATION:Schwellbrunnerstrasse 29\, 9100 Herisau
CATEGORIES:Saison 2024/25
END:VEVENT
BEGIN:VEVENT
DTSTAMP:20260425T004243Z
DTSTART;TZID=Europe/Berlin:20240906T200000
DTEND;TZID=Europe/Berlin:20240906T230000
SUMMARY:HE 3. Liga Gr. 2 Herisau vs Romanshorn II (0)
UID:2644948c-9956-473d-9f33-e3ac53b4ff9f
STATUS:CONFIRMED
LAST-MODIFIED:20240912T074406Z
DESCRIPTION:3. Liga Herren Gruppe 2\nBegegnungs-Nr: 0\nHeim: Herisau\nGast: Romanshorn II\n\nAdresse: Schwellbrunnerstrasse 29\, 9100 Herisau\n
LOCATION:Schwellbrunnerstrasse 29\, 9100 Herisau
CATEGORIES:Saison 2024/25
END:VEVENT
BEGIN:VEVENT
DTSTAMP:20260425T004243Z
DTSTART;TZID=Europe/Berlin:20250328T200000
DTEND;TZID=Europe/Berlin:20250328T230000
SUMMARY:HE 3. Liga Gr. 2 Herisau vs Steckborn-Homburg II (0)
UID:65ec4eef-0386-432f-870e-6c185dc3f435
STATUS:CONFIRMED
LAST-MODIFIED:20250402T101840Z
DESCRIPTION:3. Liga Herren Gruppe 2\nBegegnungs-Nr: 0\nHeim: Herisau\nGast: Steckborn-Homburg II\n\nAdresse: Schwellbrunnerstrasse 29\, 9100 Herisau\n
LOCATION:Schwellbrunnerstrasse 29\, 9100 Herisau
CATEGORIES:Saison 2024/25
END:VEVENT
BEGIN:VEVENT
DTSTAMP:20260425T004243Z
DTSTART;TZID=Europe/Berlin:20250307T200000
DTEND;TZID=Europe/Berlin:20250307T230000
SUMMARY:HE 3. Liga Gr. 2 Herisau vs Wallenwil II (0)
UID:b58d6d2c-7205-47dd-83a1-13347da5823f
STATUS:CONFIRMED
LAST-MODIFIED:20250311T145006Z
DESCRIPTION:3. Liga Herren Gruppe 2\nBegegnungs-Nr: 0\nHeim: Herisau\nGast: Wallenwil II\n\nAdresse: Schwellbrunnerstrasse 29\, 9100 Herisau\n
LOCATION:Schwellbrunnerstrasse 29\, 9100 Herisau
CATEGORIES:Saison 2024/25
END:VEVENT
BEGIN:VEVENT
DTSTAMP:20260425T004243Z
DTSTART;TZID=Europe/Berlin:20250218T201500
DTEND;TZID=Europe/Berlin:20250218T231500
SUMMARY:HE 3. Liga Gr. 2 Herisau vs Wil SG III (0)
UID:572b0c26-fbe5-43f3-a367-4d66ae09ab23
STATUS:CONFIRMED
LAST-MODIFIED:20250227T112350Z
DESCRIPTION:3. Liga Herren Gruppe 2\nBegegnungs-Nr: 0\nHeim: Herisau\nGast: Wil SG III\n\nAdresse: Schwellbrunnerstrasse 29\, 9100 Herisau\n
LOCATION:Schwellbrunnerstrasse 29\, 9100 Herisau
CATEGORIES:Saison 2024/25
END:VEVENT
BEGIN:VEVENT
DTSTAMP:20260425T004243Z
DTSTART;TZID=Europe/Berlin:20250220T200000
DTEND;TZID=Europe/Berlin:20250220T230000
SUMMARY:HE 3. Liga Gr. 2 Gaiserwald II vs Herisau (0)
UID:b8548034-6cda-449e-9be8-5b848a2f5fa5
STATUS:CONFIRMED
LAST-MODIFIED:20250227T112421Z
DESCRIPTION:3. Liga Herren Gruppe 2\nBegegnungs-Nr: 0\nHeim: Gaiserwald II\nGast: Herisau\n\nAdresse: Sonnenbergstrasse 15\, 9030 Abtwil\n
LOCATION:Sonnenbergstrasse 15\, 9030 Abtwil
CATEGORIES:Saison 2024/25
END:VEVENT
BEGIN:VEVENT
DTSTAMP:20260425T004243Z
DTSTART;TZID=Europe/Berlin:20250120T201500
DTEND;TZID=Europe/Berlin:20250120T231500
SUMMARY:HE 3. Liga Gr. 2 Romanshorn II vs Herisau (0)
UID:d4f06c74-6e90-4b18-aee0-4689fc8dd98c
STATUS:CONFIRMED
LAST-MODIFIED:20250123T071233Z
DESCRIPTION:3. Liga Herren Gruppe 2\nBegegnungs-Nr: 0\nHeim: Romanshorn II\nGast: Herisau\n\nAdresse: Florastrasse\, 8590 Romanshorn\n
LOCATION:Florastrasse\, 8590 Romanshorn
CATEGORIES:Saison 2024/25
END:VEVENT
BEGIN:VEVENT
DTSTAMP:20260425T004243Z
DTSTART;TZID=Europe/Berlin:20241213T194500
DTEND;TZID=Europe/Berlin:20241213T224500
SUMMARY:HE 3. Liga Gr. 2 Steckborn-Homburg II vs Herisau (0)
UID:d6a96763-fdf7-4128-aafb-019763705b96
STATUS:CONFIRMED
LAST-MODIFIED:20241217T104148Z
DESCRIPTION:3. Liga Herren Gruppe 2\nBegegnungs-Nr: 0\nHeim: Steckborn-Homburg II\nGast: Herisau\n\nAdresse: Schulstrasse 4\, 8508 Unterhörstetten\n
LOCATION:Schulstrasse 4\, 8508 Unterhörstetten
CATEGORIES:Saison 2024/25
END:VEVENT
BEGIN:VEVENT
DTSTAMP:20260425T004243Z
DTSTART;TZID=Europe/Berlin:20241031T201500
DTEND;TZID=Europe/Berlin:20241031T231500
SUMMARY:HE 3. Liga Gr. 2 Wallenwil II vs Herisau (0)
UID:76dbdc8d-9235-4a01-a25c-322e9a7f723c
STATUS:CONFIRMED
LAST-MODIFIED:20241107T153831Z
DESCRIPTION:3. Liga Herren Gruppe 2\nBegegnungs-Nr: 0\nHeim: Wallenwil II\nGast: Herisau\n\nAdresse: Stationsstrasse 29\, 8360 Wallenwil\n
LOCATION:Stationsstrasse 29\, 8360 Wallenwil
CATEGORIES:Saison 2024/25
END:VEVENT
BEGIN:VEVENT
DTSTAMP:20260425T004243Z
DTSTART;TZID=Europe/Berlin:20240924T201500
DTEND;TZID=Europe/Berlin:20240924T231500
SUMMARY:HE 3. Liga Gr. 2 Wil SG III vs Herisau (0)
UID:1a044e51-12f8-45db-afee-d382227670ef
STATUS:CONFIRMED
LAST-MODIFIED:20240926T113535Z
DESCRIPTION:3. Liga Herren Gruppe 2\nBegegnungs-Nr: 0\nHeim: Wil SG III\nGast: Herisau\n\nAdresse: Lindenhofstr. 23\, 9500 Wil\n
LOCATION:Lindenhofstr. 23\, 9500 Wil
CATEGORIES:Saison 2024/25
END:VEVENT
BEGIN:VEVENT
DTSTAMP:20260425T004243Z
DTSTART;TZID=Europe/Berlin:20241005T150000
DTEND;TZID=Europe/Berlin:20241005T180000
SUMMARY:HE 3. Liga Gr. 2 St. Gallen IV vs Herisau (0)
UID:e4717162-1c98-48b6-98c8-3bae6e7a9a3d
STATUS:CONFIRMED
LAST-MODIFIED:20241010T101442Z
DESCRIPTION:3. Liga Herren Gruppe 2\nBegegnungs-Nr: 0\nHeim: St. Gallen IV\nGast: Herisau\n\nAdresse: Zilstrasse 61\, 9016 St.Gallen\n
LOCATION:Zilstrasse 61\, 9016 St.Gallen
CATEGORIES:Saison 2024/25
END:VEVENT
BEGIN:VEVENT
DTSTAMP:20260425T004243Z
DTSTART;TZID=Europe/Berlin:20250314T200000
DTEND;TZID=Europe/Berlin:20250314T230000
SUMMARY:HE 3. Liga Gr. 2 Toggenburg vs Herisau (0)
UID:8dec5c1d-779a-47a5-8d38-8d2819993cfb
STATUS:CONFIRMED
LAST-MODIFIED:20250319T094120Z
DESCRIPTION:3. Liga Herren Gruppe 2\nBegegnungs-Nr: 0\nHeim: Toggenburg\nGast: Herisau\n\nAdresse: Frohmaderweg\, 9630 Wattwil\n
LOCATION:Frohmaderweg\, 9630 Wattwil
CATEGORIES:Saison 2024/25
END:VEVENT
END:VCALENDAR
