BEGIN:VCALENDAR
PRODID:-//nuDatenautomaten//framework iCal4j //DE
VERSION:2.0
CALSCALE:GREGORIAN
BEGIN:VTIMEZONE
TZID:Europe/Berlin
LAST-MODIFIED:20260306T231828Z
TZURL:https://www.tzurl.org/zoneinfo/Europe/Berlin
X-LIC-LOCATION:Europe/Berlin
X-PROLEPTIC-TZNAME:LMT
BEGIN:STANDARD
TZNAME:CET
TZOFFSETFROM:+005328
TZOFFSETTO:+0100
DTSTART:18930401T000000
END:STANDARD
BEGIN:DAYLIGHT
TZNAME:CEST
TZOFFSETFROM:+0100
TZOFFSETTO:+0200
DTSTART:19160430T230000
RDATE:19400401T020000
RDATE:19430329T020000
RDATE:19460414T020000
RDATE:19470406T030000
RDATE:19480418T020000
RDATE:19490410T020000
RDATE:19800406T020000
END:DAYLIGHT
BEGIN:STANDARD
TZNAME:CET
TZOFFSETFROM:+0200
TZOFFSETTO:+0100
DTSTART:19161001T010000
RDATE:19421102T030000
RDATE:19431004T030000
RDATE:19441002T030000
RDATE:19451118T030000
RDATE:19461007T030000
END:STANDARD
BEGIN:DAYLIGHT
TZNAME:CEST
TZOFFSETFROM:+0100
TZOFFSETTO:+0200
DTSTART:19170416T020000
RRULE:FREQ=YEARLY;UNTIL=19180415T010000Z;BYMONTH=4;BYDAY=3MO
END:DAYLIGHT
BEGIN:STANDARD
TZNAME:CET
TZOFFSETFROM:+0200
TZOFFSETTO:+0100
DTSTART:19170917T030000
RRULE:FREQ=YEARLY;UNTIL=19180916T010000Z;BYMONTH=9;BYDAY=3MO
END:STANDARD
BEGIN:DAYLIGHT
TZNAME:CEST
TZOFFSETFROM:+0100
TZOFFSETTO:+0200
DTSTART:19440403T020000
RRULE:FREQ=YEARLY;UNTIL=19450402T010000Z;BYMONTH=4;BYDAY=1MO
END:DAYLIGHT
BEGIN:DAYLIGHT
TZNAME:CEMT
TZOFFSETFROM:+0200
TZOFFSETTO:+0300
DTSTART:19450524T020000
RDATE:19470511T030000
END:DAYLIGHT
BEGIN:DAYLIGHT
TZNAME:CEST
TZOFFSETFROM:+0300
TZOFFSETTO:+0200
DTSTART:19450924T030000
RDATE:19470629T030000
END:DAYLIGHT
BEGIN:STANDARD
TZNAME:CET
TZOFFSETFROM:+0100
TZOFFSETTO:+0100
DTSTART:19460101T000000
RDATE:19800101T000000
END:STANDARD
BEGIN:STANDARD
TZNAME:CET
TZOFFSETFROM:+0200
TZOFFSETTO:+0100
DTSTART:19471005T030000
RRULE:FREQ=YEARLY;UNTIL=19491002T010000Z;BYMONTH=10;BYDAY=1SU
END:STANDARD
BEGIN:STANDARD
TZNAME:CET
TZOFFSETFROM:+0200
TZOFFSETTO:+0100
DTSTART:19800928T030000
RRULE:FREQ=YEARLY;UNTIL=19950924T010000Z;BYMONTH=9;BYDAY=-1SU
END:STANDARD
BEGIN:DAYLIGHT
TZNAME:CEST
TZOFFSETFROM:+0100
TZOFFSETTO:+0200
DTSTART:19810329T020000
RRULE:FREQ=YEARLY;BYMONTH=3;BYDAY=-1SU
END:DAYLIGHT
BEGIN:STANDARD
TZNAME:CET
TZOFFSETFROM:+0200
TZOFFSETTO:+0100
DTSTART:19961027T030000
RRULE:FREQ=YEARLY;BYMONTH=10;BYDAY=-1SU
END:STANDARD
END:VTIMEZONE
BEGIN:VEVENT
DTSTAMP:20260425T004938Z
DTSTART;TZID=Europe/Berlin:20250325T200000
DTEND;TZID=Europe/Berlin:20250325T230000
SUMMARY:HE 6. Liga Gr. 7 Rüti vs Gossau Zuerich III (0)
UID:c4b13f07-76c1-4d77-bf92-bfe3cfe18852
STATUS:CONFIRMED
LAST-MODIFIED:20250327T134521Z
DESCRIPTION:6. Liga Herren Gruppe 7\nBegegnungs-Nr: 0\nHeim: Rüti\nGast: Gossau Zuerich III\n\nAdresse: Spitalstrasse 20\, 8630 Rüti\n
LOCATION:Spitalstrasse 20\, 8630 Rüti
CATEGORIES:Saison 2024/25
END:VEVENT
BEGIN:VEVENT
DTSTAMP:20260425T004938Z
DTSTART;TZID=Europe/Berlin:20250311T200000
DTEND;TZID=Europe/Berlin:20250311T230000
SUMMARY:HE 6. Liga Gr. 7 Rüti vs Wolfhausen IV (0)
UID:736eafcc-e4c8-4efa-a783-efb6957f3042
STATUS:CONFIRMED
LAST-MODIFIED:20250312T150136Z
DESCRIPTION:6. Liga Herren Gruppe 7\nBegegnungs-Nr: 0\nHeim: Rüti\nGast: Wolfhausen IV\n\nAdresse: Spitalstrasse 20\, 8630 Rüti\n
LOCATION:Spitalstrasse 20\, 8630 Rüti
CATEGORIES:Saison 2024/25
END:VEVENT
BEGIN:VEVENT
DTSTAMP:20260425T004938Z
DTSTART;TZID=Europe/Berlin:20250114T200000
DTEND;TZID=Europe/Berlin:20250114T230000
SUMMARY:HE 6. Liga Gr. 7 Rüti vs Toggenburg III (0)
UID:61275b84-079b-40c5-8f0b-67b6e7eedae1
STATUS:CONFIRMED
LAST-MODIFIED:20250116T101440Z
DESCRIPTION:6. Liga Herren Gruppe 7\nBegegnungs-Nr: 0\nHeim: Rüti\nGast: Toggenburg III\n\nAdresse: Spitalstrasse 20\, 8630 Rüti\n
LOCATION:Spitalstrasse 20\, 8630 Rüti
CATEGORIES:Saison 2024/25
END:VEVENT
BEGIN:VEVENT
DTSTAMP:20260425T004938Z
DTSTART;TZID=Europe/Berlin:20250107T200000
DTEND;TZID=Europe/Berlin:20250107T230000
SUMMARY:HE 6. Liga Gr. 7 Rüti vs Eschenbach II (0)
UID:d5e66799-e179-4bf6-b9cd-c76016e29ddd
STATUS:CONFIRMED
LAST-MODIFIED:20250110T151837Z
DESCRIPTION:6. Liga Herren Gruppe 7\nBegegnungs-Nr: 0\nHeim: Rüti\nGast: Eschenbach II\n\nAdresse: Spitalstrasse 20\, 8630 Rüti\n
LOCATION:Spitalstrasse 20\, 8630 Rüti
CATEGORIES:Saison 2024/25
END:VEVENT
BEGIN:VEVENT
DTSTAMP:20260425T004938Z
DTSTART;TZID=Europe/Berlin:20240924T200000
DTEND;TZID=Europe/Berlin:20240924T230000
SUMMARY:HE 6. Liga Gr. 7 Rüti vs Meilen-Männedorf VI (0)
UID:02e41f6e-b7bb-4edb-8e72-0ed7851ba5d2
STATUS:CONFIRMED
LAST-MODIFIED:20240926T113900Z
DESCRIPTION:6. Liga Herren Gruppe 7\nBegegnungs-Nr: 0\nHeim: Rüti\nGast: Meilen-Männedorf VI\n\nAdresse: Spitalstrasse 20\, 8630 Rüti\n
LOCATION:Spitalstrasse 20\, 8630 Rüti
CATEGORIES:Saison 2024/25
END:VEVENT
BEGIN:VEVENT
DTSTAMP:20260425T004938Z
DTSTART;TZID=Europe/Berlin:20240903T200000
DTEND;TZID=Europe/Berlin:20240903T230000
SUMMARY:HE 6. Liga Gr. 7 Rüti vs Rapperswil-Jona VIII (0)
UID:2b6478d7-2434-4376-912e-ed39313ae7bb
STATUS:CONFIRMED
LAST-MODIFIED:20240904T120919Z
DESCRIPTION:6. Liga Herren Gruppe 7\nBegegnungs-Nr: 0\nHeim: Rüti\nGast: Rapperswil-Jona VIII\n\nAdresse: Spitalstrasse 20\, 8630 Rüti\n
LOCATION:Spitalstrasse 20\, 8630 Rüti
CATEGORIES:Saison 2024/25
END:VEVENT
BEGIN:VEVENT
DTSTAMP:20260425T004938Z
DTSTART;TZID=Europe/Berlin:20250204T194500
DTEND;TZID=Europe/Berlin:20250204T224500
SUMMARY:HE 6. Liga Gr. 7 Meilen-Männedorf VI vs Rüti (0)
UID:a8bf7f0f-c25e-4459-b355-fa3df3a6c762
STATUS:CONFIRMED
LAST-MODIFIED:20250219T154950Z
DESCRIPTION:6. Liga Herren Gruppe 7\nBegegnungs-Nr: 0\nHeim: Meilen-Männedorf VI\nGast: Rüti\n\nAdresse: Schulhausstr. 27\, 8706 Meilen\n
LOCATION:Schulhausstr. 27\, 8706 Meilen
CATEGORIES:Saison 2024/25
END:VEVENT
BEGIN:VEVENT
DTSTAMP:20260425T004938Z
DTSTART;TZID=Europe/Berlin:20250123T200000
DTEND;TZID=Europe/Berlin:20250123T230000
SUMMARY:HE 6. Liga Gr. 7 Rapperswil-Jona VIII vs Rüti (0)
UID:9eeaca15-8150-4740-9f4b-70246006b4bb
STATUS:CONFIRMED
LAST-MODIFIED:20250129T125947Z
DESCRIPTION:6. Liga Herren Gruppe 7\nBegegnungs-Nr: 0\nHeim: Rapperswil-Jona VIII\nGast: Rüti\n\nAdresse: Holzwiesstrasse 39\, 8645 Jona\n
LOCATION:Holzwiesstrasse 39\, 8645 Jona
CATEGORIES:Saison 2024/25
END:VEVENT
BEGIN:VEVENT
DTSTAMP:20260425T004938Z
DTSTART;TZID=Europe/Berlin:20240920T200000
DTEND;TZID=Europe/Berlin:20240920T230000
SUMMARY:HE 6. Liga Gr. 7 Toggenburg III vs Rüti (0)
UID:ea59ba26-0f4a-41a9-8114-14d860d3d2d0
STATUS:CONFIRMED
LAST-MODIFIED:20240926T113908Z
DESCRIPTION:6. Liga Herren Gruppe 7\nBegegnungs-Nr: 0\nHeim: Toggenburg III\nGast: Rüti\n\nAdresse: Frohmaderweg\, 9630 Wattwil\n
LOCATION:Frohmaderweg\, 9630 Wattwil
CATEGORIES:Saison 2024/25
END:VEVENT
BEGIN:VEVENT
DTSTAMP:20260425T004938Z
DTSTART;TZID=Europe/Berlin:20240830T200000
DTEND;TZID=Europe/Berlin:20240830T230000
SUMMARY:HE 6. Liga Gr. 7 Eschenbach II vs Rüti (0)
UID:b2d5a218-ec76-4b66-88a6-6567cb89ceb0
STATUS:CONFIRMED
LAST-MODIFIED:20240904T120901Z
DESCRIPTION:6. Liga Herren Gruppe 7\nBegegnungs-Nr: 0\nHeim: Eschenbach II\nGast: Rüti\n\nAdresse: Bildstöcklistrasse 2\, 8733 Eschenbach\n
LOCATION:Bildstöcklistrasse 2\, 8733 Eschenbach
CATEGORIES:Saison 2024/25
END:VEVENT
BEGIN:VEVENT
DTSTAMP:20260425T004938Z
DTSTART;TZID=Europe/Berlin:20241202T201500
DTEND;TZID=Europe/Berlin:20241202T231500
SUMMARY:HE 6. Liga Gr. 7 Gossau Zuerich III vs Rüti (0)
UID:56848393-4035-4a37-8d1e-08e17f53c434
STATUS:CONFIRMED
LAST-MODIFIED:20241205T125932Z
DESCRIPTION:6. Liga Herren Gruppe 7\nBegegnungs-Nr: 0\nHeim: Gossau Zuerich III\nGast: Rüti\n\nAdresse: Schulstrasse\, 8624 Grüt-Gossau\n
LOCATION:Schulstrasse\, 8624 Grüt-Gossau
CATEGORIES:Saison 2024/25
END:VEVENT
BEGIN:VEVENT
DTSTAMP:20260425T004938Z
DTSTART;TZID=Europe/Berlin:20241108T200000
DTEND;TZID=Europe/Berlin:20241108T230000
SUMMARY:HE 6. Liga Gr. 7 Wolfhausen IV vs Rüti (0)
UID:a9c2bb2d-9560-481e-b339-13755e2e7981
STATUS:CONFIRMED
LAST-MODIFIED:20241114T080212Z
DESCRIPTION:6. Liga Herren Gruppe 7\nBegegnungs-Nr: 0\nHeim: Wolfhausen IV\nGast: Rüti\n\nAdresse: Schulstrasse 9\, 8633 Wolfhausen\n
LOCATION:Schulstrasse 9\, 8633 Wolfhausen
CATEGORIES:Saison 2024/25
END:VEVENT
END:VCALENDAR
