BEGIN:VCALENDAR
PRODID:-//nuDatenautomaten//framework iCal4j //DE
VERSION:2.0
CALSCALE:GREGORIAN
BEGIN:VTIMEZONE
TZID:Europe/Berlin
LAST-MODIFIED:20260306T231828Z
TZURL:https://www.tzurl.org/zoneinfo/Europe/Berlin
X-LIC-LOCATION:Europe/Berlin
X-PROLEPTIC-TZNAME:LMT
BEGIN:STANDARD
TZNAME:CET
TZOFFSETFROM:+005328
TZOFFSETTO:+0100
DTSTART:18930401T000000
END:STANDARD
BEGIN:DAYLIGHT
TZNAME:CEST
TZOFFSETFROM:+0100
TZOFFSETTO:+0200
DTSTART:19160430T230000
RDATE:19400401T020000
RDATE:19430329T020000
RDATE:19460414T020000
RDATE:19470406T030000
RDATE:19480418T020000
RDATE:19490410T020000
RDATE:19800406T020000
END:DAYLIGHT
BEGIN:STANDARD
TZNAME:CET
TZOFFSETFROM:+0200
TZOFFSETTO:+0100
DTSTART:19161001T010000
RDATE:19421102T030000
RDATE:19431004T030000
RDATE:19441002T030000
RDATE:19451118T030000
RDATE:19461007T030000
END:STANDARD
BEGIN:DAYLIGHT
TZNAME:CEST
TZOFFSETFROM:+0100
TZOFFSETTO:+0200
DTSTART:19170416T020000
RRULE:FREQ=YEARLY;UNTIL=19180415T010000Z;BYMONTH=4;BYDAY=3MO
END:DAYLIGHT
BEGIN:STANDARD
TZNAME:CET
TZOFFSETFROM:+0200
TZOFFSETTO:+0100
DTSTART:19170917T030000
RRULE:FREQ=YEARLY;UNTIL=19180916T010000Z;BYMONTH=9;BYDAY=3MO
END:STANDARD
BEGIN:DAYLIGHT
TZNAME:CEST
TZOFFSETFROM:+0100
TZOFFSETTO:+0200
DTSTART:19440403T020000
RRULE:FREQ=YEARLY;UNTIL=19450402T010000Z;BYMONTH=4;BYDAY=1MO
END:DAYLIGHT
BEGIN:DAYLIGHT
TZNAME:CEMT
TZOFFSETFROM:+0200
TZOFFSETTO:+0300
DTSTART:19450524T020000
RDATE:19470511T030000
END:DAYLIGHT
BEGIN:DAYLIGHT
TZNAME:CEST
TZOFFSETFROM:+0300
TZOFFSETTO:+0200
DTSTART:19450924T030000
RDATE:19470629T030000
END:DAYLIGHT
BEGIN:STANDARD
TZNAME:CET
TZOFFSETFROM:+0100
TZOFFSETTO:+0100
DTSTART:19460101T000000
RDATE:19800101T000000
END:STANDARD
BEGIN:STANDARD
TZNAME:CET
TZOFFSETFROM:+0200
TZOFFSETTO:+0100
DTSTART:19471005T030000
RRULE:FREQ=YEARLY;UNTIL=19491002T010000Z;BYMONTH=10;BYDAY=1SU
END:STANDARD
BEGIN:STANDARD
TZNAME:CET
TZOFFSETFROM:+0200
TZOFFSETTO:+0100
DTSTART:19800928T030000
RRULE:FREQ=YEARLY;UNTIL=19950924T010000Z;BYMONTH=9;BYDAY=-1SU
END:STANDARD
BEGIN:DAYLIGHT
TZNAME:CEST
TZOFFSETFROM:+0100
TZOFFSETTO:+0200
DTSTART:19810329T020000
RRULE:FREQ=YEARLY;BYMONTH=3;BYDAY=-1SU
END:DAYLIGHT
BEGIN:STANDARD
TZNAME:CET
TZOFFSETFROM:+0200
TZOFFSETTO:+0100
DTSTART:19961027T030000
RRULE:FREQ=YEARLY;BYMONTH=10;BYDAY=-1SU
END:STANDARD
END:VTIMEZONE
BEGIN:VEVENT
DTSTAMP:20260424T231901Z
DTSTART;TZID=Europe/Berlin:20250405T140000
DTEND;TZID=Europe/Berlin:20250405T170000
SUMMARY:HE NLC Gr. 2 Burgdorf II vs Sierre (21)
UID:17bb360e-d7ba-465f-a8d7-9e1a85d1ea31
STATUS:CONFIRMED
LAST-MODIFIED:20250408T102200Z
DESCRIPTION:Herren Nationalliga C Gruppe 2\nBegegnungs-Nr: 21\nHeim: Burgdorf II\nGast: Sierre\n\nAdresse: Pestalozzistrasse 69\, 3400 Burgdorf\n
LOCATION:Pestalozzistrasse 69\, 3400 Burgdorf
CATEGORIES:Saison 2024/25
END:VEVENT
BEGIN:VEVENT
DTSTAMP:20260424T231901Z
DTSTART;TZID=Europe/Berlin:20250111T140000
DTEND;TZID=Europe/Berlin:20250111T170000
SUMMARY:HE NLC Gr. 2 Burgdorf II vs Port (4)
UID:833c9963-67c2-4829-83a0-12500a85bea3
STATUS:CONFIRMED
LAST-MODIFIED:20250113T084348Z
DESCRIPTION:Herren Nationalliga C Gruppe 2\nBegegnungs-Nr: 4\nHeim: Burgdorf II\nGast: Port\n\nAdresse: Pestalozzistrasse 69\, 3400 Burgdorf\n
LOCATION:Pestalozzistrasse 69\, 3400 Burgdorf
CATEGORIES:Saison 2024/25
END:VEVENT
BEGIN:VEVENT
DTSTAMP:20260424T231901Z
DTSTART;TZID=Europe/Berlin:20250406T150000
DTEND;TZID=Europe/Berlin:20250406T180000
SUMMARY:HE NLC Gr. 2 Burgdorf II vs Fribourg II (27)
UID:41ab1fca-4241-49dc-a995-8efedd2f29cb
STATUS:CONFIRMED
LAST-MODIFIED:20250408T102436Z
DESCRIPTION:Herren Nationalliga C Gruppe 2\nBegegnungs-Nr: 27\nHeim: Burgdorf II\nGast: Fribourg II\n\nAdresse: Pestalozzistrasse 69\, 3400 Burgdorf\n
LOCATION:Pestalozzistrasse 69\, 3400 Burgdorf
CATEGORIES:Saison 2024/25
END:VEVENT
BEGIN:VEVENT
DTSTAMP:20260424T231901Z
DTSTART;TZID=Europe/Berlin:20250308T140000
DTEND;TZID=Europe/Berlin:20250308T170000
SUMMARY:HE NLC Gr. 2 Burgdorf II vs Bulle II (19)
UID:e2484ba3-7357-4957-bfb8-46b4d9f33788
STATUS:CONFIRMED
LAST-MODIFIED:20250310T095549Z
DESCRIPTION:Herren Nationalliga C Gruppe 2\nBegegnungs-Nr: 19\nHeim: Burgdorf II\nGast: Bulle II\n\nAdresse: Pestalozzistrasse 69\, 3400 Burgdorf\n
LOCATION:Pestalozzistrasse 69\, 3400 Burgdorf
CATEGORIES:Saison 2024/25
END:VEVENT
BEGIN:VEVENT
DTSTAMP:20260424T231901Z
DTSTART;TZID=Europe/Berlin:20240921T140000
DTEND;TZID=Europe/Berlin:20240921T170000
SUMMARY:HE NLC Gr. 2 Burgdorf II vs La Chaux-de-Fonds (7)
UID:d3b720a5-a935-4cbc-b96b-bab5fc769977
STATUS:CONFIRMED
LAST-MODIFIED:20240926T071008Z
DESCRIPTION:Herren Nationalliga C Gruppe 2\nBegegnungs-Nr: 7\nHeim: Burgdorf II\nGast: La Chaux-de-Fonds\n\nAdresse: Pestalozzistrasse 69\, 3400 Burgdorf\n
LOCATION:Pestalozzistrasse 69\, 3400 Burgdorf
CATEGORIES:Saison 2024/25
END:VEVENT
BEGIN:VEVENT
DTSTAMP:20260424T231901Z
DTSTART;TZID=Europe/Berlin:20241026T140000
DTEND;TZID=Europe/Berlin:20241026T170000
SUMMARY:HE NLC Gr. 2 Burgdorf II vs Cortaillod (15)
UID:efca0ae4-8f7d-463c-a70c-02c594b0a993
STATUS:CONFIRMED
LAST-MODIFIED:20241031T082931Z
DESCRIPTION:Herren Nationalliga C Gruppe 2\nBegegnungs-Nr: 15\nHeim: Burgdorf II\nGast: Cortaillod\n\nAdresse: Pestalozzistrasse 69\, 3400 Burgdorf\n
LOCATION:Pestalozzistrasse 69\, 3400 Burgdorf
CATEGORIES:Saison 2024/25
END:VEVENT
BEGIN:VEVENT
DTSTAMP:20260424T231901Z
DTSTART;TZID=Europe/Berlin:20241019T140000
DTEND;TZID=Europe/Berlin:20241019T170000
SUMMARY:HE NLC Gr. 2 Burgdorf II vs Heimberg (9)
UID:5097fc82-13df-49ca-b08f-11db78f5a5a0
STATUS:CONFIRMED
LAST-MODIFIED:20241021T101244Z
DESCRIPTION:Herren Nationalliga C Gruppe 2\nBegegnungs-Nr: 9\nHeim: Burgdorf II\nGast: Heimberg\n\nAdresse: Pestalozzistrasse 69\, 3400 Burgdorf\n
LOCATION:Pestalozzistrasse 69\, 3400 Burgdorf
CATEGORIES:Saison 2024/25
END:VEVENT
BEGIN:VEVENT
DTSTAMP:20260424T231901Z
DTSTART;TZID=Europe/Berlin:20250201T194500
DTEND;TZID=Europe/Berlin:20250201T224500
SUMMARY:HE NLC Gr. 2 La Chaux-de-Fonds vs Burgdorf II (7)
UID:5197c10d-910e-4cb7-8976-526582598047
STATUS:CONFIRMED
LAST-MODIFIED:20250203T092954Z
DESCRIPTION:Herren Nationalliga C Gruppe 2\nBegegnungs-Nr: 7\nHeim: La Chaux-de-Fonds\nGast: Burgdorf II\n\nAdresse: Rue du Docteur-Kern 14\, 2300 La Chaux-de-Fonds\n
LOCATION:Rue du Docteur-Kern 14\, 2300 La Chaux-de-Fonds
CATEGORIES:Saison 2024/25
END:VEVENT
BEGIN:VEVENT
DTSTAMP:20260424T231901Z
DTSTART;TZID=Europe/Berlin:20250126T170000
DTEND;TZID=Europe/Berlin:20250126T200000
SUMMARY:HE NLC Gr. 2 Heimberg vs Burgdorf II (9)
UID:1df2cd55-fa89-4208-beba-42673488e17d
STATUS:CONFIRMED
LAST-MODIFIED:20250127T075446Z
DESCRIPTION:Herren Nationalliga C Gruppe 2\nBegegnungs-Nr: 9\nHeim: Heimberg\nGast: Burgdorf II\n\nAdresse: Niesenstrasse 38\, 3627 Heimberg\n
LOCATION:Niesenstrasse 38\, 3627 Heimberg
CATEGORIES:Saison 2024/25
END:VEVENT
BEGIN:VEVENT
DTSTAMP:20260424T231901Z
DTSTART;TZID=Europe/Berlin:20250301T170000
DTEND;TZID=Europe/Berlin:20250301T200000
SUMMARY:HE NLC Gr. 2 Cortaillod vs Burgdorf II (15)
UID:6c8b093c-193b-4500-b315-fd55549ed07c
STATUS:CONFIRMED
LAST-MODIFIED:20250303T065945Z
DESCRIPTION:Herren Nationalliga C Gruppe 2\nBegegnungs-Nr: 15\nHeim: Cortaillod\nGast: Burgdorf II\n\nAdresse: Coteaux 1\, 2016 Cortaillod\n
LOCATION:Coteaux 1\, 2016 Cortaillod
CATEGORIES:Saison 2024/25
END:VEVENT
BEGIN:VEVENT
DTSTAMP:20260424T231901Z
DTSTART;TZID=Europe/Berlin:20241207T160000
DTEND;TZID=Europe/Berlin:20241207T190000
SUMMARY:HE NLC Gr. 2 Fribourg II vs Burgdorf II (27)
UID:5e09c7fc-e67f-4e81-b471-63d72b4e6e77
STATUS:CONFIRMED
LAST-MODIFIED:20241209T111801Z
DESCRIPTION:Herren Nationalliga C Gruppe 2\nBegegnungs-Nr: 27\nHeim: Fribourg II\nGast: Burgdorf II\n\nAdresse: Avenue Général Guisan 61\, 1700 Fribourg\n
LOCATION:Avenue Général Guisan 61\, 1700 Fribourg
CATEGORIES:Saison 2024/25
END:VEVENT
BEGIN:VEVENT
DTSTAMP:20260424T231901Z
DTSTART;TZID=Europe/Berlin:20241110T144500
DTEND;TZID=Europe/Berlin:20241110T174500
SUMMARY:HE NLC Gr. 2 Bulle II vs Burgdorf II (19)
UID:c7552069-b111-4071-bc8f-acca3db87449
STATUS:CONFIRMED
LAST-MODIFIED:20241111T161533Z
DESCRIPTION:Herren Nationalliga C Gruppe 2\nBegegnungs-Nr: 19\nHeim: Bulle II\nGast: Burgdorf II\n\nAdresse: Rue du Stade 50\, 1630 Bulle\n
LOCATION:Rue du Stade 50\, 1630 Bulle
CATEGORIES:Saison 2024/25
END:VEVENT
BEGIN:VEVENT
DTSTAMP:20260424T231901Z
DTSTART;TZID=Europe/Berlin:20241117T170000
DTEND;TZID=Europe/Berlin:20241117T200000
SUMMARY:HE NLC Gr. 2 Sierre vs Burgdorf II (21)
UID:bfcfcc13-6fd9-4dc5-a0f1-1296ce58cf55
STATUS:CONFIRMED
LAST-MODIFIED:20241118T111956Z
DESCRIPTION:Herren Nationalliga C Gruppe 2\nBegegnungs-Nr: 21\nHeim: Sierre\nGast: Burgdorf II\n\nAdresse: Rte des Liddes 6\, 3960 Sierre\n
LOCATION:Rte des Liddes 6\, 3960 Sierre
CATEGORIES:Saison 2024/25
END:VEVENT
BEGIN:VEVENT
DTSTAMP:20260424T231901Z
DTSTART;TZID=Europe/Berlin:20240907T160000
DTEND;TZID=Europe/Berlin:20240907T190000
SUMMARY:HE NLC Gr. 2 Port vs Burgdorf II (4)
UID:c3612854-b149-4525-9fed-709ada00d197
STATUS:CONFIRMED
LAST-MODIFIED:20240910T075655Z
DESCRIPTION:Herren Nationalliga C Gruppe 2\nBegegnungs-Nr: 4\nHeim: Port\nGast: Burgdorf II\n
LOCATION:
CATEGORIES:Saison 2024/25
END:VEVENT
END:VCALENDAR
