BEGIN:VCALENDAR
PRODID:-//nuDatenautomaten//framework iCal4j //DE
VERSION:2.0
CALSCALE:GREGORIAN
BEGIN:VTIMEZONE
TZID:Europe/Berlin
LAST-MODIFIED:20260306T231828Z
TZURL:https://www.tzurl.org/zoneinfo/Europe/Berlin
X-LIC-LOCATION:Europe/Berlin
X-PROLEPTIC-TZNAME:LMT
BEGIN:STANDARD
TZNAME:CET
TZOFFSETFROM:+005328
TZOFFSETTO:+0100
DTSTART:18930401T000000
END:STANDARD
BEGIN:DAYLIGHT
TZNAME:CEST
TZOFFSETFROM:+0100
TZOFFSETTO:+0200
DTSTART:19160430T230000
RDATE:19400401T020000
RDATE:19430329T020000
RDATE:19460414T020000
RDATE:19470406T030000
RDATE:19480418T020000
RDATE:19490410T020000
RDATE:19800406T020000
END:DAYLIGHT
BEGIN:STANDARD
TZNAME:CET
TZOFFSETFROM:+0200
TZOFFSETTO:+0100
DTSTART:19161001T010000
RDATE:19421102T030000
RDATE:19431004T030000
RDATE:19441002T030000
RDATE:19451118T030000
RDATE:19461007T030000
END:STANDARD
BEGIN:DAYLIGHT
TZNAME:CEST
TZOFFSETFROM:+0100
TZOFFSETTO:+0200
DTSTART:19170416T020000
RRULE:FREQ=YEARLY;UNTIL=19180415T010000Z;BYMONTH=4;BYDAY=3MO
END:DAYLIGHT
BEGIN:STANDARD
TZNAME:CET
TZOFFSETFROM:+0200
TZOFFSETTO:+0100
DTSTART:19170917T030000
RRULE:FREQ=YEARLY;UNTIL=19180916T010000Z;BYMONTH=9;BYDAY=3MO
END:STANDARD
BEGIN:DAYLIGHT
TZNAME:CEST
TZOFFSETFROM:+0100
TZOFFSETTO:+0200
DTSTART:19440403T020000
RRULE:FREQ=YEARLY;UNTIL=19450402T010000Z;BYMONTH=4;BYDAY=1MO
END:DAYLIGHT
BEGIN:DAYLIGHT
TZNAME:CEMT
TZOFFSETFROM:+0200
TZOFFSETTO:+0300
DTSTART:19450524T020000
RDATE:19470511T030000
END:DAYLIGHT
BEGIN:DAYLIGHT
TZNAME:CEST
TZOFFSETFROM:+0300
TZOFFSETTO:+0200
DTSTART:19450924T030000
RDATE:19470629T030000
END:DAYLIGHT
BEGIN:STANDARD
TZNAME:CET
TZOFFSETFROM:+0100
TZOFFSETTO:+0100
DTSTART:19460101T000000
RDATE:19800101T000000
END:STANDARD
BEGIN:STANDARD
TZNAME:CET
TZOFFSETFROM:+0200
TZOFFSETTO:+0100
DTSTART:19471005T030000
RRULE:FREQ=YEARLY;UNTIL=19491002T010000Z;BYMONTH=10;BYDAY=1SU
END:STANDARD
BEGIN:STANDARD
TZNAME:CET
TZOFFSETFROM:+0200
TZOFFSETTO:+0100
DTSTART:19800928T030000
RRULE:FREQ=YEARLY;UNTIL=19950924T010000Z;BYMONTH=9;BYDAY=-1SU
END:STANDARD
BEGIN:DAYLIGHT
TZNAME:CEST
TZOFFSETFROM:+0100
TZOFFSETTO:+0200
DTSTART:19810329T020000
RRULE:FREQ=YEARLY;BYMONTH=3;BYDAY=-1SU
END:DAYLIGHT
BEGIN:STANDARD
TZNAME:CET
TZOFFSETFROM:+0200
TZOFFSETTO:+0100
DTSTART:19961027T030000
RRULE:FREQ=YEARLY;BYMONTH=10;BYDAY=-1SU
END:STANDARD
END:VTIMEZONE
BEGIN:VEVENT
DTSTAMP:20260421T142739Z
DTSTART;TZID=Europe/Berlin:20240907T150000
DTEND;TZID=Europe/Berlin:20240907T180000
SUMMARY:He 2. Liga Gr. 1 Sarnen II vs Rapid Luzern VI (0)
UID:0ae639ce-38bb-4f3e-8e0a-da2e5403957e
STATUS:CONFIRMED
LAST-MODIFIED:20240911T140319Z
DESCRIPTION:2. Liga Herren Gruppe 1\nBegegnungs-Nr: 0\nHeim: Sarnen II\nGast: Rapid Luzern VI\n\nAdresse: Wilerstr. 65\, 6062 Wilen (Sarnen)\n
LOCATION:Wilerstr. 65\, 6062 Wilen (Sarnen)
CATEGORIES:Saison 2024/25
END:VEVENT
BEGIN:VEVENT
DTSTAMP:20260421T142739Z
DTSTART;TZID=Europe/Berlin:20250201T200000
DTEND;TZID=Europe/Berlin:20250201T230000
SUMMARY:He 2. Liga Gr. 1 Sarnen II vs Kriens IV (0)
UID:a55ac05a-64fb-4c22-bd74-73391e577cf2
STATUS:CONFIRMED
LAST-MODIFIED:20250204T210334Z
DESCRIPTION:2. Liga Herren Gruppe 1\nBegegnungs-Nr: 0\nHeim: Sarnen II\nGast: Kriens IV\n\nAdresse: Wilerstr. 65\, 6062 Wilen (Sarnen)\n
LOCATION:Wilerstr. 65\, 6062 Wilen (Sarnen)
CATEGORIES:Saison 2024/25
END:VEVENT
BEGIN:VEVENT
DTSTAMP:20260421T142739Z
DTSTART;TZID=Europe/Berlin:20250329T150000
DTEND;TZID=Europe/Berlin:20250329T180000
SUMMARY:He 2. Liga Gr. 1 Sarnen II vs Baar II (0)
UID:004c958e-d706-416a-893d-883967d05d00
STATUS:CONFIRMED
LAST-MODIFIED:20250415T084930Z
DESCRIPTION:2. Liga Herren Gruppe 1\nBegegnungs-Nr: 0\nHeim: Sarnen II\nGast: Baar II\n\nAdresse: Wilerstr. 65\, 6062 Wilen (Sarnen)\n
LOCATION:Wilerstr. 65\, 6062 Wilen (Sarnen)
CATEGORIES:Saison 2024/25
END:VEVENT
BEGIN:VEVENT
DTSTAMP:20260421T142739Z
DTSTART;TZID=Europe/Berlin:20250308T130000
DTEND;TZID=Europe/Berlin:20250308T160000
SUMMARY:He 2. Liga Gr. 1 Sarnen II vs Emmen (0)
UID:17d437c7-22dd-46e5-a562-15fe9765aebb
STATUS:CONFIRMED
LAST-MODIFIED:20250314T123634Z
DESCRIPTION:2. Liga Herren Gruppe 1\nBegegnungs-Nr: 0\nHeim: Sarnen II\nGast: Emmen\n\nAdresse: Wilerstr. 65\, 6062 Wilen (Sarnen)\n
LOCATION:Wilerstr. 65\, 6062 Wilen (Sarnen)
CATEGORIES:Saison 2024/25
END:VEVENT
BEGIN:VEVENT
DTSTAMP:20260421T142739Z
DTSTART;TZID=Europe/Berlin:20250222T150000
DTEND;TZID=Europe/Berlin:20250222T180000
SUMMARY:He 2. Liga Gr. 1 Sarnen II vs Schenkon II (0)
UID:0f541535-5bb6-4eec-88b9-7fee1065ff2d
STATUS:CONFIRMED
LAST-MODIFIED:20250226T101521Z
DESCRIPTION:2. Liga Herren Gruppe 1\nBegegnungs-Nr: 0\nHeim: Sarnen II\nGast: Schenkon II\n\nAdresse: Wilerstr. 65\, 6062 Wilen (Sarnen)\n
LOCATION:Wilerstr. 65\, 6062 Wilen (Sarnen)
CATEGORIES:Saison 2024/25
END:VEVENT
BEGIN:VEVENT
DTSTAMP:20260421T142739Z
DTSTART;TZID=Europe/Berlin:20250125T150000
DTEND;TZID=Europe/Berlin:20250125T180000
SUMMARY:He 2. Liga Gr. 1 Sarnen II vs Rotkreuz (0)
UID:644f08c6-c059-459e-83e3-e17bffd64bc8
STATUS:CONFIRMED
LAST-MODIFIED:20250204T204649Z
DESCRIPTION:2. Liga Herren Gruppe 1\nBegegnungs-Nr: 0\nHeim: Sarnen II\nGast: Rotkreuz\n\nAdresse: Wilerstr. 65\, 6062 Wilen (Sarnen)\n
LOCATION:Wilerstr. 65\, 6062 Wilen (Sarnen)
CATEGORIES:Saison 2024/25
END:VEVENT
BEGIN:VEVENT
DTSTAMP:20260421T142739Z
DTSTART;TZID=Europe/Berlin:20250322T150000
DTEND;TZID=Europe/Berlin:20250322T180000
SUMMARY:He 2. Liga Gr. 1 Sarnen II vs Reussbühl II (0)
UID:6f1933b1-4c7f-4a2f-9899-528e70c88fd1
STATUS:CONFIRMED
LAST-MODIFIED:20250326T152616Z
DESCRIPTION:2. Liga Herren Gruppe 1\nBegegnungs-Nr: 0\nHeim: Sarnen II\nGast: Reussbühl II\n\nAdresse: Wilerstr. 65\, 6062 Wilen (Sarnen)\n
LOCATION:Wilerstr. 65\, 6062 Wilen (Sarnen)
CATEGORIES:Saison 2024/25
END:VEVENT
BEGIN:VEVENT
DTSTAMP:20260421T142739Z
DTSTART;TZID=Europe/Berlin:20240924T194500
DTEND;TZID=Europe/Berlin:20240924T224500
SUMMARY:He 2. Liga Gr. 1 Emmen vs Sarnen II (0)
UID:02ca62b0-05ad-442e-b5e6-90771ca5ba14
STATUS:CONFIRMED
LAST-MODIFIED:20240925T085244Z
DESCRIPTION:2. Liga Herren Gruppe 1\nBegegnungs-Nr: 0\nHeim: Emmen\nGast: Sarnen II\n\nAdresse: Rüeggisingerstrasse 26\, 6020 Emmenbrücke\n
LOCATION:Rüeggisingerstrasse 26\, 6020 Emmenbrücke
CATEGORIES:Saison 2024/25
END:VEVENT
BEGIN:VEVENT
DTSTAMP:20260421T142739Z
DTSTART;TZID=Europe/Berlin:20250314T201500
DTEND;TZID=Europe/Berlin:20250314T231500
SUMMARY:He 2. Liga Gr. 1 Schenkon II vs Sarnen II (0)
UID:395b5708-0780-45e8-b4f6-855f11df56b2
STATUS:CONFIRMED
LAST-MODIFIED:20250320T183400Z
DESCRIPTION:2. Liga Herren Gruppe 1\nBegegnungs-Nr: 0\nHeim: Schenkon II\nGast: Sarnen II\n6214 Schenkon\n
LOCATION:6214 Schenkon
CATEGORIES:Saison 2024/25
END:VEVENT
BEGIN:VEVENT
DTSTAMP:20260421T142739Z
DTSTART;TZID=Europe/Berlin:20241115T200000
DTEND;TZID=Europe/Berlin:20241115T230000
SUMMARY:He 2. Liga Gr. 1 Rotkreuz vs Sarnen II (0)
UID:d3bfc3d7-2fab-4d9f-b1ec-44aeaf5fe483
STATUS:CONFIRMED
LAST-MODIFIED:20241118T175807Z
DESCRIPTION:2. Liga Herren Gruppe 1\nBegegnungs-Nr: 0\nHeim: Rotkreuz\nGast: Sarnen II\n\nAdresse: Buonaserstr. 23\, 6343 Rotkreuz\n
LOCATION:Buonaserstr. 23\, 6343 Rotkreuz
CATEGORIES:Saison 2024/25
END:VEVENT
BEGIN:VEVENT
DTSTAMP:20260421T142739Z
DTSTART;TZID=Europe/Berlin:20241017T200000
DTEND;TZID=Europe/Berlin:20241017T230000
SUMMARY:He 2. Liga Gr. 1 Reussbühl II vs Sarnen II (0)
UID:b8b4827a-d437-4286-a0f5-322ebfa123b9
STATUS:CONFIRMED
LAST-MODIFIED:20241022T162947Z
DESCRIPTION:2. Liga Herren Gruppe 1\nBegegnungs-Nr: 0\nHeim: Reussbühl II\nGast: Sarnen II\n\nAdresse: Obermättlistrasse 44\, 6015 Luzern\n
LOCATION:Obermättlistrasse 44\, 6015 Luzern
CATEGORIES:Saison 2024/25
END:VEVENT
BEGIN:VEVENT
DTSTAMP:20260421T142739Z
DTSTART;TZID=Europe/Berlin:20250215T130000
DTEND;TZID=Europe/Berlin:20250215T160000
SUMMARY:He 2. Liga Gr. 1 Rapid Luzern VI vs Sarnen II (0)
UID:8213e524-1bf5-4770-8681-b933b8114c8e
STATUS:CONFIRMED
LAST-MODIFIED:20250219T080650Z
DESCRIPTION:2. Liga Herren Gruppe 1\nBegegnungs-Nr: 0\nHeim: Rapid Luzern VI\nGast: Sarnen II\n\nAdresse: Kreuzbuchstr. 60\, 6006 Luzern\n
LOCATION:Kreuzbuchstr. 60\, 6006 Luzern
CATEGORIES:Saison 2024/25
END:VEVENT
BEGIN:VEVENT
DTSTAMP:20260421T142739Z
DTSTART;TZID=Europe/Berlin:20250204T200000
DTEND;TZID=Europe/Berlin:20250204T230000
SUMMARY:He 2. Liga Gr. 1 Kriens IV vs Sarnen II (0)
UID:331b85ed-9176-454e-93d1-06fab95a5841
STATUS:CONFIRMED
LAST-MODIFIED:20250219T080641Z
DESCRIPTION:2. Liga Herren Gruppe 1\nBegegnungs-Nr: 0\nHeim: Kriens IV\nGast: Sarnen II\n\nAdresse: Krauerstrasse 1\, 6010 Kriens\n
LOCATION:Krauerstrasse 1\, 6010 Kriens
CATEGORIES:Saison 2024/25
END:VEVENT
BEGIN:VEVENT
DTSTAMP:20260421T142739Z
DTSTART;TZID=Europe/Berlin:20250217T200000
DTEND;TZID=Europe/Berlin:20250217T230000
SUMMARY:He 2. Liga Gr. 1 Baar II vs Sarnen II (0)
UID:48c01731-f5cf-4f90-adfa-1378c39523c4
STATUS:CONFIRMED
LAST-MODIFIED:20250219T080656Z
DESCRIPTION:2. Liga Herren Gruppe 1\nBegegnungs-Nr: 0\nHeim: Baar II\nGast: Sarnen II\n\nAdresse: Rigistrasse 175/177\, 6340 Baar\n
LOCATION:Rigistrasse 175/177\, 6340 Baar
CATEGORIES:Saison 2024/25
END:VEVENT
END:VCALENDAR
