BEGIN:VCALENDAR
PRODID:-//nuDatenautomaten//framework iCal4j //DE
VERSION:2.0
CALSCALE:GREGORIAN
BEGIN:VTIMEZONE
TZID:Europe/Berlin
LAST-MODIFIED:20260306T231828Z
TZURL:https://www.tzurl.org/zoneinfo/Europe/Berlin
X-LIC-LOCATION:Europe/Berlin
X-PROLEPTIC-TZNAME:LMT
BEGIN:STANDARD
TZNAME:CET
TZOFFSETFROM:+005328
TZOFFSETTO:+0100
DTSTART:18930401T000000
END:STANDARD
BEGIN:DAYLIGHT
TZNAME:CEST
TZOFFSETFROM:+0100
TZOFFSETTO:+0200
DTSTART:19160430T230000
RDATE:19400401T020000
RDATE:19430329T020000
RDATE:19460414T020000
RDATE:19470406T030000
RDATE:19480418T020000
RDATE:19490410T020000
RDATE:19800406T020000
END:DAYLIGHT
BEGIN:STANDARD
TZNAME:CET
TZOFFSETFROM:+0200
TZOFFSETTO:+0100
DTSTART:19161001T010000
RDATE:19421102T030000
RDATE:19431004T030000
RDATE:19441002T030000
RDATE:19451118T030000
RDATE:19461007T030000
END:STANDARD
BEGIN:DAYLIGHT
TZNAME:CEST
TZOFFSETFROM:+0100
TZOFFSETTO:+0200
DTSTART:19170416T020000
RRULE:FREQ=YEARLY;UNTIL=19180415T010000Z;BYMONTH=4;BYDAY=3MO
END:DAYLIGHT
BEGIN:STANDARD
TZNAME:CET
TZOFFSETFROM:+0200
TZOFFSETTO:+0100
DTSTART:19170917T030000
RRULE:FREQ=YEARLY;UNTIL=19180916T010000Z;BYMONTH=9;BYDAY=3MO
END:STANDARD
BEGIN:DAYLIGHT
TZNAME:CEST
TZOFFSETFROM:+0100
TZOFFSETTO:+0200
DTSTART:19440403T020000
RRULE:FREQ=YEARLY;UNTIL=19450402T010000Z;BYMONTH=4;BYDAY=1MO
END:DAYLIGHT
BEGIN:DAYLIGHT
TZNAME:CEMT
TZOFFSETFROM:+0200
TZOFFSETTO:+0300
DTSTART:19450524T020000
RDATE:19470511T030000
END:DAYLIGHT
BEGIN:DAYLIGHT
TZNAME:CEST
TZOFFSETFROM:+0300
TZOFFSETTO:+0200
DTSTART:19450924T030000
RDATE:19470629T030000
END:DAYLIGHT
BEGIN:STANDARD
TZNAME:CET
TZOFFSETFROM:+0100
TZOFFSETTO:+0100
DTSTART:19460101T000000
RDATE:19800101T000000
END:STANDARD
BEGIN:STANDARD
TZNAME:CET
TZOFFSETFROM:+0200
TZOFFSETTO:+0100
DTSTART:19471005T030000
RRULE:FREQ=YEARLY;UNTIL=19491002T010000Z;BYMONTH=10;BYDAY=1SU
END:STANDARD
BEGIN:STANDARD
TZNAME:CET
TZOFFSETFROM:+0200
TZOFFSETTO:+0100
DTSTART:19800928T030000
RRULE:FREQ=YEARLY;UNTIL=19950924T010000Z;BYMONTH=9;BYDAY=-1SU
END:STANDARD
BEGIN:DAYLIGHT
TZNAME:CEST
TZOFFSETFROM:+0100
TZOFFSETTO:+0200
DTSTART:19810329T020000
RRULE:FREQ=YEARLY;BYMONTH=3;BYDAY=-1SU
END:DAYLIGHT
BEGIN:STANDARD
TZNAME:CET
TZOFFSETFROM:+0200
TZOFFSETTO:+0100
DTSTART:19961027T030000
RRULE:FREQ=YEARLY;BYMONTH=10;BYDAY=-1SU
END:STANDARD
END:VTIMEZONE
BEGIN:VEVENT
DTSTAMP:20260425T034146Z
DTSTART;TZID=Europe/Berlin:20241021T201500
DTEND;TZID=Europe/Berlin:20241021T231500
SUMMARY:O40 3. Liga Gr. 1 Romanshorn II vs Bronschhofen (0)
UID:5cd5bf65-aeb7-4811-bfd6-bb3bec6c33b5
STATUS:CONFIRMED
LAST-MODIFIED:20241023T082129Z
DESCRIPTION:3. Liga O40 Gruppe 1\nBegegnungs-Nr: 0\nHeim: Romanshorn II\nGast: Bronschhofen\n\nAdresse: Florastrasse\, 8590 Romanshorn\n
LOCATION:Florastrasse\, 8590 Romanshorn
CATEGORIES:Saison 2024/25
END:VEVENT
BEGIN:VEVENT
DTSTAMP:20260425T034146Z
DTSTART;TZID=Europe/Berlin:20240829T201500
DTEND;TZID=Europe/Berlin:20240829T231500
SUMMARY:O40 3. Liga Gr. 1 Romanshorn II vs Horn (0)
UID:5f3acf2a-d864-4484-b291-9c7055390854
STATUS:CONFIRMED
LAST-MODIFIED:20240904T121343Z
DESCRIPTION:3. Liga O40 Gruppe 1\nBegegnungs-Nr: 0\nHeim: Romanshorn II\nGast: Horn\n\nAdresse: Florastrasse\, 8590 Romanshorn\n
LOCATION:Florastrasse\, 8590 Romanshorn
CATEGORIES:Saison 2024/25
END:VEVENT
BEGIN:VEVENT
DTSTAMP:20260425T034146Z
DTSTART;TZID=Europe/Berlin:20250217T201500
DTEND;TZID=Europe/Berlin:20250217T231500
SUMMARY:O40 3. Liga Gr. 1 Romanshorn II vs Wuppenau (0)
UID:7ec40002-3efc-4521-a298-37c3e04fe8ee
STATUS:CONFIRMED
LAST-MODIFIED:20250219T133453Z
DESCRIPTION:3. Liga O40 Gruppe 1\nBegegnungs-Nr: 0\nHeim: Romanshorn II\nGast: Wuppenau\n\nAdresse: Florastrasse\, 8590 Romanshorn\n
LOCATION:Florastrasse\, 8590 Romanshorn
CATEGORIES:Saison 2024/25
END:VEVENT
BEGIN:VEVENT
DTSTAMP:20260425T034146Z
DTSTART;TZID=Europe/Berlin:20250428T201500
DTEND;TZID=Europe/Berlin:20250428T231500
SUMMARY:O40 3. Liga Gr. 1 Romanshorn II vs Gossau St.Gallen (0)
UID:ac287d6a-c0c3-4b33-ad78-6a648ebac974
STATUS:CONFIRMED
LAST-MODIFIED:20250506T140611Z
DESCRIPTION:3. Liga O40 Gruppe 1\nBegegnungs-Nr: 0\nHeim: Romanshorn II\nGast: Gossau St.Gallen\n\nAdresse: Florastrasse\, 8590 Romanshorn\n
LOCATION:Florastrasse\, 8590 Romanshorn
CATEGORIES:Saison 2024/25
END:VEVENT
BEGIN:VEVENT
DTSTAMP:20260425T034146Z
DTSTART;TZID=Europe/Berlin:20250224T201500
DTEND;TZID=Europe/Berlin:20250224T231500
SUMMARY:O40 3. Liga Gr. 1 Romanshorn II vs Horn (0)
UID:7ba11e4d-dd23-413c-a032-9009911319ef
STATUS:CONFIRMED
LAST-MODIFIED:20250227T123635Z
DESCRIPTION:3. Liga O40 Gruppe 1\nBegegnungs-Nr: 0\nHeim: Romanshorn II\nGast: Horn\n\nAdresse: Florastrasse\, 8590 Romanshorn\n
LOCATION:Florastrasse\, 8590 Romanshorn
CATEGORIES:Saison 2024/25
END:VEVENT
BEGIN:VEVENT
DTSTAMP:20260425T034146Z
DTSTART;TZID=Europe/Berlin:20250203T201500
DTEND;TZID=Europe/Berlin:20250203T231500
SUMMARY:O40 3. Liga Gr. 1 Romanshorn II vs St. Gallen (0)
UID:3c5efebd-d64e-4659-a6dd-6fd5021588ed
STATUS:CONFIRMED
LAST-MODIFIED:20250204T123921Z
DESCRIPTION:3. Liga O40 Gruppe 1\nBegegnungs-Nr: 0\nHeim: Romanshorn II\nGast: St. Gallen\n\nAdresse: Florastrasse\, 8590 Romanshorn\n
LOCATION:Florastrasse\, 8590 Romanshorn
CATEGORIES:Saison 2024/25
END:VEVENT
BEGIN:VEVENT
DTSTAMP:20260425T034146Z
DTSTART;TZID=Europe/Berlin:20250113T201500
DTEND;TZID=Europe/Berlin:20250113T231500
SUMMARY:O40 3. Liga Gr. 1 Romanshorn II vs Wallenwil (0)
UID:572b7d9d-1e3c-4047-9ab1-2c7e4984fac7
STATUS:CONFIRMED
LAST-MODIFIED:20250114T094611Z
DESCRIPTION:3. Liga O40 Gruppe 1\nBegegnungs-Nr: 0\nHeim: Romanshorn II\nGast: Wallenwil\n\nAdresse: Florastrasse\, 8590 Romanshorn\n
LOCATION:Florastrasse\, 8590 Romanshorn
CATEGORIES:Saison 2024/25
END:VEVENT
BEGIN:VEVENT
DTSTAMP:20260425T034146Z
DTSTART;TZID=Europe/Berlin:20240824T150000
DTEND;TZID=Europe/Berlin:20240824T180000
SUMMARY:O40 3. Liga Gr. 1 St. Gallen vs Romanshorn II (0)
UID:02ea9865-d410-43e0-85ef-c5ca7c5c7c0b
STATUS:CONFIRMED
LAST-MODIFIED:20240828T091552Z
DESCRIPTION:3. Liga O40 Gruppe 1\nBegegnungs-Nr: 0\nHeim: St. Gallen\nGast: Romanshorn II\n\nAdresse: Zilstrasse 61\, 9016 St.Gallen\n
LOCATION:Zilstrasse 61\, 9016 St.Gallen
CATEGORIES:Saison 2024/25
END:VEVENT
BEGIN:VEVENT
DTSTAMP:20260425T034146Z
DTSTART;TZID=Europe/Berlin:20240822T201500
DTEND;TZID=Europe/Berlin:20240822T231500
SUMMARY:O40 3. Liga Gr. 1 Wallenwil vs Romanshorn II (0)
UID:e10e8da6-d95a-4256-a331-8fafbafa5c6c
STATUS:CONFIRMED
LAST-MODIFIED:20240828T091530Z
DESCRIPTION:3. Liga O40 Gruppe 1\nBegegnungs-Nr: 0\nHeim: Wallenwil\nGast: Romanshorn II\n\nAdresse: Stationsstrasse 29\, 8360 Wallenwil\n
LOCATION:Stationsstrasse 29\, 8360 Wallenwil
CATEGORIES:Saison 2024/25
END:VEVENT
BEGIN:VEVENT
DTSTAMP:20260425T034146Z
DTSTART;TZID=Europe/Berlin:20250317T200000
DTEND;TZID=Europe/Berlin:20250317T230000
SUMMARY:O40 3. Liga Gr. 1 Bronschhofen vs Romanshorn II (0)
UID:04b2eeba-7478-4e9e-bb48-63c60c4c5e16
STATUS:CONFIRMED
LAST-MODIFIED:20250319T094926Z
DESCRIPTION:3. Liga O40 Gruppe 1\nBegegnungs-Nr: 0\nHeim: Bronschhofen\nGast: Romanshorn II\n\nAdresse: Schulstrasse 6\, 9552 Bronschhofen\n
LOCATION:Schulstrasse 6\, 9552 Bronschhofen
CATEGORIES:Saison 2024/25
END:VEVENT
BEGIN:VEVENT
DTSTAMP:20260425T034146Z
DTSTART;TZID=Europe/Berlin:20241209T201500
DTEND;TZID=Europe/Berlin:20241209T231500
SUMMARY:O40 3. Liga Gr. 1 Wuppenau vs Romanshorn II (0)
UID:2293b50c-fffe-43f4-af45-cdf2c3e7efd5
STATUS:CONFIRMED
LAST-MODIFIED:20241211T103458Z
DESCRIPTION:3. Liga O40 Gruppe 1\nBegegnungs-Nr: 0\nHeim: Wuppenau\nGast: Romanshorn II\n\nAdresse: Nollenstrasse\, 9514 Wuppenau\n
LOCATION:Nollenstrasse\, 9514 Wuppenau
CATEGORIES:Saison 2024/25
END:VEVENT
BEGIN:VEVENT
DTSTAMP:20260425T034146Z
DTSTART;TZID=Europe/Berlin:20241126T200000
DTEND;TZID=Europe/Berlin:20241126T230000
SUMMARY:O40 3. Liga Gr. 1 Gossau St.Gallen vs Romanshorn II (0)
UID:ed9a2795-06ac-4284-9efc-57d358331bac
STATUS:CONFIRMED
LAST-MODIFIED:20241127T073231Z
DESCRIPTION:3. Liga O40 Gruppe 1\nBegegnungs-Nr: 0\nHeim: Gossau St.Gallen\nGast: Romanshorn II\n\nAdresse: Falkenstrasse 21\, 9200 Gossau\n
LOCATION:Falkenstrasse 21\, 9200 Gossau
CATEGORIES:Saison 2024/25
END:VEVENT
END:VCALENDAR
