BEGIN:VCALENDAR
PRODID:-//nuDatenautomaten//framework iCal4j //DE
VERSION:2.0
CALSCALE:GREGORIAN
BEGIN:VTIMEZONE
TZID:Europe/Berlin
LAST-MODIFIED:20260306T231828Z
TZURL:https://www.tzurl.org/zoneinfo/Europe/Berlin
X-LIC-LOCATION:Europe/Berlin
X-PROLEPTIC-TZNAME:LMT
BEGIN:STANDARD
TZNAME:CET
TZOFFSETFROM:+005328
TZOFFSETTO:+0100
DTSTART:18930401T000000
END:STANDARD
BEGIN:DAYLIGHT
TZNAME:CEST
TZOFFSETFROM:+0100
TZOFFSETTO:+0200
DTSTART:19160430T230000
RDATE:19400401T020000
RDATE:19430329T020000
RDATE:19460414T020000
RDATE:19470406T030000
RDATE:19480418T020000
RDATE:19490410T020000
RDATE:19800406T020000
END:DAYLIGHT
BEGIN:STANDARD
TZNAME:CET
TZOFFSETFROM:+0200
TZOFFSETTO:+0100
DTSTART:19161001T010000
RDATE:19421102T030000
RDATE:19431004T030000
RDATE:19441002T030000
RDATE:19451118T030000
RDATE:19461007T030000
END:STANDARD
BEGIN:DAYLIGHT
TZNAME:CEST
TZOFFSETFROM:+0100
TZOFFSETTO:+0200
DTSTART:19170416T020000
RRULE:FREQ=YEARLY;UNTIL=19180415T010000Z;BYMONTH=4;BYDAY=3MO
END:DAYLIGHT
BEGIN:STANDARD
TZNAME:CET
TZOFFSETFROM:+0200
TZOFFSETTO:+0100
DTSTART:19170917T030000
RRULE:FREQ=YEARLY;UNTIL=19180916T010000Z;BYMONTH=9;BYDAY=3MO
END:STANDARD
BEGIN:DAYLIGHT
TZNAME:CEST
TZOFFSETFROM:+0100
TZOFFSETTO:+0200
DTSTART:19440403T020000
RRULE:FREQ=YEARLY;UNTIL=19450402T010000Z;BYMONTH=4;BYDAY=1MO
END:DAYLIGHT
BEGIN:DAYLIGHT
TZNAME:CEMT
TZOFFSETFROM:+0200
TZOFFSETTO:+0300
DTSTART:19450524T020000
RDATE:19470511T030000
END:DAYLIGHT
BEGIN:DAYLIGHT
TZNAME:CEST
TZOFFSETFROM:+0300
TZOFFSETTO:+0200
DTSTART:19450924T030000
RDATE:19470629T030000
END:DAYLIGHT
BEGIN:STANDARD
TZNAME:CET
TZOFFSETFROM:+0100
TZOFFSETTO:+0100
DTSTART:19460101T000000
RDATE:19800101T000000
END:STANDARD
BEGIN:STANDARD
TZNAME:CET
TZOFFSETFROM:+0200
TZOFFSETTO:+0100
DTSTART:19471005T030000
RRULE:FREQ=YEARLY;UNTIL=19491002T010000Z;BYMONTH=10;BYDAY=1SU
END:STANDARD
BEGIN:STANDARD
TZNAME:CET
TZOFFSETFROM:+0200
TZOFFSETTO:+0100
DTSTART:19800928T030000
RRULE:FREQ=YEARLY;UNTIL=19950924T010000Z;BYMONTH=9;BYDAY=-1SU
END:STANDARD
BEGIN:DAYLIGHT
TZNAME:CEST
TZOFFSETFROM:+0100
TZOFFSETTO:+0200
DTSTART:19810329T020000
RRULE:FREQ=YEARLY;BYMONTH=3;BYDAY=-1SU
END:DAYLIGHT
BEGIN:STANDARD
TZNAME:CET
TZOFFSETFROM:+0200
TZOFFSETTO:+0100
DTSTART:19961027T030000
RRULE:FREQ=YEARLY;BYMONTH=10;BYDAY=-1SU
END:STANDARD
END:VTIMEZONE
BEGIN:VEVENT
DTSTAMP:20260425T004235Z
DTSTART;TZID=Europe/Berlin:20240918T194500
DTEND;TZID=Europe/Berlin:20240918T224500
SUMMARY:Ligue 5 Gr.3 Ph.A Meyrin VI vs Grand-Saconnex V (4)
UID:4bda0c06-6d04-47b4-b7b2-5f29497b1668
STATUS:CONFIRMED
LAST-MODIFIED:20240919T092218Z
DESCRIPTION:5ème ligue Hommes Gr.3 Phase A\nBegegnungs-Nr: 4\nHeim: Meyrin VI\nGast: Grand-Saconnex V\n
LOCATION:
CATEGORIES:Saison 2024/25
END:VEVENT
BEGIN:VEVENT
DTSTAMP:20260425T004235Z
DTSTART;TZID=Europe/Berlin:20241016T194500
DTEND;TZID=Europe/Berlin:20241016T224500
SUMMARY:Ligue 5 Gr.3 Ph.A Meyrin VI vs Silver Star IX (15)
UID:c53fd5d6-161f-43ad-9506-5011b7da0479
STATUS:CONFIRMED
LAST-MODIFIED:20241017T103946Z
DESCRIPTION:5ème ligue Hommes Gr.3 Phase A\nBegegnungs-Nr: 15\nHeim: Meyrin VI\nGast: Silver Star IX\n
LOCATION:
CATEGORIES:Saison 2024/25
END:VEVENT
BEGIN:VEVENT
DTSTAMP:20260425T004235Z
DTSTART;TZID=Europe/Berlin:20241030T194500
DTEND;TZID=Europe/Berlin:20241030T224500
SUMMARY:Ligue 5 Gr.3 Ph.A Meyrin VI vs Onex IV (17)
UID:fab7925d-c09d-4084-a2d9-1aff6bdb48d5
STATUS:CONFIRMED
LAST-MODIFIED:20241031T091209Z
DESCRIPTION:5ème ligue Hommes Gr.3 Phase A\nBegegnungs-Nr: 17\nHeim: Meyrin VI\nGast: Onex IV\n
LOCATION:
CATEGORIES:Saison 2024/25
END:VEVENT
BEGIN:VEVENT
DTSTAMP:20260425T004235Z
DTSTART;TZID=Europe/Berlin:20241120T194500
DTEND;TZID=Europe/Berlin:20241120T224500
SUMMARY:Ligue 5 Gr.3 Ph.A Meyrin VI vs Châtelaine IX (22)
UID:a286c1a9-f6b1-4db0-aa4c-6d3389b14513
STATUS:CONFIRMED
LAST-MODIFIED:20241121T194237Z
DESCRIPTION:5ème ligue Hommes Gr.3 Phase A\nBegegnungs-Nr: 22\nHeim: Meyrin VI\nGast: Châtelaine IX\n
LOCATION:
CATEGORIES:Saison 2024/25
END:VEVENT
BEGIN:VEVENT
DTSTAMP:20260425T004235Z
DTSTART;TZID=Europe/Berlin:20241127T194500
DTEND;TZID=Europe/Berlin:20241127T224500
SUMMARY:Ligue 5 Gr.3 Ph.A Meyrin VI vs Collex-Bossy II (26)
UID:8a5bf422-0f71-45d4-9a6b-c843dfae44ed
STATUS:CONFIRMED
LAST-MODIFIED:20241128T090255Z
DESCRIPTION:5ème ligue Hommes Gr.3 Phase A\nBegegnungs-Nr: 26\nHeim: Meyrin VI\nGast: Collex-Bossy II\n
LOCATION:
CATEGORIES:Saison 2024/25
END:VEVENT
BEGIN:VEVENT
DTSTAMP:20260425T004235Z
DTSTART;TZID=Europe/Berlin:20250129T194500
DTEND;TZID=Europe/Berlin:20250129T224500
SUMMARY:Ligue 5 Gr.2 Ph.B Meyrin VI vs Châtelaine IX (7)
UID:2bdfd944-f0b8-4a12-ac38-9edab5fb3575
STATUS:CONFIRMED
LAST-MODIFIED:20250130T092004Z
DESCRIPTION:5ème ligue Hommes Gr.2 Phase B\nBegegnungs-Nr: 7\nHeim: Meyrin VI\nGast: Châtelaine IX\n
LOCATION:
CATEGORIES:Saison 2024/25
END:VEVENT
BEGIN:VEVENT
DTSTAMP:20260425T004235Z
DTSTART;TZID=Europe/Berlin:20250409T194500
DTEND;TZID=Europe/Berlin:20250409T224500
SUMMARY:Ligue 5 Gr.2 Ph.B Meyrin VI vs Collex-Bossy II (25)
UID:f08de8df-fb46-4fea-8e89-1733f7ef1487
STATUS:CONFIRMED
LAST-MODIFIED:20250410T142603Z
DESCRIPTION:5ème ligue Hommes Gr.2 Phase B\nBegegnungs-Nr: 25\nHeim: Meyrin VI\nGast: Collex-Bossy II\n
LOCATION:
CATEGORIES:Saison 2024/25
END:VEVENT
BEGIN:VEVENT
DTSTAMP:20260425T004235Z
DTSTART;TZID=Europe/Berlin:20250319T194500
DTEND;TZID=Europe/Berlin:20250319T224500
SUMMARY:Ligue 5 Gr.2 Ph.B Meyrin VI vs Grand-Saconnex IV (21)
UID:2ba32043-c6a3-4d64-997c-ade01243703c
STATUS:CONFIRMED
LAST-MODIFIED:20250320T115127Z
DESCRIPTION:5ème ligue Hommes Gr.2 Phase B\nBegegnungs-Nr: 21\nHeim: Meyrin VI\nGast: Grand-Saconnex IV\n
LOCATION:
CATEGORIES:Saison 2024/25
END:VEVENT
BEGIN:VEVENT
DTSTAMP:20260425T004235Z
DTSTART;TZID=Europe/Berlin:20250115T194500
DTEND;TZID=Europe/Berlin:20250115T224500
SUMMARY:Ligue 5 Gr.2 Ph.B Meyrin VI vs Puplinge III (1)
UID:c32de3eb-aea0-4a69-960c-9243e6ae7f76
STATUS:CONFIRMED
LAST-MODIFIED:20250116T095510Z
DESCRIPTION:5ème ligue Hommes Gr.2 Phase B\nBegegnungs-Nr: 1\nHeim: Meyrin VI\nGast: Puplinge III\n
LOCATION:
CATEGORIES:Saison 2024/25
END:VEVENT
BEGIN:VEVENT
DTSTAMP:20260425T004235Z
DTSTART;TZID=Europe/Berlin:20250219T194500
DTEND;TZID=Europe/Berlin:20250219T224500
SUMMARY:Ligue 5 Gr.2 Ph.B Meyrin VI vs Veyrier III (13)
UID:16f2d741-8c3e-46f9-a4db-2dc26433ba3d
STATUS:CONFIRMED
LAST-MODIFIED:20250220T090601Z
DESCRIPTION:5ème ligue Hommes Gr.2 Phase B\nBegegnungs-Nr: 13\nHeim: Meyrin VI\nGast: Veyrier III\n
LOCATION:
CATEGORIES:Saison 2024/25
END:VEVENT
BEGIN:VEVENT
DTSTAMP:20260425T004235Z
DTSTART;TZID=Europe/Berlin:20240912T200000
DTEND;TZID=Europe/Berlin:20240912T230000
SUMMARY:Ligue 5 Gr.3 Ph.A Onex IV vs Meyrin VI (2)
UID:f7560c6b-821f-49db-9777-750a2fba84fe
STATUS:CONFIRMED
LAST-MODIFIED:20240913T161132Z
DESCRIPTION:5ème ligue Hommes Gr.3 Phase A\nBegegnungs-Nr: 2\nHeim: Onex IV\nGast: Meyrin VI\n
LOCATION:
CATEGORIES:Saison 2024/25
END:VEVENT
BEGIN:VEVENT
DTSTAMP:20260425T004235Z
DTSTART;TZID=Europe/Berlin:20240925T194500
DTEND;TZID=Europe/Berlin:20240925T224500
SUMMARY:Ligue 5 Gr.3 Ph.A Châtelaine IX vs Meyrin VI (7)
UID:3478cad4-994e-45a3-9b3f-98fb7321eaf2
STATUS:CONFIRMED
LAST-MODIFIED:20240927T081142Z
DESCRIPTION:5ème ligue Hommes Gr.3 Phase A\nBegegnungs-Nr: 7\nHeim: Châtelaine IX\nGast: Meyrin VI\n
LOCATION:
CATEGORIES:Saison 2024/25
END:VEVENT
BEGIN:VEVENT
DTSTAMP:20260425T004235Z
DTSTART;TZID=Europe/Berlin:20241008T194500
DTEND;TZID=Europe/Berlin:20241008T224500
SUMMARY:Ligue 5 Gr.3 Ph.A Collex-Bossy II vs Meyrin VI (11)
UID:c644c25c-646d-40b3-ac3b-cdbdecb18795
STATUS:CONFIRMED
LAST-MODIFIED:20241009T190451Z
DESCRIPTION:5ème ligue Hommes Gr.3 Phase A\nBegegnungs-Nr: 11\nHeim: Collex-Bossy II\nGast: Meyrin VI\n
LOCATION:
CATEGORIES:Saison 2024/25
END:VEVENT
BEGIN:VEVENT
DTSTAMP:20260425T004235Z
DTSTART;TZID=Europe/Berlin:20241202T194500
DTEND;TZID=Europe/Berlin:20241202T224500
SUMMARY:Ligue 5 Gr.3 Ph.A Silver Star IX vs Meyrin VI (30)
UID:219970a1-5075-4865-b5b4-b03a20840de4
STATUS:CONFIRMED
LAST-MODIFIED:20241203T165830Z
DESCRIPTION:5ème ligue Hommes Gr.3 Phase A\nBegegnungs-Nr: 30\nHeim: Silver Star IX\nGast: Meyrin VI\n
LOCATION:
CATEGORIES:Saison 2024/25
END:VEVENT
BEGIN:VEVENT
DTSTAMP:20260425T004235Z
DTSTART;TZID=Europe/Berlin:20241111T194500
DTEND;TZID=Europe/Berlin:20241111T224500
SUMMARY:Ligue 5 Gr.3 Ph.A Grand-Saconnex V vs Meyrin VI (19)
UID:80425c86-7144-4679-aa28-5f00ca2c2be3
STATUS:CONFIRMED
LAST-MODIFIED:20241112T221822Z
DESCRIPTION:5ème ligue Hommes Gr.3 Phase A\nBegegnungs-Nr: 19\nHeim: Grand-Saconnex V\nGast: Meyrin VI\n
LOCATION:
CATEGORIES:Saison 2024/25
END:VEVENT
BEGIN:VEVENT
DTSTAMP:20260425T004235Z
DTSTART;TZID=Europe/Berlin:20250519T194500
DTEND;TZID=Europe/Berlin:20250519T224500
SUMMARY:Ligue 5 Titre demi Silver Star IX vs Meyrin VI (2)
UID:973cff87-ef31-4ce0-9bcb-dd94f4d6915e
STATUS:CONFIRMED
LAST-MODIFIED:20250522T065819Z
DESCRIPTION:5ème ligue Hommes Titre demi\nBegegnungs-Nr: 2\nHeim: Silver Star IX\nGast: Meyrin VI\n
LOCATION:
CATEGORIES:Saison 2024/25
END:VEVENT
BEGIN:VEVENT
DTSTAMP:20260425T004235Z
DTSTART;TZID=Europe/Berlin:20250120T194500
DTEND;TZID=Europe/Berlin:20250120T224500
SUMMARY:Ligue 5 Gr.2 Ph.B Grand-Saconnex IV vs Meyrin VI (6)
UID:635ed802-9d13-40d9-8eff-3c98522c6ed8
STATUS:CONFIRMED
LAST-MODIFIED:20250213T074058Z
DESCRIPTION:5ème ligue Hommes Gr.2 Phase B\nBegegnungs-Nr: 6\nHeim: Grand-Saconnex IV\nGast: Meyrin VI\n
LOCATION:
CATEGORIES:Saison 2024/25
END:VEVENT
BEGIN:VEVENT
DTSTAMP:20260425T004235Z
DTSTART;TZID=Europe/Berlin:20250416T194500
DTEND;TZID=Europe/Berlin:20250416T224500
SUMMARY:Ligue 5 Gr.2 Ph.B Veyrier III vs Meyrin VI (28)
UID:14c8ff03-589b-43d8-b477-a99b2fca84c1
STATUS:CONFIRMED
LAST-MODIFIED:20250417T094501Z
DESCRIPTION:5ème ligue Hommes Gr.2 Phase B\nBegegnungs-Nr: 28\nHeim: Veyrier III\nGast: Meyrin VI\n\nAdresse: -\, 1255 Veyrier\n
LOCATION:-\, 1255 Veyrier
CATEGORIES:Saison 2024/25
END:VEVENT
BEGIN:VEVENT
DTSTAMP:20260425T004235Z
DTSTART;TZID=Europe/Berlin:20250402T194500
DTEND;TZID=Europe/Berlin:20250402T224500
SUMMARY:Ligue 5 Gr.2 Ph.B Châtelaine IX vs Meyrin VI (22)
UID:4d7bf0e1-2a7b-424c-a919-1ca3f176d214
STATUS:CONFIRMED
LAST-MODIFIED:20250403T180728Z
DESCRIPTION:5ème ligue Hommes Gr.2 Phase B\nBegegnungs-Nr: 22\nHeim: Châtelaine IX\nGast: Meyrin VI\n
LOCATION:
CATEGORIES:Saison 2024/25
END:VEVENT
BEGIN:VEVENT
DTSTAMP:20260425T004235Z
DTSTART;TZID=Europe/Berlin:20250310T194500
DTEND;TZID=Europe/Berlin:20250310T224500
SUMMARY:Ligue 5 Gr.2 Ph.B Puplinge III vs Meyrin VI (16)
UID:8cf38e59-2c3c-457f-8d3e-62d697e24f61
STATUS:CONFIRMED
LAST-MODIFIED:20250313T183924Z
DESCRIPTION:5ème ligue Hommes Gr.2 Phase B\nBegegnungs-Nr: 16\nHeim: Puplinge III\nGast: Meyrin VI\n\nAdresse: Chemin de la Brenaz\,  15\, 1241 Puplinge\n
LOCATION:Chemin de la Brenaz\,  15\, 1241 Puplinge
CATEGORIES:Saison 2024/25
END:VEVENT
BEGIN:VEVENT
DTSTAMP:20260425T004235Z
DTSTART;TZID=Europe/Berlin:20250210T194500
DTEND;TZID=Europe/Berlin:20250210T224500
SUMMARY:Ligue 5 Gr.2 Ph.B Collex-Bossy II vs Meyrin VI (10)
UID:f87a49df-bd6c-4dc1-84d5-59702ef5e0d2
STATUS:CONFIRMED
LAST-MODIFIED:20250211T171018Z
DESCRIPTION:5ème ligue Hommes Gr.2 Phase B\nBegegnungs-Nr: 10\nHeim: Collex-Bossy II\nGast: Meyrin VI\n
LOCATION:
CATEGORIES:Saison 2024/25
END:VEVENT
END:VCALENDAR
