BEGIN:VCALENDAR
PRODID:-//nuDatenautomaten//framework iCal4j //DE
VERSION:2.0
CALSCALE:GREGORIAN
BEGIN:VTIMEZONE
TZID:Europe/Berlin
LAST-MODIFIED:20260306T231828Z
TZURL:https://www.tzurl.org/zoneinfo/Europe/Berlin
X-LIC-LOCATION:Europe/Berlin
X-PROLEPTIC-TZNAME:LMT
BEGIN:STANDARD
TZNAME:CET
TZOFFSETFROM:+005328
TZOFFSETTO:+0100
DTSTART:18930401T000000
END:STANDARD
BEGIN:DAYLIGHT
TZNAME:CEST
TZOFFSETFROM:+0100
TZOFFSETTO:+0200
DTSTART:19160430T230000
RDATE:19400401T020000
RDATE:19430329T020000
RDATE:19460414T020000
RDATE:19470406T030000
RDATE:19480418T020000
RDATE:19490410T020000
RDATE:19800406T020000
END:DAYLIGHT
BEGIN:STANDARD
TZNAME:CET
TZOFFSETFROM:+0200
TZOFFSETTO:+0100
DTSTART:19161001T010000
RDATE:19421102T030000
RDATE:19431004T030000
RDATE:19441002T030000
RDATE:19451118T030000
RDATE:19461007T030000
END:STANDARD
BEGIN:DAYLIGHT
TZNAME:CEST
TZOFFSETFROM:+0100
TZOFFSETTO:+0200
DTSTART:19170416T020000
RRULE:FREQ=YEARLY;UNTIL=19180415T010000Z;BYMONTH=4;BYDAY=3MO
END:DAYLIGHT
BEGIN:STANDARD
TZNAME:CET
TZOFFSETFROM:+0200
TZOFFSETTO:+0100
DTSTART:19170917T030000
RRULE:FREQ=YEARLY;UNTIL=19180916T010000Z;BYMONTH=9;BYDAY=3MO
END:STANDARD
BEGIN:DAYLIGHT
TZNAME:CEST
TZOFFSETFROM:+0100
TZOFFSETTO:+0200
DTSTART:19440403T020000
RRULE:FREQ=YEARLY;UNTIL=19450402T010000Z;BYMONTH=4;BYDAY=1MO
END:DAYLIGHT
BEGIN:DAYLIGHT
TZNAME:CEMT
TZOFFSETFROM:+0200
TZOFFSETTO:+0300
DTSTART:19450524T020000
RDATE:19470511T030000
END:DAYLIGHT
BEGIN:DAYLIGHT
TZNAME:CEST
TZOFFSETFROM:+0300
TZOFFSETTO:+0200
DTSTART:19450924T030000
RDATE:19470629T030000
END:DAYLIGHT
BEGIN:STANDARD
TZNAME:CET
TZOFFSETFROM:+0100
TZOFFSETTO:+0100
DTSTART:19460101T000000
RDATE:19800101T000000
END:STANDARD
BEGIN:STANDARD
TZNAME:CET
TZOFFSETFROM:+0200
TZOFFSETTO:+0100
DTSTART:19471005T030000
RRULE:FREQ=YEARLY;UNTIL=19491002T010000Z;BYMONTH=10;BYDAY=1SU
END:STANDARD
BEGIN:STANDARD
TZNAME:CET
TZOFFSETFROM:+0200
TZOFFSETTO:+0100
DTSTART:19800928T030000
RRULE:FREQ=YEARLY;UNTIL=19950924T010000Z;BYMONTH=9;BYDAY=-1SU
END:STANDARD
BEGIN:DAYLIGHT
TZNAME:CEST
TZOFFSETFROM:+0100
TZOFFSETTO:+0200
DTSTART:19810329T020000
RRULE:FREQ=YEARLY;BYMONTH=3;BYDAY=-1SU
END:DAYLIGHT
BEGIN:STANDARD
TZNAME:CET
TZOFFSETFROM:+0200
TZOFFSETTO:+0100
DTSTART:19961027T030000
RRULE:FREQ=YEARLY;BYMONTH=10;BYDAY=-1SU
END:STANDARD
END:VTIMEZONE
BEGIN:VEVENT
DTSTAMP:20260425T022333Z
DTSTART;TZID=Europe/Berlin:20250127T193000
DTEND;TZID=Europe/Berlin:20250127T223000
SUMMARY:DA 1. Liga Gr. 1 Rapperswil-Jona vs Zürich-Affoltern II (0)
UID:4b3d1988-c7f1-4d4d-8fb3-e36e856212d1
STATUS:CONFIRMED
LAST-MODIFIED:20250129T133231Z
DESCRIPTION:1. Liga Damen Gruppe 1\nBegegnungs-Nr: 0\nHeim: Rapperswil-Jona\nGast: Zürich-Affoltern II\n\nAdresse: Holzwiesstrasse 39\, 8645 Jona\n
LOCATION:Holzwiesstrasse 39\, 8645 Jona
CATEGORIES:Saison 2024/25
END:VEVENT
BEGIN:VEVENT
DTSTAMP:20260425T022333Z
DTSTART;TZID=Europe/Berlin:20250106T193000
DTEND;TZID=Europe/Berlin:20250106T223000
SUMMARY:DA 1. Liga Gr. 1 Rapperswil-Jona vs Wädenswil II (0)
UID:7546dc28-d0a8-4579-9244-5c14a2378638
STATUS:CONFIRMED
LAST-MODIFIED:20250114T094231Z
DESCRIPTION:1. Liga Damen Gruppe 1\nBegegnungs-Nr: 0\nHeim: Rapperswil-Jona\nGast: Wädenswil II\n\nAdresse: Holzwiesstrasse 39\, 8645 Jona\n
LOCATION:Holzwiesstrasse 39\, 8645 Jona
CATEGORIES:Saison 2024/25
END:VEVENT
BEGIN:VEVENT
DTSTAMP:20260425T022333Z
DTSTART;TZID=Europe/Berlin:20241028T193000
DTEND;TZID=Europe/Berlin:20241028T223000
SUMMARY:DA 1. Liga Gr. 1 Rapperswil-Jona vs Zürich-Affoltern III (0)
UID:309e80dc-5315-4469-bfc5-839db3670b39
STATUS:CONFIRMED
LAST-MODIFIED:20241108T151246Z
DESCRIPTION:1. Liga Damen Gruppe 1\nBegegnungs-Nr: 0\nHeim: Rapperswil-Jona\nGast: Zürich-Affoltern III\n\nAdresse: Holzwiesstrasse 39\, 8645 Jona\n
LOCATION:Holzwiesstrasse 39\, 8645 Jona
CATEGORIES:Saison 2024/25
END:VEVENT
BEGIN:VEVENT
DTSTAMP:20260425T022333Z
DTSTART;TZID=Europe/Berlin:20240923T193000
DTEND;TZID=Europe/Berlin:20240923T223000
SUMMARY:DA 1. Liga Gr. 1 Rapperswil-Jona vs Uster II (0)
UID:8074d2f4-f20c-4978-aac5-5ed7fb7df321
STATUS:CONFIRMED
LAST-MODIFIED:20240930T125353Z
DESCRIPTION:1. Liga Damen Gruppe 1\nBegegnungs-Nr: 0\nHeim: Rapperswil-Jona\nGast: Uster II\n\nAdresse: Holzwiesstrasse 39\, 8645 Jona\n
LOCATION:Holzwiesstrasse 39\, 8645 Jona
CATEGORIES:Saison 2024/25
END:VEVENT
BEGIN:VEVENT
DTSTAMP:20260425T022333Z
DTSTART;TZID=Europe/Berlin:20240902T193000
DTEND;TZID=Europe/Berlin:20240902T223000
SUMMARY:DA 1. Liga Gr. 1 Rapperswil-Jona vs Wetzikon II (0)
UID:56c687a6-660c-44db-8f1f-7eede32d40fd
STATUS:CONFIRMED
LAST-MODIFIED:20240904T121322Z
DESCRIPTION:1. Liga Damen Gruppe 1\nBegegnungs-Nr: 0\nHeim: Rapperswil-Jona\nGast: Wetzikon II\n\nAdresse: Holzwiesstrasse 39\, 8645 Jona\n
LOCATION:Holzwiesstrasse 39\, 8645 Jona
CATEGORIES:Saison 2024/25
END:VEVENT
BEGIN:VEVENT
DTSTAMP:20260425T022333Z
DTSTART;TZID=Europe/Berlin:20250324T193000
DTEND;TZID=Europe/Berlin:20250324T223000
SUMMARY:DA 1. Liga Gr. 1 Rapperswil-Jona vs Horgen (0)
UID:50650a80-0bd5-4faf-b472-2a2150962497
STATUS:CONFIRMED
LAST-MODIFIED:20250327T141652Z
DESCRIPTION:1. Liga Damen Gruppe 1\nBegegnungs-Nr: 0\nHeim: Rapperswil-Jona\nGast: Horgen\n\nAdresse: Holzwiesstrasse 39\, 8645 Jona\n
LOCATION:Holzwiesstrasse 39\, 8645 Jona
CATEGORIES:Saison 2024/25
END:VEVENT
BEGIN:VEVENT
DTSTAMP:20260425T022333Z
DTSTART;TZID=Europe/Berlin:20250310T193000
DTEND;TZID=Europe/Berlin:20250310T223000
SUMMARY:DA 1. Liga Gr. 1 Rapperswil-Jona vs Bronschhofen (0)
UID:a1afb34a-77fe-4436-a6b8-48ca5cf58b81
STATUS:CONFIRMED
LAST-MODIFIED:20250313T103930Z
DESCRIPTION:1. Liga Damen Gruppe 1\nBegegnungs-Nr: 0\nHeim: Rapperswil-Jona\nGast: Bronschhofen\n\nAdresse: Holzwiesstrasse 39\, 8645 Jona\n
LOCATION:Holzwiesstrasse 39\, 8645 Jona
CATEGORIES:Saison 2024/25
END:VEVENT
BEGIN:VEVENT
DTSTAMP:20260425T022333Z
DTSTART;TZID=Europe/Berlin:20250305T194500
DTEND;TZID=Europe/Berlin:20250305T224500
SUMMARY:DA 1. Liga Gr. 1 Zürich-Affoltern III vs Rapperswil-Jona (0)
UID:e8a13cea-49a3-430c-89eb-a8afdef7b5c4
STATUS:CONFIRMED
LAST-MODIFIED:20250313T103915Z
DESCRIPTION:1. Liga Damen Gruppe 1\nBegegnungs-Nr: 0\nHeim: Zürich-Affoltern III\nGast: Rapperswil-Jona\n\nAdresse: Fronwaldstr.115\, 8046 Zürich\n
LOCATION:Fronwaldstr.115\, 8046 Zürich
CATEGORIES:Saison 2024/25
END:VEVENT
BEGIN:VEVENT
DTSTAMP:20260425T022333Z
DTSTART;TZID=Europe/Berlin:20250214T201500
DTEND;TZID=Europe/Berlin:20250214T231500
SUMMARY:DA 1. Liga Gr. 1 Uster II vs Rapperswil-Jona (0)
UID:705ef168-1a3e-48e8-80f6-aa4446bd7b1f
STATUS:CONFIRMED
LAST-MODIFIED:20250219T144557Z
DESCRIPTION:1. Liga Damen Gruppe 1\nBegegnungs-Nr: 0\nHeim: Uster II\nGast: Rapperswil-Jona\n\nAdresse: Wilstrasse 30 / Zürcherstrasse\, 8610 Uster\n
LOCATION:Wilstrasse 30 / Zürcherstrasse\, 8610 Uster
CATEGORIES:Saison 2024/25
END:VEVENT
BEGIN:VEVENT
DTSTAMP:20260425T022333Z
DTSTART;TZID=Europe/Berlin:20250120T194500
DTEND;TZID=Europe/Berlin:20250120T224500
SUMMARY:DA 1. Liga Gr. 1 Wetzikon II vs Rapperswil-Jona (0)
UID:d2ca023e-504e-4776-88b9-3fe925358a9a
STATUS:CONFIRMED
LAST-MODIFIED:20250123T143240Z
DESCRIPTION:1. Liga Damen Gruppe 1\nBegegnungs-Nr: 0\nHeim: Wetzikon II\nGast: Rapperswil-Jona\n\nAdresse: Usterstrasse 37\, 8620 Wetzikon\n
LOCATION:Usterstrasse 37\, 8620 Wetzikon
CATEGORIES:Saison 2024/25
END:VEVENT
BEGIN:VEVENT
DTSTAMP:20260425T022333Z
DTSTART;TZID=Europe/Berlin:20241203T200000
DTEND;TZID=Europe/Berlin:20241203T230000
SUMMARY:DA 1. Liga Gr. 1 Horgen vs Rapperswil-Jona (0)
UID:90c16731-9edd-4c8d-91fb-aa7b2e859ea1
STATUS:CONFIRMED
LAST-MODIFIED:20241211T104836Z
DESCRIPTION:1. Liga Damen Gruppe 1\nBegegnungs-Nr: 0\nHeim: Horgen\nGast: Rapperswil-Jona\n\nAdresse: Seestrasse 110\, 8810 Horgen\n
LOCATION:Seestrasse 110\, 8810 Horgen
CATEGORIES:Saison 2024/25
END:VEVENT
BEGIN:VEVENT
DTSTAMP:20260425T022333Z
DTSTART;TZID=Europe/Berlin:20241108T200000
DTEND;TZID=Europe/Berlin:20241108T230000
SUMMARY:DA 1. Liga Gr. 1 Bronschhofen vs Rapperswil-Jona (0)
UID:5ec64df4-b53a-44c8-b6ba-072579815297
STATUS:CONFIRMED
LAST-MODIFIED:20241126T090716Z
DESCRIPTION:1. Liga Damen Gruppe 1\nBegegnungs-Nr: 0\nHeim: Bronschhofen\nGast: Rapperswil-Jona\n\nAdresse: Schulstrasse 6\, 9552 Bronschhofen\n
LOCATION:Schulstrasse 6\, 9552 Bronschhofen
CATEGORIES:Saison 2024/25
END:VEVENT
BEGIN:VEVENT
DTSTAMP:20260425T022333Z
DTSTART;TZID=Europe/Berlin:20240919T201500
DTEND;TZID=Europe/Berlin:20240919T231500
SUMMARY:DA 1. Liga Gr. 1 Zürich-Affoltern II vs Rapperswil-Jona (0)
UID:ecfabf2f-4184-430d-8322-902d2faf8385
STATUS:CONFIRMED
LAST-MODIFIED:20240920T140314Z
DESCRIPTION:1. Liga Damen Gruppe 1\nBegegnungs-Nr: 0\nHeim: Zürich-Affoltern II\nGast: Rapperswil-Jona\n\nAdresse: Rümlangstr. 89\, 8052 Zürich\n
LOCATION:Rümlangstr. 89\, 8052 Zürich
CATEGORIES:Saison 2024/25
END:VEVENT
BEGIN:VEVENT
DTSTAMP:20260425T022333Z
DTSTART;TZID=Europe/Berlin:20240829T200000
DTEND;TZID=Europe/Berlin:20240829T230000
SUMMARY:DA 1. Liga Gr. 1 Wädenswil II vs Rapperswil-Jona (0)
UID:aa933836-f725-482d-9b5e-2b727e720d03
STATUS:CONFIRMED
LAST-MODIFIED:20240904T121207Z
DESCRIPTION:1. Liga Damen Gruppe 1\nBegegnungs-Nr: 0\nHeim: Wädenswil II\nGast: Rapperswil-Jona\n\nAdresse: Speerstrasse 95\, 8820 Wädenswil\n
LOCATION:Speerstrasse 95\, 8820 Wädenswil
CATEGORIES:Saison 2024/25
END:VEVENT
END:VCALENDAR
