BEGIN:VCALENDAR
PRODID:-//nuDatenautomaten//framework iCal4j //DE
VERSION:2.0
CALSCALE:GREGORIAN
BEGIN:VTIMEZONE
TZID:Europe/Berlin
LAST-MODIFIED:20260306T231828Z
TZURL:https://www.tzurl.org/zoneinfo/Europe/Berlin
X-LIC-LOCATION:Europe/Berlin
X-PROLEPTIC-TZNAME:LMT
BEGIN:STANDARD
TZNAME:CET
TZOFFSETFROM:+005328
TZOFFSETTO:+0100
DTSTART:18930401T000000
END:STANDARD
BEGIN:DAYLIGHT
TZNAME:CEST
TZOFFSETFROM:+0100
TZOFFSETTO:+0200
DTSTART:19160430T230000
RDATE:19400401T020000
RDATE:19430329T020000
RDATE:19460414T020000
RDATE:19470406T030000
RDATE:19480418T020000
RDATE:19490410T020000
RDATE:19800406T020000
END:DAYLIGHT
BEGIN:STANDARD
TZNAME:CET
TZOFFSETFROM:+0200
TZOFFSETTO:+0100
DTSTART:19161001T010000
RDATE:19421102T030000
RDATE:19431004T030000
RDATE:19441002T030000
RDATE:19451118T030000
RDATE:19461007T030000
END:STANDARD
BEGIN:DAYLIGHT
TZNAME:CEST
TZOFFSETFROM:+0100
TZOFFSETTO:+0200
DTSTART:19170416T020000
RRULE:FREQ=YEARLY;UNTIL=19180415T010000Z;BYMONTH=4;BYDAY=3MO
END:DAYLIGHT
BEGIN:STANDARD
TZNAME:CET
TZOFFSETFROM:+0200
TZOFFSETTO:+0100
DTSTART:19170917T030000
RRULE:FREQ=YEARLY;UNTIL=19180916T010000Z;BYMONTH=9;BYDAY=3MO
END:STANDARD
BEGIN:DAYLIGHT
TZNAME:CEST
TZOFFSETFROM:+0100
TZOFFSETTO:+0200
DTSTART:19440403T020000
RRULE:FREQ=YEARLY;UNTIL=19450402T010000Z;BYMONTH=4;BYDAY=1MO
END:DAYLIGHT
BEGIN:DAYLIGHT
TZNAME:CEMT
TZOFFSETFROM:+0200
TZOFFSETTO:+0300
DTSTART:19450524T020000
RDATE:19470511T030000
END:DAYLIGHT
BEGIN:DAYLIGHT
TZNAME:CEST
TZOFFSETFROM:+0300
TZOFFSETTO:+0200
DTSTART:19450924T030000
RDATE:19470629T030000
END:DAYLIGHT
BEGIN:STANDARD
TZNAME:CET
TZOFFSETFROM:+0100
TZOFFSETTO:+0100
DTSTART:19460101T000000
RDATE:19800101T000000
END:STANDARD
BEGIN:STANDARD
TZNAME:CET
TZOFFSETFROM:+0200
TZOFFSETTO:+0100
DTSTART:19471005T030000
RRULE:FREQ=YEARLY;UNTIL=19491002T010000Z;BYMONTH=10;BYDAY=1SU
END:STANDARD
BEGIN:STANDARD
TZNAME:CET
TZOFFSETFROM:+0200
TZOFFSETTO:+0100
DTSTART:19800928T030000
RRULE:FREQ=YEARLY;UNTIL=19950924T010000Z;BYMONTH=9;BYDAY=-1SU
END:STANDARD
BEGIN:DAYLIGHT
TZNAME:CEST
TZOFFSETFROM:+0100
TZOFFSETTO:+0200
DTSTART:19810329T020000
RRULE:FREQ=YEARLY;BYMONTH=3;BYDAY=-1SU
END:DAYLIGHT
BEGIN:STANDARD
TZNAME:CET
TZOFFSETFROM:+0200
TZOFFSETTO:+0100
DTSTART:19961027T030000
RRULE:FREQ=YEARLY;BYMONTH=10;BYDAY=-1SU
END:STANDARD
END:VTIMEZONE
BEGIN:VEVENT
DTSTAMP:20260425T004240Z
DTSTART;TZID=Europe/Berlin:20250220T201500
DTEND;TZID=Europe/Berlin:20250220T231500
SUMMARY:O40 3. Liga Gr. 3 Flums vs Horgen (0)
UID:55b554e5-0289-46b8-a856-7d9ec1d63b50
STATUS:CONFIRMED
LAST-MODIFIED:20250227T124307Z
DESCRIPTION:3. Liga O40 Gruppe 3\nBegegnungs-Nr: 0\nHeim: Flums\nGast: Horgen\n\nAdresse: Bergstrasse\, 8890 Flums\n
LOCATION:Bergstrasse\, 8890 Flums
CATEGORIES:Saison 2024/25
END:VEVENT
BEGIN:VEVENT
DTSTAMP:20260425T004240Z
DTSTART;TZID=Europe/Berlin:20250206T201500
DTEND;TZID=Europe/Berlin:20250206T231500
SUMMARY:O40 3. Liga Gr. 3 Flums vs Wollerau (0)
UID:815d82ce-dbe7-4159-97fc-9189611a0c2c
STATUS:CONFIRMED
LAST-MODIFIED:20250219T160206Z
DESCRIPTION:3. Liga O40 Gruppe 3\nBegegnungs-Nr: 0\nHeim: Flums\nGast: Wollerau\n\nAdresse: Bergstrasse\, 8890 Flums\n
LOCATION:Bergstrasse\, 8890 Flums
CATEGORIES:Saison 2024/25
END:VEVENT
BEGIN:VEVENT
DTSTAMP:20260425T004240Z
DTSTART;TZID=Europe/Berlin:20241212T201500
DTEND;TZID=Europe/Berlin:20241212T231500
SUMMARY:O40 3. Liga Gr. 3 Flums vs BW-Wollishofen (0)
UID:983b548c-8a76-4af1-9503-33327f8bebf8
STATUS:CONFIRMED
LAST-MODIFIED:20241213T102055Z
DESCRIPTION:3. Liga O40 Gruppe 3\nBegegnungs-Nr: 0\nHeim: Flums\nGast: BW-Wollishofen\n\nAdresse: Bergstrasse\, 8890 Flums\n
LOCATION:Bergstrasse\, 8890 Flums
CATEGORIES:Saison 2024/25
END:VEVENT
BEGIN:VEVENT
DTSTAMP:20260425T004240Z
DTSTART;TZID=Europe/Berlin:20241128T201500
DTEND;TZID=Europe/Berlin:20241128T231500
SUMMARY:O40 3. Liga Gr. 3 Flums vs Affoltern A/A II (0)
UID:fd581782-216f-4719-8ace-133b3d32243a
STATUS:CONFIRMED
LAST-MODIFIED:20241205T130157Z
DESCRIPTION:3. Liga O40 Gruppe 3\nBegegnungs-Nr: 0\nHeim: Flums\nGast: Affoltern A/A II\n\nAdresse: Bergstrasse\, 8890 Flums\n
LOCATION:Bergstrasse\, 8890 Flums
CATEGORIES:Saison 2024/25
END:VEVENT
BEGIN:VEVENT
DTSTAMP:20260425T004240Z
DTSTART;TZID=Europe/Berlin:20241114T201500
DTEND;TZID=Europe/Berlin:20241114T231500
SUMMARY:O40 3. Liga Gr. 3 Flums vs Dietikon-Weiningen (0)
UID:2d0d63c6-21f1-45de-b6ab-1a8af9542181
STATUS:CONFIRMED
LAST-MODIFIED:20241115T150613Z
DESCRIPTION:3. Liga O40 Gruppe 3\nBegegnungs-Nr: 0\nHeim: Flums\nGast: Dietikon-Weiningen\n\nAdresse: Bergstrasse\, 8890 Flums\n
LOCATION:Bergstrasse\, 8890 Flums
CATEGORIES:Saison 2024/25
END:VEVENT
BEGIN:VEVENT
DTSTAMP:20260425T004240Z
DTSTART;TZID=Europe/Berlin:20250402T200000
DTEND;TZID=Europe/Berlin:20250402T230000
SUMMARY:O40 3. Liga Gr. 3 BW-Wollishofen vs Flums (0)
UID:6c215985-14f0-4883-a311-5c455a6364d1
STATUS:CONFIRMED
LAST-MODIFIED:20250404T084022Z
DESCRIPTION:3. Liga O40 Gruppe 3\nBegegnungs-Nr: 0\nHeim: BW-Wollishofen\nGast: Flums\n\nAdresse: Kilchbergstr. 28\, 8038 Zürich\n
LOCATION:Kilchbergstr. 28\, 8038 Zürich
CATEGORIES:Saison 2024/25
END:VEVENT
BEGIN:VEVENT
DTSTAMP:20260425T004240Z
DTSTART;TZID=Europe/Berlin:20250320T193000
DTEND;TZID=Europe/Berlin:20250320T223000
SUMMARY:O40 3. Liga Gr. 3 Affoltern A/A II vs Flums (0)
UID:e1a1b68c-7704-44f6-9bc0-ba188f5b53ce
STATUS:CONFIRMED
LAST-MODIFIED:20250321T124411Z
DESCRIPTION:3. Liga O40 Gruppe 3\nBegegnungs-Nr: 0\nHeim: Affoltern A/A II\nGast: Flums\n\nAdresse: Butzenstrasse 8\, 8910 Affoltern am Albis\n
LOCATION:Butzenstrasse 8\, 8910 Affoltern am Albis
CATEGORIES:Saison 2024/25
END:VEVENT
BEGIN:VEVENT
DTSTAMP:20260425T004240Z
DTSTART;TZID=Europe/Berlin:20241022T200000
DTEND;TZID=Europe/Berlin:20241022T230000
SUMMARY:O40 3. Liga Gr. 3 Horgen vs Flums (0)
UID:73305152-682f-4f38-8dd0-127050b8c755
STATUS:CONFIRMED
LAST-MODIFIED:20241023T082213Z
DESCRIPTION:3. Liga O40 Gruppe 3\nBegegnungs-Nr: 0\nHeim: Horgen\nGast: Flums\n\nAdresse: Seestrasse 110\, 8810 Horgen\n
LOCATION:Seestrasse 110\, 8810 Horgen
CATEGORIES:Saison 2024/25
END:VEVENT
BEGIN:VEVENT
DTSTAMP:20260425T004240Z
DTSTART;TZID=Europe/Berlin:20240909T200000
DTEND;TZID=Europe/Berlin:20240909T230000
SUMMARY:O40 3. Liga Gr. 3 Wollerau vs Flums (0)
UID:30e0a1f0-c8c3-4003-a9d1-b378fdfe35e6
STATUS:CONFIRMED
LAST-MODIFIED:20240913T134051Z
DESCRIPTION:3. Liga O40 Gruppe 3\nBegegnungs-Nr: 0\nHeim: Wollerau\nGast: Flums\n\nAdresse: Erlenstrasse 18\, 8832 Wollerau\n
LOCATION:Erlenstrasse 18\, 8832 Wollerau
CATEGORIES:Saison 2024/25
END:VEVENT
BEGIN:VEVENT
DTSTAMP:20260425T004240Z
DTSTART;TZID=Europe/Berlin:20250110T200000
DTEND;TZID=Europe/Berlin:20250110T230000
SUMMARY:O40 3. Liga Gr. 3 Dietikon-Weiningen vs Flums (0)
UID:4e80862b-6952-4dc4-8df5-f025e9c966b3
STATUS:CONFIRMED
LAST-MODIFIED:20250114T094657Z
DESCRIPTION:3. Liga O40 Gruppe 3\nBegegnungs-Nr: 0\nHeim: Dietikon-Weiningen\nGast: Flums\n\nAdresse: Bohnackerstrasse 5\, 8953 Dietikon\n
LOCATION:Bohnackerstrasse 5\, 8953 Dietikon
CATEGORIES:Saison 2024/25
END:VEVENT
END:VCALENDAR
