BEGIN:VCALENDAR
PRODID:-//nuDatenautomaten//framework iCal4j //DE
VERSION:2.0
CALSCALE:GREGORIAN
BEGIN:VTIMEZONE
TZID:Europe/Berlin
LAST-MODIFIED:20260306T231828Z
TZURL:https://www.tzurl.org/zoneinfo/Europe/Berlin
X-LIC-LOCATION:Europe/Berlin
X-PROLEPTIC-TZNAME:LMT
BEGIN:STANDARD
TZNAME:CET
TZOFFSETFROM:+005328
TZOFFSETTO:+0100
DTSTART:18930401T000000
END:STANDARD
BEGIN:DAYLIGHT
TZNAME:CEST
TZOFFSETFROM:+0100
TZOFFSETTO:+0200
DTSTART:19160430T230000
RDATE:19400401T020000
RDATE:19430329T020000
RDATE:19460414T020000
RDATE:19470406T030000
RDATE:19480418T020000
RDATE:19490410T020000
RDATE:19800406T020000
END:DAYLIGHT
BEGIN:STANDARD
TZNAME:CET
TZOFFSETFROM:+0200
TZOFFSETTO:+0100
DTSTART:19161001T010000
RDATE:19421102T030000
RDATE:19431004T030000
RDATE:19441002T030000
RDATE:19451118T030000
RDATE:19461007T030000
END:STANDARD
BEGIN:DAYLIGHT
TZNAME:CEST
TZOFFSETFROM:+0100
TZOFFSETTO:+0200
DTSTART:19170416T020000
RRULE:FREQ=YEARLY;UNTIL=19180415T010000Z;BYMONTH=4;BYDAY=3MO
END:DAYLIGHT
BEGIN:STANDARD
TZNAME:CET
TZOFFSETFROM:+0200
TZOFFSETTO:+0100
DTSTART:19170917T030000
RRULE:FREQ=YEARLY;UNTIL=19180916T010000Z;BYMONTH=9;BYDAY=3MO
END:STANDARD
BEGIN:DAYLIGHT
TZNAME:CEST
TZOFFSETFROM:+0100
TZOFFSETTO:+0200
DTSTART:19440403T020000
RRULE:FREQ=YEARLY;UNTIL=19450402T010000Z;BYMONTH=4;BYDAY=1MO
END:DAYLIGHT
BEGIN:DAYLIGHT
TZNAME:CEMT
TZOFFSETFROM:+0200
TZOFFSETTO:+0300
DTSTART:19450524T020000
RDATE:19470511T030000
END:DAYLIGHT
BEGIN:DAYLIGHT
TZNAME:CEST
TZOFFSETFROM:+0300
TZOFFSETTO:+0200
DTSTART:19450924T030000
RDATE:19470629T030000
END:DAYLIGHT
BEGIN:STANDARD
TZNAME:CET
TZOFFSETFROM:+0100
TZOFFSETTO:+0100
DTSTART:19460101T000000
RDATE:19800101T000000
END:STANDARD
BEGIN:STANDARD
TZNAME:CET
TZOFFSETFROM:+0200
TZOFFSETTO:+0100
DTSTART:19471005T030000
RRULE:FREQ=YEARLY;UNTIL=19491002T010000Z;BYMONTH=10;BYDAY=1SU
END:STANDARD
BEGIN:STANDARD
TZNAME:CET
TZOFFSETFROM:+0200
TZOFFSETTO:+0100
DTSTART:19800928T030000
RRULE:FREQ=YEARLY;UNTIL=19950924T010000Z;BYMONTH=9;BYDAY=-1SU
END:STANDARD
BEGIN:DAYLIGHT
TZNAME:CEST
TZOFFSETFROM:+0100
TZOFFSETTO:+0200
DTSTART:19810329T020000
RRULE:FREQ=YEARLY;BYMONTH=3;BYDAY=-1SU
END:DAYLIGHT
BEGIN:STANDARD
TZNAME:CET
TZOFFSETFROM:+0200
TZOFFSETTO:+0100
DTSTART:19961027T030000
RRULE:FREQ=YEARLY;BYMONTH=10;BYDAY=-1SU
END:STANDARD
END:VTIMEZONE
BEGIN:VEVENT
DTSTAMP:20260425T021332Z
DTSTART;TZID=Europe/Berlin:20240831T160000
DTEND;TZID=Europe/Berlin:20240831T190000
SUMMARY:JUG\, 3.Liga\, Gr.1\, Vorrunde Affoltern A/A III vs Horgen III (6)
UID:7cec623e-2ab4-42e3-a713-3d229ec6ceee
STATUS:CONFIRMED
LAST-MODIFIED:20240904T131030Z
DESCRIPTION:Jugend\, 3. Liga\,Gruppe 1\, Vorrunde\nBegegnungs-Nr: 6\nHeim: Affoltern A/A III\nGast: Horgen III\n
LOCATION:
CATEGORIES:Saison 2024/25
END:VEVENT
BEGIN:VEVENT
DTSTAMP:20260425T021332Z
DTSTART;TZID=Europe/Berlin:20241116T163000
DTEND;TZID=Europe/Berlin:20241116T193000
SUMMARY:JUG\, 3.Liga\, Gr.1\, Zw-Runde Affoltern A/A III vs Kloten II (6)
UID:1746596c-2b08-4c42-8017-eebd416f7d3a
STATUS:CONFIRMED
LAST-MODIFIED:20241126T095313Z
DESCRIPTION:Jugend\, 3. Liga\, Gruppe 1\, Zw-Runde\nBegegnungs-Nr: 6\nHeim: Affoltern A/A III\nGast: Kloten II\n
LOCATION:
CATEGORIES:Saison 2024/25
END:VEVENT
BEGIN:VEVENT
DTSTAMP:20260425T021332Z
DTSTART;TZID=Europe/Berlin:20250329T130000
DTEND;TZID=Europe/Berlin:20250329T160000
SUMMARY:JUG\, 3.Liga\, Gr.1\, Final Affoltern A/A III vs Urdorf (2)
UID:0056b419-4e54-4283-ab95-3d89a62dbf25
STATUS:CONFIRMED
LAST-MODIFIED:20250404T085028Z
DESCRIPTION:Jugend\, 3. Liga\, Gruppe 1\, Final\nBegegnungs-Nr: 2\nHeim: Affoltern A/A III\nGast: Urdorf\n\nAdresse: Butzenstrasse 8\, 8910 Affoltern am Albis\n
LOCATION:Butzenstrasse 8\, 8910 Affoltern am Albis
CATEGORIES:Saison 2024/25
END:VEVENT
BEGIN:VEVENT
DTSTAMP:20260425T021332Z
DTSTART;TZID=Europe/Berlin:20250329T160000
DTEND;TZID=Europe/Berlin:20250329T190000
SUMMARY:JUG\, 3.Liga\, Gr.1\, Final Affoltern A/A III vs Weinfelden (5)
UID:cc352609-5ba0-4359-ad56-3f9a5b6f8dd2
STATUS:CONFIRMED
LAST-MODIFIED:20250404T085057Z
DESCRIPTION:Jugend\, 3. Liga\, Gruppe 1\, Final\nBegegnungs-Nr: 5\nHeim: Affoltern A/A III\nGast: Weinfelden\n\nAdresse: Butzenstrasse 8\, 8910 Affoltern am Albis\n
LOCATION:Butzenstrasse 8\, 8910 Affoltern am Albis
CATEGORIES:Saison 2024/25
END:VEVENT
BEGIN:VEVENT
DTSTAMP:20260425T021332Z
DTSTART;TZID=Europe/Berlin:20240831T143000
DTEND;TZID=Europe/Berlin:20240831T173000
SUMMARY:JUG\, 3.Liga\, Gr.1\, Vorrunde Urdorf vs Affoltern A/A III (3)
UID:b310ed56-955a-4702-9e8b-2659e946cef6
STATUS:CONFIRMED
LAST-MODIFIED:20240904T130930Z
DESCRIPTION:Jugend\, 3. Liga\,Gruppe 1\, Vorrunde\nBegegnungs-Nr: 3\nHeim: Urdorf\nGast: Affoltern A/A III\n
LOCATION:
CATEGORIES:Saison 2024/25
END:VEVENT
BEGIN:VEVENT
DTSTAMP:20260425T021332Z
DTSTART;TZID=Europe/Berlin:20240831T130000
DTEND;TZID=Europe/Berlin:20240831T160000
SUMMARY:JUG\, 3.Liga\, Gr.1\, Vorrunde Zürich-Affoltern II vs Affoltern A/A III (2)
UID:708bf877-a420-4ea5-96f5-ae7ee3a55df0
STATUS:CONFIRMED
LAST-MODIFIED:20240904T130917Z
DESCRIPTION:Jugend\, 3. Liga\,Gruppe 1\, Vorrunde\nBegegnungs-Nr: 2\nHeim: Zürich-Affoltern II\nGast: Affoltern A/A III\n
LOCATION:
CATEGORIES:Saison 2024/25
END:VEVENT
BEGIN:VEVENT
DTSTAMP:20260425T021332Z
DTSTART;TZID=Europe/Berlin:20241116T150000
DTEND;TZID=Europe/Berlin:20241116T180000
SUMMARY:JUG\, 3.Liga\, Gr.1\, Zw-Runde Ettenhausen vs Affoltern A/A III (3)
UID:52e22932-5809-42a7-8880-ffbee31765cd
STATUS:CONFIRMED
LAST-MODIFIED:20241126T095241Z
DESCRIPTION:Jugend\, 3. Liga\, Gruppe 1\, Zw-Runde\nBegegnungs-Nr: 3\nHeim: Ettenhausen\nGast: Affoltern A/A III\n
LOCATION:
CATEGORIES:Saison 2024/25
END:VEVENT
BEGIN:VEVENT
DTSTAMP:20260425T021332Z
DTSTART;TZID=Europe/Berlin:20241116T133000
DTEND;TZID=Europe/Berlin:20241116T163000
SUMMARY:JUG\, 3.Liga\, Gr.1\, Zw-Runde Zürich-Affoltern III vs Affoltern A/A III (2)
UID:0e0bdebd-e7d2-4e63-81d9-e977a89f283a
STATUS:CONFIRMED
LAST-MODIFIED:20241126T095230Z
DESCRIPTION:Jugend\, 3. Liga\, Gruppe 1\, Zw-Runde\nBegegnungs-Nr: 2\nHeim: Zürich-Affoltern III\nGast: Affoltern A/A III\n
LOCATION:
CATEGORIES:Saison 2024/25
END:VEVENT
BEGIN:VEVENT
DTSTAMP:20260425T021332Z
DTSTART;TZID=Europe/Berlin:20250329T143000
DTEND;TZID=Europe/Berlin:20250329T173000
SUMMARY:JUG\, 3.Liga\, Gr.1\, Final Wil SG vs Affoltern A/A III (4)
UID:806b1f0d-8550-446c-90b4-47ac794c4530
STATUS:CONFIRMED
LAST-MODIFIED:20250404T085048Z
DESCRIPTION:Jugend\, 3. Liga\, Gruppe 1\, Final\nBegegnungs-Nr: 4\nHeim: Wil SG\nGast: Affoltern A/A III\n\nAdresse: Lindenhofstr. 23\, 9500 Wil\n
LOCATION:Lindenhofstr. 23\, 9500 Wil
CATEGORIES:Saison 2024/25
END:VEVENT
END:VCALENDAR
