BEGIN:VCALENDAR
PRODID:-//nuDatenautomaten//framework iCal4j //DE
VERSION:2.0
CALSCALE:GREGORIAN
BEGIN:VTIMEZONE
TZID:Europe/Berlin
LAST-MODIFIED:20260306T231828Z
TZURL:https://www.tzurl.org/zoneinfo/Europe/Berlin
X-LIC-LOCATION:Europe/Berlin
X-PROLEPTIC-TZNAME:LMT
BEGIN:STANDARD
TZNAME:CET
TZOFFSETFROM:+005328
TZOFFSETTO:+0100
DTSTART:18930401T000000
END:STANDARD
BEGIN:DAYLIGHT
TZNAME:CEST
TZOFFSETFROM:+0100
TZOFFSETTO:+0200
DTSTART:19160430T230000
RDATE:19400401T020000
RDATE:19430329T020000
RDATE:19460414T020000
RDATE:19470406T030000
RDATE:19480418T020000
RDATE:19490410T020000
RDATE:19800406T020000
END:DAYLIGHT
BEGIN:STANDARD
TZNAME:CET
TZOFFSETFROM:+0200
TZOFFSETTO:+0100
DTSTART:19161001T010000
RDATE:19421102T030000
RDATE:19431004T030000
RDATE:19441002T030000
RDATE:19451118T030000
RDATE:19461007T030000
END:STANDARD
BEGIN:DAYLIGHT
TZNAME:CEST
TZOFFSETFROM:+0100
TZOFFSETTO:+0200
DTSTART:19170416T020000
RRULE:FREQ=YEARLY;UNTIL=19180415T010000Z;BYMONTH=4;BYDAY=3MO
END:DAYLIGHT
BEGIN:STANDARD
TZNAME:CET
TZOFFSETFROM:+0200
TZOFFSETTO:+0100
DTSTART:19170917T030000
RRULE:FREQ=YEARLY;UNTIL=19180916T010000Z;BYMONTH=9;BYDAY=3MO
END:STANDARD
BEGIN:DAYLIGHT
TZNAME:CEST
TZOFFSETFROM:+0100
TZOFFSETTO:+0200
DTSTART:19440403T020000
RRULE:FREQ=YEARLY;UNTIL=19450402T010000Z;BYMONTH=4;BYDAY=1MO
END:DAYLIGHT
BEGIN:DAYLIGHT
TZNAME:CEMT
TZOFFSETFROM:+0200
TZOFFSETTO:+0300
DTSTART:19450524T020000
RDATE:19470511T030000
END:DAYLIGHT
BEGIN:DAYLIGHT
TZNAME:CEST
TZOFFSETFROM:+0300
TZOFFSETTO:+0200
DTSTART:19450924T030000
RDATE:19470629T030000
END:DAYLIGHT
BEGIN:STANDARD
TZNAME:CET
TZOFFSETFROM:+0100
TZOFFSETTO:+0100
DTSTART:19460101T000000
RDATE:19800101T000000
END:STANDARD
BEGIN:STANDARD
TZNAME:CET
TZOFFSETFROM:+0200
TZOFFSETTO:+0100
DTSTART:19471005T030000
RRULE:FREQ=YEARLY;UNTIL=19491002T010000Z;BYMONTH=10;BYDAY=1SU
END:STANDARD
BEGIN:STANDARD
TZNAME:CET
TZOFFSETFROM:+0200
TZOFFSETTO:+0100
DTSTART:19800928T030000
RRULE:FREQ=YEARLY;UNTIL=19950924T010000Z;BYMONTH=9;BYDAY=-1SU
END:STANDARD
BEGIN:DAYLIGHT
TZNAME:CEST
TZOFFSETFROM:+0100
TZOFFSETTO:+0200
DTSTART:19810329T020000
RRULE:FREQ=YEARLY;BYMONTH=3;BYDAY=-1SU
END:DAYLIGHT
BEGIN:STANDARD
TZNAME:CET
TZOFFSETFROM:+0200
TZOFFSETTO:+0100
DTSTART:19961027T030000
RRULE:FREQ=YEARLY;BYMONTH=10;BYDAY=-1SU
END:STANDARD
END:VTIMEZONE
BEGIN:VEVENT
DTSTAMP:20260425T021332Z
DTSTART;TZID=Europe/Berlin:20250207T200000
DTEND;TZID=Europe/Berlin:20250207T230000
SUMMARY:HE 1. Liga Gr. 1 Wil SG vs Affoltern A/A II (0)
UID:1bec7e9d-7cea-47ea-b810-a4015885c58b
STATUS:CONFIRMED
LAST-MODIFIED:20250213T085520Z
DESCRIPTION:1. Liga Herren Gruppe 1\nBegegnungs-Nr: 0\nHeim: Wil SG\nGast: Affoltern A/A II\n\nAdresse: Bleichestrasse 3 (Neben Hallenbad)\, 8570 Weinfelden\n
LOCATION:Bleichestrasse 3 (Neben Hallenbad)\, 8570 Weinfelden
CATEGORIES:Saison 2024/25
END:VEVENT
BEGIN:VEVENT
DTSTAMP:20260425T021332Z
DTSTART;TZID=Europe/Berlin:20241122T200000
DTEND;TZID=Europe/Berlin:20241122T230000
SUMMARY:HE 1. Liga Gr. 1 Wil SG vs Wetzikon II (0)
UID:60e2cb91-a150-4fa4-9bdb-766c365d47f2
STATUS:CONFIRMED
LAST-MODIFIED:20241126T081324Z
DESCRIPTION:1. Liga Herren Gruppe 1\nBegegnungs-Nr: 0\nHeim: Wil SG\nGast: Wetzikon II\n\nAdresse: Bleichestrasse 3 (Neben Hallenbad)\, 8570 Weinfelden\n
LOCATION:Bleichestrasse 3 (Neben Hallenbad)\, 8570 Weinfelden
CATEGORIES:Saison 2024/25
END:VEVENT
BEGIN:VEVENT
DTSTAMP:20260425T021332Z
DTSTART;TZID=Europe/Berlin:20241101T200000
DTEND;TZID=Europe/Berlin:20241101T230000
SUMMARY:HE 1. Liga Gr. 1 Wil SG vs Chur (0)
UID:51d01a45-e417-4559-aee0-36f95161f8c7
STATUS:CONFIRMED
LAST-MODIFIED:20241104T080913Z
DESCRIPTION:1. Liga Herren Gruppe 1\nBegegnungs-Nr: 0\nHeim: Wil SG\nGast: Chur\n\nAdresse: Bleichestrasse 3 (Neben Hallenbad)\, 8570 Weinfelden\n
LOCATION:Bleichestrasse 3 (Neben Hallenbad)\, 8570 Weinfelden
CATEGORIES:Saison 2024/25
END:VEVENT
BEGIN:VEVENT
DTSTAMP:20260425T021332Z
DTSTART;TZID=Europe/Berlin:20240906T200000
DTEND;TZID=Europe/Berlin:20240906T230000
SUMMARY:HE 1. Liga Gr. 1 Wil SG vs Muolen (0)
UID:2cb3a960-6cbd-44d2-ac63-3e803b192c6e
STATUS:CONFIRMED
LAST-MODIFIED:20240912T071708Z
DESCRIPTION:1. Liga Herren Gruppe 1\nBegegnungs-Nr: 0\nHeim: Wil SG\nGast: Muolen\n\nAdresse: Bleichestrasse 3 (Neben Hallenbad)\, 8570 Weinfelden\n
LOCATION:Bleichestrasse 3 (Neben Hallenbad)\, 8570 Weinfelden
CATEGORIES:Saison 2024/25
END:VEVENT
BEGIN:VEVENT
DTSTAMP:20260425T021332Z
DTSTART;TZID=Europe/Berlin:20241004T200000
DTEND;TZID=Europe/Berlin:20241004T230000
SUMMARY:HE 1. Liga Gr. 1 Wil SG vs St. Gallen II (0)
UID:78b25443-3d28-4c6d-a047-b863031fb0bf
STATUS:CONFIRMED
LAST-MODIFIED:20241017T150626Z
DESCRIPTION:1. Liga Herren Gruppe 1\nBegegnungs-Nr: 0\nHeim: Wil SG\nGast: St. Gallen II\n\nAdresse: Bleichestrasse 3 (Neben Hallenbad)\, 8570 Weinfelden\n
LOCATION:Bleichestrasse 3 (Neben Hallenbad)\, 8570 Weinfelden
CATEGORIES:Saison 2024/25
END:VEVENT
BEGIN:VEVENT
DTSTAMP:20260425T021332Z
DTSTART;TZID=Europe/Berlin:20250314T200000
DTEND;TZID=Europe/Berlin:20250314T230000
SUMMARY:HE 1. Liga Gr. 1 Wil SG vs Bülach (0)
UID:3ff4cd24-427a-4c75-9ff6-c9582c08bf4f
STATUS:CONFIRMED
LAST-MODIFIED:20250318T122033Z
DESCRIPTION:1. Liga Herren Gruppe 1\nBegegnungs-Nr: 0\nHeim: Wil SG\nGast: Bülach\n\nAdresse: Bleichestrasse 3 (Neben Hallenbad)\, 8570 Weinfelden\n
LOCATION:Bleichestrasse 3 (Neben Hallenbad)\, 8570 Weinfelden
CATEGORIES:Saison 2024/25
END:VEVENT
BEGIN:VEVENT
DTSTAMP:20260425T021332Z
DTSTART;TZID=Europe/Berlin:20250221T200000
DTEND;TZID=Europe/Berlin:20250221T230000
SUMMARY:HE 1. Liga Gr. 1 Wil SG vs Zürich-Affoltern II (0)
UID:ab3071ee-6f82-45d5-b1f8-9b4d4f5b288e
STATUS:CONFIRMED
LAST-MODIFIED:20250227T104857Z
DESCRIPTION:1. Liga Herren Gruppe 1\nBegegnungs-Nr: 0\nHeim: Wil SG\nGast: Zürich-Affoltern II\n\nAdresse: Bleichestrasse 3 (Neben Hallenbad)\, 8570 Weinfelden\n
LOCATION:Bleichestrasse 3 (Neben Hallenbad)\, 8570 Weinfelden
CATEGORIES:Saison 2024/25
END:VEVENT
BEGIN:VEVENT
DTSTAMP:20260425T021332Z
DTSTART;TZID=Europe/Berlin:20250214T200000
DTEND;TZID=Europe/Berlin:20250214T230000
SUMMARY:HE 1. Liga Gr. 1 Wil SG vs Rapperswil-Jona IV (0)
UID:30948545-f03b-4acc-8b27-ae9e9423ae52
STATUS:CONFIRMED
LAST-MODIFIED:20250219T112548Z
DESCRIPTION:1. Liga Herren Gruppe 1\nBegegnungs-Nr: 0\nHeim: Wil SG\nGast: Rapperswil-Jona IV\n\nAdresse: Bleichestrasse 3 (Neben Hallenbad)\, 8570 Weinfelden\n
LOCATION:Bleichestrasse 3 (Neben Hallenbad)\, 8570 Weinfelden
CATEGORIES:Saison 2024/25
END:VEVENT
BEGIN:VEVENT
DTSTAMP:20260425T021332Z
DTSTART;TZID=Europe/Berlin:20250111T150000
DTEND;TZID=Europe/Berlin:20250111T180000
SUMMARY:HE 1. Liga Gr. 1 St. Gallen II vs Wil SG (0)
UID:a7d1cbe8-5180-466c-8725-0f8d88dc3d27
STATUS:CONFIRMED
LAST-MODIFIED:20250113T113307Z
DESCRIPTION:1. Liga Herren Gruppe 1\nBegegnungs-Nr: 0\nHeim: St. Gallen II\nGast: Wil SG\n\nAdresse: Zilstrasse 61\, 9016 St.Gallen\n
LOCATION:Zilstrasse 61\, 9016 St.Gallen
CATEGORIES:Saison 2024/25
END:VEVENT
BEGIN:VEVENT
DTSTAMP:20260425T021332Z
DTSTART;TZID=Europe/Berlin:20241107T201500
DTEND;TZID=Europe/Berlin:20241107T231500
SUMMARY:HE 1. Liga Gr. 1 Bülach vs Wil SG (0)
UID:f09d2020-fe0b-40c4-a60a-845f8ace3918
STATUS:CONFIRMED
LAST-MODIFIED:20241108T132701Z
DESCRIPTION:1. Liga Herren Gruppe 1\nBegegnungs-Nr: 0\nHeim: Bülach\nGast: Wil SG\n\nAdresse: Unterweg 51\, 8180 Bülach\n
LOCATION:Unterweg 51\, 8180 Bülach
CATEGORIES:Saison 2024/25
END:VEVENT
BEGIN:VEVENT
DTSTAMP:20260425T021332Z
DTSTART;TZID=Europe/Berlin:20240926T201500
DTEND;TZID=Europe/Berlin:20240926T231500
SUMMARY:HE 1. Liga Gr. 1 Zürich-Affoltern II vs Wil SG (0)
UID:130de635-049d-4abf-b9bd-ab434f85ecd9
STATUS:CONFIRMED
LAST-MODIFIED:20240930T124140Z
DESCRIPTION:1. Liga Herren Gruppe 1\nBegegnungs-Nr: 0\nHeim: Zürich-Affoltern II\nGast: Wil SG\n\nAdresse: Rümlangstr. 89\, 8052 Zürich\n
LOCATION:Rümlangstr. 89\, 8052 Zürich
CATEGORIES:Saison 2024/25
END:VEVENT
BEGIN:VEVENT
DTSTAMP:20260425T021332Z
DTSTART;TZID=Europe/Berlin:20240921T140000
DTEND;TZID=Europe/Berlin:20240921T170000
SUMMARY:HE 1. Liga Gr. 1 Rapperswil-Jona IV vs Wil SG (0)
UID:bd74e300-fcda-446a-ae74-461e447d652a
STATUS:CONFIRMED
LAST-MODIFIED:20240926T112822Z
DESCRIPTION:1. Liga Herren Gruppe 1\nBegegnungs-Nr: 0\nHeim: Rapperswil-Jona IV\nGast: Wil SG\n\nAdresse: Kreuzstrasse 43\, 8640 Rapperswil\n
LOCATION:Kreuzstrasse 43\, 8640 Rapperswil
CATEGORIES:Saison 2024/25
END:VEVENT
BEGIN:VEVENT
DTSTAMP:20260425T021332Z
DTSTART;TZID=Europe/Berlin:20240827T193000
DTEND;TZID=Europe/Berlin:20240827T223000
SUMMARY:HE 1. Liga Gr. 1 Affoltern A/A II vs Wil SG (0)
UID:a084da1f-5a61-4c0e-9880-bc0d220d5833
STATUS:CONFIRMED
LAST-MODIFIED:20240828T080520Z
DESCRIPTION:1. Liga Herren Gruppe 1\nBegegnungs-Nr: 0\nHeim: Affoltern A/A II\nGast: Wil SG\n\nAdresse: Butzenstrasse 8\, 8910 Affoltern am Albis\n
LOCATION:Butzenstrasse 8\, 8910 Affoltern am Albis
CATEGORIES:Saison 2024/25
END:VEVENT
BEGIN:VEVENT
DTSTAMP:20260425T021332Z
DTSTART;TZID=Europe/Berlin:20250411T200000
DTEND;TZID=Europe/Berlin:20250411T230000
SUMMARY:HE 1. Liga Gr. 1 Wetzikon II vs Wil SG (0)
UID:3348b2c9-8408-446a-88ea-129a535c75f3
STATUS:CONFIRMED
LAST-MODIFIED:20250410T193631Z
DESCRIPTION:1. Liga Herren Gruppe 1\nBegegnungs-Nr: 0\nHeim: Wetzikon II\nGast: Wil SG\n\nAdresse: Usterstrasse 37\, 8620 Wetzikon\n
LOCATION:Usterstrasse 37\, 8620 Wetzikon
CATEGORIES:Saison 2024/25
END:VEVENT
BEGIN:VEVENT
DTSTAMP:20260425T021332Z
DTSTART;TZID=Europe/Berlin:20250317T200000
DTEND;TZID=Europe/Berlin:20250317T230000
SUMMARY:HE 1. Liga Gr. 1 Chur vs Wil SG (0)
UID:e7c9976a-aa66-467b-9121-816fbe5f1170
STATUS:CONFIRMED
LAST-MODIFIED:20250318T123314Z
DESCRIPTION:1. Liga Herren Gruppe 1\nBegegnungs-Nr: 0\nHeim: Chur\nGast: Wil SG\n\nAdresse: Sandstr. 35\, 7000 Chur\n
LOCATION:Sandstr. 35\, 7000 Chur
CATEGORIES:Saison 2024/25
END:VEVENT
BEGIN:VEVENT
DTSTAMP:20260425T021332Z
DTSTART;TZID=Europe/Berlin:20250205T200000
DTEND;TZID=Europe/Berlin:20250205T230000
SUMMARY:HE 1. Liga Gr. 1 Muolen vs Wil SG (0)
UID:42558ba4-353b-4840-8b6f-c3665c16b29f
STATUS:CONFIRMED
LAST-MODIFIED:20250206T140122Z
DESCRIPTION:1. Liga Herren Gruppe 1\nBegegnungs-Nr: 0\nHeim: Muolen\nGast: Wil SG\n\nAdresse: Dorfstrasse 31\, 9313 Muolen\n
LOCATION:Dorfstrasse 31\, 9313 Muolen
CATEGORIES:Saison 2024/25
END:VEVENT
END:VCALENDAR
