BEGIN:VCALENDAR
PRODID:-//nuDatenautomaten//framework iCal4j //DE
VERSION:2.0
CALSCALE:GREGORIAN
BEGIN:VTIMEZONE
TZID:Europe/Berlin
LAST-MODIFIED:20260306T231828Z
TZURL:https://www.tzurl.org/zoneinfo/Europe/Berlin
X-LIC-LOCATION:Europe/Berlin
X-PROLEPTIC-TZNAME:LMT
BEGIN:STANDARD
TZNAME:CET
TZOFFSETFROM:+005328
TZOFFSETTO:+0100
DTSTART:18930401T000000
END:STANDARD
BEGIN:DAYLIGHT
TZNAME:CEST
TZOFFSETFROM:+0100
TZOFFSETTO:+0200
DTSTART:19160430T230000
RDATE:19400401T020000
RDATE:19430329T020000
RDATE:19460414T020000
RDATE:19470406T030000
RDATE:19480418T020000
RDATE:19490410T020000
RDATE:19800406T020000
END:DAYLIGHT
BEGIN:STANDARD
TZNAME:CET
TZOFFSETFROM:+0200
TZOFFSETTO:+0100
DTSTART:19161001T010000
RDATE:19421102T030000
RDATE:19431004T030000
RDATE:19441002T030000
RDATE:19451118T030000
RDATE:19461007T030000
END:STANDARD
BEGIN:DAYLIGHT
TZNAME:CEST
TZOFFSETFROM:+0100
TZOFFSETTO:+0200
DTSTART:19170416T020000
RRULE:FREQ=YEARLY;UNTIL=19180415T010000Z;BYMONTH=4;BYDAY=3MO
END:DAYLIGHT
BEGIN:STANDARD
TZNAME:CET
TZOFFSETFROM:+0200
TZOFFSETTO:+0100
DTSTART:19170917T030000
RRULE:FREQ=YEARLY;UNTIL=19180916T010000Z;BYMONTH=9;BYDAY=3MO
END:STANDARD
BEGIN:DAYLIGHT
TZNAME:CEST
TZOFFSETFROM:+0100
TZOFFSETTO:+0200
DTSTART:19440403T020000
RRULE:FREQ=YEARLY;UNTIL=19450402T010000Z;BYMONTH=4;BYDAY=1MO
END:DAYLIGHT
BEGIN:DAYLIGHT
TZNAME:CEMT
TZOFFSETFROM:+0200
TZOFFSETTO:+0300
DTSTART:19450524T020000
RDATE:19470511T030000
END:DAYLIGHT
BEGIN:DAYLIGHT
TZNAME:CEST
TZOFFSETFROM:+0300
TZOFFSETTO:+0200
DTSTART:19450924T030000
RDATE:19470629T030000
END:DAYLIGHT
BEGIN:STANDARD
TZNAME:CET
TZOFFSETFROM:+0100
TZOFFSETTO:+0100
DTSTART:19460101T000000
RDATE:19800101T000000
END:STANDARD
BEGIN:STANDARD
TZNAME:CET
TZOFFSETFROM:+0200
TZOFFSETTO:+0100
DTSTART:19471005T030000
RRULE:FREQ=YEARLY;UNTIL=19491002T010000Z;BYMONTH=10;BYDAY=1SU
END:STANDARD
BEGIN:STANDARD
TZNAME:CET
TZOFFSETFROM:+0200
TZOFFSETTO:+0100
DTSTART:19800928T030000
RRULE:FREQ=YEARLY;UNTIL=19950924T010000Z;BYMONTH=9;BYDAY=-1SU
END:STANDARD
BEGIN:DAYLIGHT
TZNAME:CEST
TZOFFSETFROM:+0100
TZOFFSETTO:+0200
DTSTART:19810329T020000
RRULE:FREQ=YEARLY;BYMONTH=3;BYDAY=-1SU
END:DAYLIGHT
BEGIN:STANDARD
TZNAME:CET
TZOFFSETFROM:+0200
TZOFFSETTO:+0100
DTSTART:19961027T030000
RRULE:FREQ=YEARLY;BYMONTH=10;BYDAY=-1SU
END:STANDARD
END:VTIMEZONE
BEGIN:VEVENT
DTSTAMP:20260424T192640Z
DTSTART;TZID=Europe/Berlin:20241220T183000
DTEND;TZID=Europe/Berlin:20241220T213000
SUMMARY:J L2 Gr 2 Aigle vs Bulle (0)
UID:1a873d94-0ec7-4d90-b6aa-be242c0a767c
STATUS:CONFIRMED
LAST-MODIFIED:20241230T212919Z
DESCRIPTION:2ème ligue Jeunesse Groupe 2\nBegegnungs-Nr: 0\nHeim: Aigle\nGast: Bulle\n\nAdresse: Rue du Collège 12\, 1860 Aigle\n
LOCATION:Rue du Collège 12\, 1860 Aigle
CATEGORIES:Saison 2024/25
END:VEVENT
BEGIN:VEVENT
DTSTAMP:20260424T192640Z
DTSTART;TZID=Europe/Berlin:20241115T183000
DTEND;TZID=Europe/Berlin:20241115T213000
SUMMARY:J L2 Gr 2 Aigle vs Mézières (0)
UID:b80775d0-2d5e-4af4-8e73-8976fe17d59f
STATUS:CONFIRMED
LAST-MODIFIED:20241120T201154Z
DESCRIPTION:2ème ligue Jeunesse Groupe 2\nBegegnungs-Nr: 0\nHeim: Aigle\nGast: Mézières\n\nAdresse: Rue du Collège 12\, 1860 Aigle\n
LOCATION:Rue du Collège 12\, 1860 Aigle
CATEGORIES:Saison 2024/25
END:VEVENT
BEGIN:VEVENT
DTSTAMP:20260424T192640Z
DTSTART;TZID=Europe/Berlin:20250502T183000
DTEND;TZID=Europe/Berlin:20250502T213000
SUMMARY:J L2 Gr 2 Aigle vs Collombey/Muraz (0)
UID:d04ee7b3-1eba-4102-8d28-0b696f7ac9a7
STATUS:CONFIRMED
LAST-MODIFIED:20250505T193747Z
DESCRIPTION:2ème ligue Jeunesse Groupe 2\nBegegnungs-Nr: 0\nHeim: Aigle\nGast: Collombey/Muraz\n\nAdresse: Rue du Collège 12\, 1860 Aigle\n
LOCATION:Rue du Collège 12\, 1860 Aigle
CATEGORIES:Saison 2024/25
END:VEVENT
BEGIN:VEVENT
DTSTAMP:20260424T192640Z
DTSTART;TZID=Europe/Berlin:20250418T183000
DTEND;TZID=Europe/Berlin:20250418T213000
SUMMARY:J L2 Gr 2 Aigle vs Fribourg II (0)
UID:426e6102-cc73-4c97-8bf6-99f73ace613b
STATUS:CONFIRMED
LAST-MODIFIED:20250426T105108Z
DESCRIPTION:2ème ligue Jeunesse Groupe 2\nBegegnungs-Nr: 0\nHeim: Aigle\nGast: Fribourg II\n\nAdresse: Rue du Collège 12\, 1860 Aigle\n
LOCATION:Rue du Collège 12\, 1860 Aigle
CATEGORIES:Saison 2024/25
END:VEVENT
BEGIN:VEVENT
DTSTAMP:20260424T192640Z
DTSTART;TZID=Europe/Berlin:20250321T183000
DTEND;TZID=Europe/Berlin:20250321T213000
SUMMARY:J L2 Gr 2 Aigle vs Blonay II (0)
UID:6e2a627a-2370-428f-a71b-d248b25ea30c
STATUS:CONFIRMED
LAST-MODIFIED:20250322T202318Z
DESCRIPTION:2ème ligue Jeunesse Groupe 2\nBegegnungs-Nr: 0\nHeim: Aigle\nGast: Blonay II\n\nAdresse: Rue du Collège 12\, 1860 Aigle\n
LOCATION:Rue du Collège 12\, 1860 Aigle
CATEGORIES:Saison 2024/25
END:VEVENT
BEGIN:VEVENT
DTSTAMP:20260424T192640Z
DTSTART;TZID=Europe/Berlin:20250208T143000
DTEND;TZID=Europe/Berlin:20250208T173000
SUMMARY:J L2 Gr 2 Collombey/Muraz vs Aigle (0)
UID:6cf5a351-6b60-4aa3-b0a3-6187d708742f
STATUS:CONFIRMED
LAST-MODIFIED:20250210T162920Z
DESCRIPTION:2ème ligue Jeunesse Groupe 2\nBegegnungs-Nr: 0\nHeim: Collombey/Muraz\nGast: Aigle\n\nAdresse: Route du Montagnier 81\, 1868 Collombey\n
LOCATION:Route du Montagnier 81\, 1868 Collombey
CATEGORIES:Saison 2024/25
END:VEVENT
BEGIN:VEVENT
DTSTAMP:20260424T192640Z
DTSTART;TZID=Europe/Berlin:20250117T193000
DTEND;TZID=Europe/Berlin:20250117T223000
SUMMARY:J L2 Gr 2 Fribourg II vs Aigle (0)
UID:38d2b45d-efd2-4e32-871f-8cf185d87b88
STATUS:CONFIRMED
LAST-MODIFIED:20250119T143029Z
DESCRIPTION:2ème ligue Jeunesse Groupe 2\nBegegnungs-Nr: 0\nHeim: Fribourg II\nGast: Aigle\n\nAdresse: Avenue Général Guisan 61\, 1700 Fribourg\n
LOCATION:Avenue Général Guisan 61\, 1700 Fribourg
CATEGORIES:Saison 2024/25
END:VEVENT
BEGIN:VEVENT
DTSTAMP:20260424T192640Z
DTSTART;TZID=Europe/Berlin:20241203T183000
DTEND;TZID=Europe/Berlin:20241203T213000
SUMMARY:J L2 Gr 2 Blonay II vs Aigle (0)
UID:fe366f3f-3bff-4406-a389-6802a7af1033
STATUS:CONFIRMED
LAST-MODIFIED:20241205T225759Z
DESCRIPTION:2ème ligue Jeunesse Groupe 2\nBegegnungs-Nr: 0\nHeim: Blonay II\nGast: Aigle\n\nAdresse: Route de Prélaz 2\, 1807 Blonay\n
LOCATION:Route de Prélaz 2\, 1807 Blonay
CATEGORIES:Saison 2024/25
END:VEVENT
BEGIN:VEVENT
DTSTAMP:20260424T192640Z
DTSTART;TZID=Europe/Berlin:20250404T193000
DTEND;TZID=Europe/Berlin:20250404T223000
SUMMARY:J L2 Gr 2 Bulle vs Aigle (0)
UID:e6c553f8-8441-497f-915d-29eba6e8fd48
STATUS:CONFIRMED
LAST-MODIFIED:20250410T202810Z
DESCRIPTION:2ème ligue Jeunesse Groupe 2\nBegegnungs-Nr: 0\nHeim: Bulle\nGast: Aigle\n\nAdresse: Rue du Stade 50\, 1630 Bulle\n
LOCATION:Rue du Stade 50\, 1630 Bulle
CATEGORIES:Saison 2024/25
END:VEVENT
BEGIN:VEVENT
DTSTAMP:20260424T192640Z
DTSTART;TZID=Europe/Berlin:20250307T203000
DTEND;TZID=Europe/Berlin:20250307T233000
SUMMARY:J L2 Gr 2 Mézières vs Aigle (0)
UID:2d61f184-90b6-4016-b8ae-7af0e1594c28
STATUS:CONFIRMED
LAST-MODIFIED:20250308T181014Z
DESCRIPTION:2ème ligue Jeunesse Groupe 2\nBegegnungs-Nr: 0\nHeim: Mézières\nGast: Aigle\n\nAdresse: -\, 1083 Mézières\n
LOCATION:-\, 1083 Mézières
CATEGORIES:Saison 2024/25
END:VEVENT
END:VCALENDAR
