BEGIN:VCALENDAR
PRODID:-//nuDatenautomaten//framework iCal4j //DE
VERSION:2.0
CALSCALE:GREGORIAN
BEGIN:VTIMEZONE
TZID:Europe/Berlin
LAST-MODIFIED:20260306T231828Z
TZURL:https://www.tzurl.org/zoneinfo/Europe/Berlin
X-LIC-LOCATION:Europe/Berlin
X-PROLEPTIC-TZNAME:LMT
BEGIN:STANDARD
TZNAME:CET
TZOFFSETFROM:+005328
TZOFFSETTO:+0100
DTSTART:18930401T000000
END:STANDARD
BEGIN:DAYLIGHT
TZNAME:CEST
TZOFFSETFROM:+0100
TZOFFSETTO:+0200
DTSTART:19160430T230000
RDATE:19400401T020000
RDATE:19430329T020000
RDATE:19460414T020000
RDATE:19470406T030000
RDATE:19480418T020000
RDATE:19490410T020000
RDATE:19800406T020000
END:DAYLIGHT
BEGIN:STANDARD
TZNAME:CET
TZOFFSETFROM:+0200
TZOFFSETTO:+0100
DTSTART:19161001T010000
RDATE:19421102T030000
RDATE:19431004T030000
RDATE:19441002T030000
RDATE:19451118T030000
RDATE:19461007T030000
END:STANDARD
BEGIN:DAYLIGHT
TZNAME:CEST
TZOFFSETFROM:+0100
TZOFFSETTO:+0200
DTSTART:19170416T020000
RRULE:FREQ=YEARLY;UNTIL=19180415T010000Z;BYMONTH=4;BYDAY=3MO
END:DAYLIGHT
BEGIN:STANDARD
TZNAME:CET
TZOFFSETFROM:+0200
TZOFFSETTO:+0100
DTSTART:19170917T030000
RRULE:FREQ=YEARLY;UNTIL=19180916T010000Z;BYMONTH=9;BYDAY=3MO
END:STANDARD
BEGIN:DAYLIGHT
TZNAME:CEST
TZOFFSETFROM:+0100
TZOFFSETTO:+0200
DTSTART:19440403T020000
RRULE:FREQ=YEARLY;UNTIL=19450402T010000Z;BYMONTH=4;BYDAY=1MO
END:DAYLIGHT
BEGIN:DAYLIGHT
TZNAME:CEMT
TZOFFSETFROM:+0200
TZOFFSETTO:+0300
DTSTART:19450524T020000
RDATE:19470511T030000
END:DAYLIGHT
BEGIN:DAYLIGHT
TZNAME:CEST
TZOFFSETFROM:+0300
TZOFFSETTO:+0200
DTSTART:19450924T030000
RDATE:19470629T030000
END:DAYLIGHT
BEGIN:STANDARD
TZNAME:CET
TZOFFSETFROM:+0100
TZOFFSETTO:+0100
DTSTART:19460101T000000
RDATE:19800101T000000
END:STANDARD
BEGIN:STANDARD
TZNAME:CET
TZOFFSETFROM:+0200
TZOFFSETTO:+0100
DTSTART:19471005T030000
RRULE:FREQ=YEARLY;UNTIL=19491002T010000Z;BYMONTH=10;BYDAY=1SU
END:STANDARD
BEGIN:STANDARD
TZNAME:CET
TZOFFSETFROM:+0200
TZOFFSETTO:+0100
DTSTART:19800928T030000
RRULE:FREQ=YEARLY;UNTIL=19950924T010000Z;BYMONTH=9;BYDAY=-1SU
END:STANDARD
BEGIN:DAYLIGHT
TZNAME:CEST
TZOFFSETFROM:+0100
TZOFFSETTO:+0200
DTSTART:19810329T020000
RRULE:FREQ=YEARLY;BYMONTH=3;BYDAY=-1SU
END:DAYLIGHT
BEGIN:STANDARD
TZNAME:CET
TZOFFSETFROM:+0200
TZOFFSETTO:+0100
DTSTART:19961027T030000
RRULE:FREQ=YEARLY;BYMONTH=10;BYDAY=-1SU
END:STANDARD
END:VTIMEZONE
BEGIN:VEVENT
DTSTAMP:20260425T021332Z
DTSTART;TZID=Europe/Berlin:20241202T201500
DTEND;TZID=Europe/Berlin:20241202T231500
SUMMARY:HE 5. Liga Gr. 7 Rüschlikon vs Wädenswil VIII (0)
UID:be01a1eb-f61c-4c82-85b2-8cd702ff0dab
STATUS:CONFIRMED
LAST-MODIFIED:20241205T125653Z
DESCRIPTION:5. Liga Herren Gruppe 7\nBegegnungs-Nr: 0\nHeim: Rüschlikon\nGast: Wädenswil VIII\n\nAdresse: Säumerstrasse 24\, 8803 Rüschlikon\n
LOCATION:Säumerstrasse 24\, 8803 Rüschlikon
CATEGORIES:Saison 2024/25
END:VEVENT
BEGIN:VEVENT
DTSTAMP:20260425T021332Z
DTSTART;TZID=Europe/Berlin:20241028T201500
DTEND;TZID=Europe/Berlin:20241028T231500
SUMMARY:HE 5. Liga Gr. 7 Rüschlikon vs Young Stars ZH IX (0)
UID:de8dbd0c-bf0d-4f73-b4fb-93b19fda1817
STATUS:CONFIRMED
LAST-MODIFIED:20241030T122951Z
DESCRIPTION:5. Liga Herren Gruppe 7\nBegegnungs-Nr: 0\nHeim: Rüschlikon\nGast: Young Stars ZH IX\n\nAdresse: Säumerstrasse 24\, 8803 Rüschlikon\n
LOCATION:Säumerstrasse 24\, 8803 Rüschlikon
CATEGORIES:Saison 2024/25
END:VEVENT
BEGIN:VEVENT
DTSTAMP:20260425T021332Z
DTSTART;TZID=Europe/Berlin:20240916T201500
DTEND;TZID=Europe/Berlin:20240916T231500
SUMMARY:HE 5. Liga Gr. 7 Rüschlikon vs Thalwil IV (0)
UID:1ddc35d3-79c1-4fc0-8b98-8a6be525d129
STATUS:CONFIRMED
LAST-MODIFIED:20240917T072415Z
DESCRIPTION:5. Liga Herren Gruppe 7\nBegegnungs-Nr: 0\nHeim: Rüschlikon\nGast: Thalwil IV\n\nAdresse: Säumerstrasse 24\, 8803 Rüschlikon\n
LOCATION:Säumerstrasse 24\, 8803 Rüschlikon
CATEGORIES:Saison 2024/25
END:VEVENT
BEGIN:VEVENT
DTSTAMP:20260425T021332Z
DTSTART;TZID=Europe/Berlin:20240826T201500
DTEND;TZID=Europe/Berlin:20240826T231500
SUMMARY:HE 5. Liga Gr. 7 Rüschlikon vs Affoltern A/A VI (0)
UID:6a08b348-e3c4-49ae-9b98-59d793bb0d3f
STATUS:CONFIRMED
LAST-MODIFIED:20240828T084058Z
DESCRIPTION:5. Liga Herren Gruppe 7\nBegegnungs-Nr: 0\nHeim: Rüschlikon\nGast: Affoltern A/A VI\n\nAdresse: Säumerstrasse 24\, 8803 Rüschlikon\n
LOCATION:Säumerstrasse 24\, 8803 Rüschlikon
CATEGORIES:Saison 2024/25
END:VEVENT
BEGIN:VEVENT
DTSTAMP:20260425T021332Z
DTSTART;TZID=Europe/Berlin:20250310T201500
DTEND;TZID=Europe/Berlin:20250310T231500
SUMMARY:HE 5. Liga Gr. 7 Rüschlikon vs Oberrieden (0)
UID:18dcf5c2-abaa-45a7-8e95-57d02b8e3270
STATUS:CONFIRMED
LAST-MODIFIED:20250312T145749Z
DESCRIPTION:5. Liga Herren Gruppe 7\nBegegnungs-Nr: 0\nHeim: Rüschlikon\nGast: Oberrieden\n\nAdresse: Säumerstrasse 24\, 8803 Rüschlikon\n
LOCATION:Säumerstrasse 24\, 8803 Rüschlikon
CATEGORIES:Saison 2024/25
END:VEVENT
BEGIN:VEVENT
DTSTAMP:20260425T021332Z
DTSTART;TZID=Europe/Berlin:20250203T201500
DTEND;TZID=Europe/Berlin:20250203T231500
SUMMARY:HE 5. Liga Gr. 7 Rüschlikon vs BW-Wollishofen IV (0)
UID:a4e260ab-58f8-4411-90d5-7b5f5fe53076
STATUS:CONFIRMED
LAST-MODIFIED:20250204T123825Z
DESCRIPTION:5. Liga Herren Gruppe 7\nBegegnungs-Nr: 0\nHeim: Rüschlikon\nGast: BW-Wollishofen IV\n\nAdresse: Säumerstrasse 24\, 8803 Rüschlikon\n
LOCATION:Säumerstrasse 24\, 8803 Rüschlikon
CATEGORIES:Saison 2024/25
END:VEVENT
BEGIN:VEVENT
DTSTAMP:20260425T021332Z
DTSTART;TZID=Europe/Berlin:20250120T201500
DTEND;TZID=Europe/Berlin:20250120T231500
SUMMARY:HE 5. Liga Gr. 7 Rüschlikon vs Pinguin Zürich V (0)
UID:c8ebbc77-5119-4fdb-a69e-8a6f1e38a4b2
STATUS:CONFIRMED
LAST-MODIFIED:20250123T083827Z
DESCRIPTION:5. Liga Herren Gruppe 7\nBegegnungs-Nr: 0\nHeim: Rüschlikon\nGast: Pinguin Zürich V\n\nAdresse: Säumerstrasse 24\, 8803 Rüschlikon\n
LOCATION:Säumerstrasse 24\, 8803 Rüschlikon
CATEGORIES:Saison 2024/25
END:VEVENT
BEGIN:VEVENT
DTSTAMP:20260425T021332Z
DTSTART;TZID=Europe/Berlin:20241107T194500
DTEND;TZID=Europe/Berlin:20241107T224500
SUMMARY:HE 5. Liga Gr. 7 Oberrieden vs Rüschlikon (0)
UID:53e7c14f-3f0f-4718-a7c2-8d7002c1b8e9
STATUS:CONFIRMED
LAST-MODIFIED:20241108T145910Z
DESCRIPTION:5. Liga Herren Gruppe 7\nBegegnungs-Nr: 0\nHeim: Oberrieden\nGast: Rüschlikon\n\nAdresse: Langweg 2\, 8942 Oberrieden\n
LOCATION:Langweg 2\, 8942 Oberrieden
CATEGORIES:Saison 2024/25
END:VEVENT
BEGIN:VEVENT
DTSTAMP:20260425T021332Z
DTSTART;TZID=Europe/Berlin:20240927T200000
DTEND;TZID=Europe/Berlin:20240927T230000
SUMMARY:HE 5. Liga Gr. 7 BW-Wollishofen IV vs Rüschlikon (0)
UID:f87e2def-2bbe-4a2a-90fe-316bc4e06103
STATUS:CONFIRMED
LAST-MODIFIED:20240930T124957Z
DESCRIPTION:5. Liga Herren Gruppe 7\nBegegnungs-Nr: 0\nHeim: BW-Wollishofen IV\nGast: Rüschlikon\n\nAdresse: Kilchbergstr. 28\, 8038 Zürich\n
LOCATION:Kilchbergstr. 28\, 8038 Zürich
CATEGORIES:Saison 2024/25
END:VEVENT
BEGIN:VEVENT
DTSTAMP:20260425T021332Z
DTSTART;TZID=Europe/Berlin:20241003T200000
DTEND;TZID=Europe/Berlin:20241003T230000
SUMMARY:HE 5. Liga Gr. 7 Pinguin Zürich V vs Rüschlikon (0)
UID:6afa1360-2a64-45e3-b837-19c35296ec9b
STATUS:CONFIRMED
LAST-MODIFIED:20241010T105810Z
DESCRIPTION:5. Liga Herren Gruppe 7\nBegegnungs-Nr: 0\nHeim: Pinguin Zürich V\nGast: Rüschlikon\n\nAdresse: Grindelstrasse 20\, 8303 Bassersdorf\n
LOCATION:Grindelstrasse 20\, 8303 Bassersdorf
CATEGORIES:Saison 2024/25
END:VEVENT
BEGIN:VEVENT
DTSTAMP:20260425T021332Z
DTSTART;TZID=Europe/Berlin:20250327T200000
DTEND;TZID=Europe/Berlin:20250327T230000
SUMMARY:HE 5. Liga Gr. 7 Wädenswil VIII vs Rüschlikon (0)
UID:003ea4b7-b1ed-4a38-962c-f4487f114d8b
STATUS:CONFIRMED
LAST-MODIFIED:20250404T083421Z
DESCRIPTION:5. Liga Herren Gruppe 7\nBegegnungs-Nr: 0\nHeim: Wädenswil VIII\nGast: Rüschlikon\n\nAdresse: Speerstrasse 95\, 8820 Wädenswil\n
LOCATION:Speerstrasse 95\, 8820 Wädenswil
CATEGORIES:Saison 2024/25
END:VEVENT
BEGIN:VEVENT
DTSTAMP:20260425T021332Z
DTSTART;TZID=Europe/Berlin:20250307T200000
DTEND;TZID=Europe/Berlin:20250307T230000
SUMMARY:HE 5. Liga Gr. 7 Young Stars ZH IX vs Rüschlikon (0)
UID:9e36040f-5487-4a9f-8115-f77f069074a5
STATUS:CONFIRMED
LAST-MODIFIED:20250312T145731Z
DESCRIPTION:5. Liga Herren Gruppe 7\nBegegnungs-Nr: 0\nHeim: Young Stars ZH IX\nGast: Rüschlikon\n\nAdresse: Balgriststrasse 55\, 8008 Zürich\n
LOCATION:Balgriststrasse 55\, 8008 Zürich
CATEGORIES:Saison 2024/25
END:VEVENT
BEGIN:VEVENT
DTSTAMP:20260425T021332Z
DTSTART;TZID=Europe/Berlin:20250131T201500
DTEND;TZID=Europe/Berlin:20250131T231500
SUMMARY:HE 5. Liga Gr. 7 Thalwil IV vs Rüschlikon (0)
UID:5cbba2bd-0bf9-4ba0-8b8a-08de8a076c21
STATUS:CONFIRMED
LAST-MODIFIED:20250203T121902Z
DESCRIPTION:5. Liga Herren Gruppe 7\nBegegnungs-Nr: 0\nHeim: Thalwil IV\nGast: Rüschlikon\n\nAdresse: Bergstrasse 2\, 8800 Thalwil\n
LOCATION:Bergstrasse 2\, 8800 Thalwil
CATEGORIES:Saison 2024/25
END:VEVENT
BEGIN:VEVENT
DTSTAMP:20260425T021332Z
DTSTART;TZID=Europe/Berlin:20250207T200000
DTEND;TZID=Europe/Berlin:20250207T230000
SUMMARY:HE 5. Liga Gr. 7 Affoltern A/A VI vs Rüschlikon (0)
UID:85ae3686-780e-41f4-8123-ce39bd66ae12
STATUS:CONFIRMED
LAST-MODIFIED:20250213T132658Z
DESCRIPTION:5. Liga Herren Gruppe 7\nBegegnungs-Nr: 0\nHeim: Affoltern A/A VI\nGast: Rüschlikon\n\nAdresse: Butzenstr. 2\, 8910 Affoltern am Albis\n
LOCATION:Butzenstr. 2\, 8910 Affoltern am Albis
CATEGORIES:Saison 2024/25
END:VEVENT
END:VCALENDAR
