BEGIN:VCALENDAR
PRODID:-//nuDatenautomaten//framework iCal4j //DE
VERSION:2.0
CALSCALE:GREGORIAN
BEGIN:VTIMEZONE
TZID:Europe/Berlin
LAST-MODIFIED:20260306T231828Z
TZURL:https://www.tzurl.org/zoneinfo/Europe/Berlin
X-LIC-LOCATION:Europe/Berlin
X-PROLEPTIC-TZNAME:LMT
BEGIN:STANDARD
TZNAME:CET
TZOFFSETFROM:+005328
TZOFFSETTO:+0100
DTSTART:18930401T000000
END:STANDARD
BEGIN:DAYLIGHT
TZNAME:CEST
TZOFFSETFROM:+0100
TZOFFSETTO:+0200
DTSTART:19160430T230000
RDATE:19400401T020000
RDATE:19430329T020000
RDATE:19460414T020000
RDATE:19470406T030000
RDATE:19480418T020000
RDATE:19490410T020000
RDATE:19800406T020000
END:DAYLIGHT
BEGIN:STANDARD
TZNAME:CET
TZOFFSETFROM:+0200
TZOFFSETTO:+0100
DTSTART:19161001T010000
RDATE:19421102T030000
RDATE:19431004T030000
RDATE:19441002T030000
RDATE:19451118T030000
RDATE:19461007T030000
END:STANDARD
BEGIN:DAYLIGHT
TZNAME:CEST
TZOFFSETFROM:+0100
TZOFFSETTO:+0200
DTSTART:19170416T020000
RRULE:FREQ=YEARLY;UNTIL=19180415T010000Z;BYMONTH=4;BYDAY=3MO
END:DAYLIGHT
BEGIN:STANDARD
TZNAME:CET
TZOFFSETFROM:+0200
TZOFFSETTO:+0100
DTSTART:19170917T030000
RRULE:FREQ=YEARLY;UNTIL=19180916T010000Z;BYMONTH=9;BYDAY=3MO
END:STANDARD
BEGIN:DAYLIGHT
TZNAME:CEST
TZOFFSETFROM:+0100
TZOFFSETTO:+0200
DTSTART:19440403T020000
RRULE:FREQ=YEARLY;UNTIL=19450402T010000Z;BYMONTH=4;BYDAY=1MO
END:DAYLIGHT
BEGIN:DAYLIGHT
TZNAME:CEMT
TZOFFSETFROM:+0200
TZOFFSETTO:+0300
DTSTART:19450524T020000
RDATE:19470511T030000
END:DAYLIGHT
BEGIN:DAYLIGHT
TZNAME:CEST
TZOFFSETFROM:+0300
TZOFFSETTO:+0200
DTSTART:19450924T030000
RDATE:19470629T030000
END:DAYLIGHT
BEGIN:STANDARD
TZNAME:CET
TZOFFSETFROM:+0100
TZOFFSETTO:+0100
DTSTART:19460101T000000
RDATE:19800101T000000
END:STANDARD
BEGIN:STANDARD
TZNAME:CET
TZOFFSETFROM:+0200
TZOFFSETTO:+0100
DTSTART:19471005T030000
RRULE:FREQ=YEARLY;UNTIL=19491002T010000Z;BYMONTH=10;BYDAY=1SU
END:STANDARD
BEGIN:STANDARD
TZNAME:CET
TZOFFSETFROM:+0200
TZOFFSETTO:+0100
DTSTART:19800928T030000
RRULE:FREQ=YEARLY;UNTIL=19950924T010000Z;BYMONTH=9;BYDAY=-1SU
END:STANDARD
BEGIN:DAYLIGHT
TZNAME:CEST
TZOFFSETFROM:+0100
TZOFFSETTO:+0200
DTSTART:19810329T020000
RRULE:FREQ=YEARLY;BYMONTH=3;BYDAY=-1SU
END:DAYLIGHT
BEGIN:STANDARD
TZNAME:CET
TZOFFSETFROM:+0200
TZOFFSETTO:+0100
DTSTART:19961027T030000
RRULE:FREQ=YEARLY;BYMONTH=10;BYDAY=-1SU
END:STANDARD
END:VTIMEZONE
BEGIN:VEVENT
DTSTAMP:20260425T005106Z
DTSTART;TZID=Europe/Berlin:20250521T194500
DTEND;TZID=Europe/Berlin:20250521T224500
SUMMARY:O40 2. Liga Aufstieg Buchs Zürich vs Affoltern A/A (701)
UID:1f8ed5ac-12e0-45b5-933f-26d0f6c661e8
STATUS:CONFIRMED
LAST-MODIFIED:20250526T115842Z
DESCRIPTION:2. Liga O40 Aufstieg\nBegegnungs-Nr: 701\nHeim: Buchs Zürich\nGast: Affoltern A/A\n
LOCATION:
CATEGORIES:Saison 2024/25
END:VEVENT
BEGIN:VEVENT
DTSTAMP:20260425T005106Z
DTSTART;TZID=Europe/Berlin:20241021T201500
DTEND;TZID=Europe/Berlin:20241021T231500
SUMMARY:O40 2. Liga Gr. 1 Buchs Zürich vs Embrachertal (0)
UID:c68dc293-6e66-474c-a717-416b592a074c
STATUS:CONFIRMED
LAST-MODIFIED:20241023T081959Z
DESCRIPTION:2. Liga O40 Gruppe 1\nBegegnungs-Nr: 0\nHeim: Buchs Zürich\nGast: Embrachertal\n\nAdresse: Schulstrasse 73\, 8105 Regensdorf\n
LOCATION:Schulstrasse 73\, 8105 Regensdorf
CATEGORIES:Saison 2024/25
END:VEVENT
BEGIN:VEVENT
DTSTAMP:20260425T005106Z
DTSTART;TZID=Europe/Berlin:20240819T201500
DTEND;TZID=Europe/Berlin:20240819T231500
SUMMARY:O40 2. Liga Gr. 1 Buchs Zürich vs Gaiserwald II (0)
UID:a5570de7-9e32-424f-97e1-03efa4682aed
STATUS:CONFIRMED
LAST-MODIFIED:20240828T085131Z
DESCRIPTION:2. Liga O40 Gruppe 1\nBegegnungs-Nr: 0\nHeim: Buchs Zürich\nGast: Gaiserwald II\n\nAdresse: Schulstrasse 73\, 8105 Regensdorf\n
LOCATION:Schulstrasse 73\, 8105 Regensdorf
CATEGORIES:Saison 2024/25
END:VEVENT
BEGIN:VEVENT
DTSTAMP:20260425T005106Z
DTSTART;TZID=Europe/Berlin:20250414T201500
DTEND;TZID=Europe/Berlin:20250414T231500
SUMMARY:O40 2. Liga Gr. 1 Buchs Zürich vs Dübendorf-Volketswil (0)
UID:6047d662-eaf3-4517-86e9-e04cf8e3fd8a
STATUS:CONFIRMED
LAST-MODIFIED:20250423T070203Z
DESCRIPTION:2. Liga O40 Gruppe 1\nBegegnungs-Nr: 0\nHeim: Buchs Zürich\nGast: Dübendorf-Volketswil\n\nAdresse: Schulstrasse 73\, 8105 Regensdorf\n
LOCATION:Schulstrasse 73\, 8105 Regensdorf
CATEGORIES:Saison 2024/25
END:VEVENT
BEGIN:VEVENT
DTSTAMP:20260425T005106Z
DTSTART;TZID=Europe/Berlin:20250407T201500
DTEND;TZID=Europe/Berlin:20250407T231500
SUMMARY:O40 2. Liga Gr. 1 Buchs Zürich vs Winterthur (0)
UID:059fddd3-e514-42b7-8183-4178659e608a
STATUS:CONFIRMED
LAST-MODIFIED:20250408T154545Z
DESCRIPTION:2. Liga O40 Gruppe 1\nBegegnungs-Nr: 0\nHeim: Buchs Zürich\nGast: Winterthur\n\nAdresse: Schulstrasse 73\, 8105 Regensdorf\n
LOCATION:Schulstrasse 73\, 8105 Regensdorf
CATEGORIES:Saison 2024/25
END:VEVENT
BEGIN:VEVENT
DTSTAMP:20260425T005106Z
DTSTART;TZID=Europe/Berlin:20250217T201500
DTEND;TZID=Europe/Berlin:20250217T231500
SUMMARY:O40 2. Liga Gr. 1 Buchs Zürich vs Uster (0)
UID:c38618e6-1fab-4083-a261-9808c0c76058
STATUS:CONFIRMED
LAST-MODIFIED:20250219T133428Z
DESCRIPTION:2. Liga O40 Gruppe 1\nBegegnungs-Nr: 0\nHeim: Buchs Zürich\nGast: Uster\n\nAdresse: Schulstrasse 73\, 8105 Regensdorf\n
LOCATION:Schulstrasse 73\, 8105 Regensdorf
CATEGORIES:Saison 2024/25
END:VEVENT
BEGIN:VEVENT
DTSTAMP:20260425T005106Z
DTSTART;TZID=Europe/Berlin:20250113T201500
DTEND;TZID=Europe/Berlin:20250113T231500
SUMMARY:O40 2. Liga Gr. 1 Buchs Zürich vs Niederhasli II (0)
UID:f245872b-ddbb-4f5a-9a97-e0160b15f924
STATUS:CONFIRMED
LAST-MODIFIED:20250116T101458Z
DESCRIPTION:2. Liga O40 Gruppe 1\nBegegnungs-Nr: 0\nHeim: Buchs Zürich\nGast: Niederhasli II\n\nAdresse: Schulstrasse 73\, 8105 Regensdorf\n
LOCATION:Schulstrasse 73\, 8105 Regensdorf
CATEGORIES:Saison 2024/25
END:VEVENT
BEGIN:VEVENT
DTSTAMP:20260425T005106Z
DTSTART;TZID=Europe/Berlin:20240910T201500
DTEND;TZID=Europe/Berlin:20240910T231500
SUMMARY:O40 2. Liga Gr. 1 Uster vs Buchs Zürich (0)
UID:4d3fe8a6-8ef4-479a-80da-1165d1b1c37f
STATUS:CONFIRMED
LAST-MODIFIED:20240913T134023Z
DESCRIPTION:2. Liga O40 Gruppe 1\nBegegnungs-Nr: 0\nHeim: Uster\nGast: Buchs Zürich\n\nAdresse: Wilstrasse 30 / Zürcherstrasse\, 8610 Uster\n
LOCATION:Wilstrasse 30 / Zürcherstrasse\, 8610 Uster
CATEGORIES:Saison 2024/25
END:VEVENT
BEGIN:VEVENT
DTSTAMP:20260425T005106Z
DTSTART;TZID=Europe/Berlin:20241002T193000
DTEND;TZID=Europe/Berlin:20241002T223000
SUMMARY:O40 2. Liga Gr. 1 Niederhasli II vs Buchs Zürich (0)
UID:148ad63f-5dc4-4230-a50e-ee9590f575ae
STATUS:CONFIRMED
LAST-MODIFIED:20241004T082056Z
DESCRIPTION:2. Liga O40 Gruppe 1\nBegegnungs-Nr: 0\nHeim: Niederhasli II\nGast: Buchs Zürich\n\nAdresse: Dorfstrasse 22\, 8155 Niederhasli\n
LOCATION:Dorfstrasse 22\, 8155 Niederhasli
CATEGORIES:Saison 2024/25
END:VEVENT
BEGIN:VEVENT
DTSTAMP:20260425T005106Z
DTSTART;TZID=Europe/Berlin:20250319T193000
DTEND;TZID=Europe/Berlin:20250319T223000
SUMMARY:O40 2. Liga Gr. 1 Embrachertal vs Buchs Zürich (0)
UID:c90f2802-6588-4038-a825-8f6cfb10241e
STATUS:CONFIRMED
LAST-MODIFIED:20250321T124235Z
DESCRIPTION:2. Liga O40 Gruppe 1\nBegegnungs-Nr: 0\nHeim: Embrachertal\nGast: Buchs Zürich\n\nAdresse: Hintermarchlenstrasse 31 + 33\, 8426 Lufingen\n
LOCATION:Hintermarchlenstrasse 31 + 33\, 8426 Lufingen
CATEGORIES:Saison 2024/25
END:VEVENT
BEGIN:VEVENT
DTSTAMP:20260425T005106Z
DTSTART;TZID=Europe/Berlin:20250206T200000
DTEND;TZID=Europe/Berlin:20250206T230000
SUMMARY:O40 2. Liga Gr. 1 Gaiserwald II vs Buchs Zürich (0)
UID:94d89567-673c-42ae-a687-2a5e8ca1bef5
STATUS:CONFIRMED
LAST-MODIFIED:20250207T115547Z
DESCRIPTION:2. Liga O40 Gruppe 1\nBegegnungs-Nr: 0\nHeim: Gaiserwald II\nGast: Buchs Zürich\n\nAdresse: Sonnenbergstrasse 15\, 9030 Abtwil\n
LOCATION:Sonnenbergstrasse 15\, 9030 Abtwil
CATEGORIES:Saison 2024/25
END:VEVENT
BEGIN:VEVENT
DTSTAMP:20260425T005106Z
DTSTART;TZID=Europe/Berlin:20241209T200000
DTEND;TZID=Europe/Berlin:20241209T230000
SUMMARY:O40 2. Liga Gr. 1 Dübendorf-Volketswil vs Buchs Zürich (0)
UID:71156146-4f87-4fcb-86f0-ff962b7d16af
STATUS:CONFIRMED
LAST-MODIFIED:20241211T103357Z
DESCRIPTION:2. Liga O40 Gruppe 1\nBegegnungs-Nr: 0\nHeim: Dübendorf-Volketswil\nGast: Buchs Zürich\n\nAdresse: Usterstrasse 35\, 8604 Volketswil\n
LOCATION:Usterstrasse 35\, 8604 Volketswil
CATEGORIES:Saison 2024/25
END:VEVENT
BEGIN:VEVENT
DTSTAMP:20260425T005106Z
DTSTART;TZID=Europe/Berlin:20241128T200000
DTEND;TZID=Europe/Berlin:20241128T230000
SUMMARY:O40 2. Liga Gr. 1 Winterthur vs Buchs Zürich (0)
UID:feeb0e23-7b76-4122-a8d7-ae6d7770ed8d
STATUS:CONFIRMED
LAST-MODIFIED:20241205T130113Z
DESCRIPTION:2. Liga O40 Gruppe 1\nBegegnungs-Nr: 0\nHeim: Winterthur\nGast: Buchs Zürich\n\nAdresse: Buchackerstrasse 54\, 8400 Winterthur\n
LOCATION:Buchackerstrasse 54\, 8400 Winterthur
CATEGORIES:Saison 2024/25
END:VEVENT
END:VCALENDAR
