BEGIN:VCALENDAR
PRODID:-//nuDatenautomaten//framework iCal4j //DE
VERSION:2.0
CALSCALE:GREGORIAN
BEGIN:VTIMEZONE
TZID:Europe/Berlin
LAST-MODIFIED:20260306T231828Z
TZURL:https://www.tzurl.org/zoneinfo/Europe/Berlin
X-LIC-LOCATION:Europe/Berlin
X-PROLEPTIC-TZNAME:LMT
BEGIN:STANDARD
TZNAME:CET
TZOFFSETFROM:+005328
TZOFFSETTO:+0100
DTSTART:18930401T000000
END:STANDARD
BEGIN:DAYLIGHT
TZNAME:CEST
TZOFFSETFROM:+0100
TZOFFSETTO:+0200
DTSTART:19160430T230000
RDATE:19400401T020000
RDATE:19430329T020000
RDATE:19460414T020000
RDATE:19470406T030000
RDATE:19480418T020000
RDATE:19490410T020000
RDATE:19800406T020000
END:DAYLIGHT
BEGIN:STANDARD
TZNAME:CET
TZOFFSETFROM:+0200
TZOFFSETTO:+0100
DTSTART:19161001T010000
RDATE:19421102T030000
RDATE:19431004T030000
RDATE:19441002T030000
RDATE:19451118T030000
RDATE:19461007T030000
END:STANDARD
BEGIN:DAYLIGHT
TZNAME:CEST
TZOFFSETFROM:+0100
TZOFFSETTO:+0200
DTSTART:19170416T020000
RRULE:FREQ=YEARLY;UNTIL=19180415T010000Z;BYMONTH=4;BYDAY=3MO
END:DAYLIGHT
BEGIN:STANDARD
TZNAME:CET
TZOFFSETFROM:+0200
TZOFFSETTO:+0100
DTSTART:19170917T030000
RRULE:FREQ=YEARLY;UNTIL=19180916T010000Z;BYMONTH=9;BYDAY=3MO
END:STANDARD
BEGIN:DAYLIGHT
TZNAME:CEST
TZOFFSETFROM:+0100
TZOFFSETTO:+0200
DTSTART:19440403T020000
RRULE:FREQ=YEARLY;UNTIL=19450402T010000Z;BYMONTH=4;BYDAY=1MO
END:DAYLIGHT
BEGIN:DAYLIGHT
TZNAME:CEMT
TZOFFSETFROM:+0200
TZOFFSETTO:+0300
DTSTART:19450524T020000
RDATE:19470511T030000
END:DAYLIGHT
BEGIN:DAYLIGHT
TZNAME:CEST
TZOFFSETFROM:+0300
TZOFFSETTO:+0200
DTSTART:19450924T030000
RDATE:19470629T030000
END:DAYLIGHT
BEGIN:STANDARD
TZNAME:CET
TZOFFSETFROM:+0100
TZOFFSETTO:+0100
DTSTART:19460101T000000
RDATE:19800101T000000
END:STANDARD
BEGIN:STANDARD
TZNAME:CET
TZOFFSETFROM:+0200
TZOFFSETTO:+0100
DTSTART:19471005T030000
RRULE:FREQ=YEARLY;UNTIL=19491002T010000Z;BYMONTH=10;BYDAY=1SU
END:STANDARD
BEGIN:STANDARD
TZNAME:CET
TZOFFSETFROM:+0200
TZOFFSETTO:+0100
DTSTART:19800928T030000
RRULE:FREQ=YEARLY;UNTIL=19950924T010000Z;BYMONTH=9;BYDAY=-1SU
END:STANDARD
BEGIN:DAYLIGHT
TZNAME:CEST
TZOFFSETFROM:+0100
TZOFFSETTO:+0200
DTSTART:19810329T020000
RRULE:FREQ=YEARLY;BYMONTH=3;BYDAY=-1SU
END:DAYLIGHT
BEGIN:STANDARD
TZNAME:CET
TZOFFSETFROM:+0200
TZOFFSETTO:+0100
DTSTART:19961027T030000
RRULE:FREQ=YEARLY;BYMONTH=10;BYDAY=-1SU
END:STANDARD
END:VTIMEZONE
BEGIN:VEVENT
DTSTAMP:20260425T005045Z
DTSTART;TZID=Europe/Berlin:20240831T130000
DTEND;TZID=Europe/Berlin:20240831T160000
SUMMARY:JUG\, 3.Liga\, Gr.4\, Vorrunde Wädenswil III vs Rapperswil-Jona IV (1)
UID:1d5a8fcd-3207-47d4-acfd-c716ae8cb3fc
STATUS:CONFIRMED
LAST-MODIFIED:20240904T131653Z
DESCRIPTION:Jugend\, 3. Liga\,Gruppe 4\, Vorrunde\nBegegnungs-Nr: 1\nHeim: Wädenswil III\nGast: Rapperswil-Jona IV\n
LOCATION:
CATEGORIES:Saison 2024/25
END:VEVENT
BEGIN:VEVENT
DTSTAMP:20260425T005045Z
DTSTART;TZID=Europe/Berlin:20240831T143000
DTEND;TZID=Europe/Berlin:20240831T173000
SUMMARY:JUG\, 3.Liga\, Gr.4\, Vorrunde Wädenswil III vs Kloten II (4)
UID:5ed56f89-1c9b-44be-95e4-e2e1b4ad7580
STATUS:CONFIRMED
LAST-MODIFIED:20240904T131747Z
DESCRIPTION:Jugend\, 3. Liga\,Gruppe 4\, Vorrunde\nBegegnungs-Nr: 4\nHeim: Wädenswil III\nGast: Kloten II\n
LOCATION:
CATEGORIES:Saison 2024/25
END:VEVENT
BEGIN:VEVENT
DTSTAMP:20260425T005045Z
DTSTART;TZID=Europe/Berlin:20241116T160000
DTEND;TZID=Europe/Berlin:20241116T190000
SUMMARY:JUG\, 3.Liga\, Gr.4\, Zw-Runde Wädenswil III vs Weinfelden (5)
UID:7fda00ea-3f00-41c7-8e4f-d7817ef1d3ae
STATUS:CONFIRMED
LAST-MODIFIED:20241122T153202Z
DESCRIPTION:Jugend\, 3. Liga\, Gruppe 4\, Zw-Runde\nBegegnungs-Nr: 5\nHeim: Wädenswil III\nGast: Weinfelden\n
LOCATION:
CATEGORIES:Saison 2024/25
END:VEVENT
BEGIN:VEVENT
DTSTAMP:20260425T005045Z
DTSTART;TZID=Europe/Berlin:20241116T130000
DTEND;TZID=Europe/Berlin:20241116T160000
SUMMARY:JUG\, 3.Liga\, Gr.4\, Zw-Runde Wädenswil III vs Rapperswil-Jona III (2)
UID:e26c40e6-a2da-407f-8846-4dfea72bab29
STATUS:CONFIRMED
LAST-MODIFIED:20241122T153135Z
DESCRIPTION:Jugend\, 3. Liga\, Gruppe 4\, Zw-Runde\nBegegnungs-Nr: 2\nHeim: Wädenswil III\nGast: Rapperswil-Jona III\n
LOCATION:
CATEGORIES:Saison 2024/25
END:VEVENT
BEGIN:VEVENT
DTSTAMP:20260425T005045Z
DTSTART;TZID=Europe/Berlin:20250329T143000
DTEND;TZID=Europe/Berlin:20250329T173000
SUMMARY:JUG\, 3.Liga\, Gr.2\, Final Wädenswil III vs Bülach (3)
UID:79740c66-c69d-4255-a713-1566f3d6c2f3
STATUS:CONFIRMED
LAST-MODIFIED:20250404T085135Z
DESCRIPTION:Jugend\, 3. Liga\, Gruppe 2\, Final\nBegegnungs-Nr: 3\nHeim: Wädenswil III\nGast: Bülach\n\nAdresse: Fuhrstrasse 16b\, 8820 Wädenswil\n
LOCATION:Fuhrstrasse 16b\, 8820 Wädenswil
CATEGORIES:Saison 2024/25
END:VEVENT
BEGIN:VEVENT
DTSTAMP:20260425T005045Z
DTSTART;TZID=Europe/Berlin:20240831T160000
DTEND;TZID=Europe/Berlin:20240831T190000
SUMMARY:JUG\, 3.Liga\, Gr.4\, Vorrunde Zürich-Affoltern IV vs Wädenswil III (6)
UID:356a3165-229d-49c8-8098-23e367b72104
STATUS:CONFIRMED
LAST-MODIFIED:20240904T131827Z
DESCRIPTION:Jugend\, 3. Liga\,Gruppe 4\, Vorrunde\nBegegnungs-Nr: 6\nHeim: Zürich-Affoltern IV\nGast: Wädenswil III\n
LOCATION:
CATEGORIES:Saison 2024/25
END:VEVENT
BEGIN:VEVENT
DTSTAMP:20260425T005045Z
DTSTART;TZID=Europe/Berlin:20241116T143000
DTEND;TZID=Europe/Berlin:20241116T173000
SUMMARY:JUG\, 3.Liga\, Gr.4\, Zw-Runde Horn vs Wädenswil III (4)
UID:98454a6c-e6ca-48e6-92f5-23c7b63d6425
STATUS:CONFIRMED
LAST-MODIFIED:20241122T153154Z
DESCRIPTION:Jugend\, 3. Liga\, Gruppe 4\, Zw-Runde\nBegegnungs-Nr: 4\nHeim: Horn\nGast: Wädenswil III\n
LOCATION:
CATEGORIES:Saison 2024/25
END:VEVENT
BEGIN:VEVENT
DTSTAMP:20260425T005045Z
DTSTART;TZID=Europe/Berlin:20250329T130000
DTEND;TZID=Europe/Berlin:20250329T160000
SUMMARY:JUG\, 3.Liga\, Gr.2\, Final Romanshorn vs Wädenswil III (1)
UID:3d053121-4ad3-44ac-81bb-35f870383445
STATUS:CONFIRMED
LAST-MODIFIED:20250404T085116Z
DESCRIPTION:Jugend\, 3. Liga\, Gruppe 2\, Final\nBegegnungs-Nr: 1\nHeim: Romanshorn\nGast: Wädenswil III\nHalle: Poule in Romanshorn\, Pestalozzi-TH\nAdresse: Florastrasse\, 8590 Romanshorn\n
LOCATION:Poule in Romanshorn\, Pestalozzi-TH Florastrasse\, 8590 Romanshorn
CATEGORIES:Saison 2024/25
END:VEVENT
BEGIN:VEVENT
DTSTAMP:20260425T005045Z
DTSTART;TZID=Europe/Berlin:20250329T160000
DTEND;TZID=Europe/Berlin:20250329T190000
SUMMARY:JUG\, 3.Liga\, Gr.2\, Final Kloten II vs Wädenswil III (5)
UID:277a37e6-4800-434a-9449-a916053cddbb
STATUS:CONFIRMED
LAST-MODIFIED:20250404T085155Z
DESCRIPTION:Jugend\, 3. Liga\, Gruppe 2\, Final\nBegegnungs-Nr: 5\nHeim: Kloten II\nGast: Wädenswil III\n\nAdresse: Schluefweg 10\, 8302 Kloten\n
LOCATION:Schluefweg 10\, 8302 Kloten
CATEGORIES:Saison 2024/25
END:VEVENT
END:VCALENDAR
