BEGIN:VCALENDAR
PRODID:-//nuDatenautomaten//framework iCal4j //DE
VERSION:2.0
CALSCALE:GREGORIAN
BEGIN:VTIMEZONE
TZID:Europe/Berlin
LAST-MODIFIED:20260306T231828Z
TZURL:https://www.tzurl.org/zoneinfo/Europe/Berlin
X-LIC-LOCATION:Europe/Berlin
X-PROLEPTIC-TZNAME:LMT
BEGIN:STANDARD
TZNAME:CET
TZOFFSETFROM:+005328
TZOFFSETTO:+0100
DTSTART:18930401T000000
END:STANDARD
BEGIN:DAYLIGHT
TZNAME:CEST
TZOFFSETFROM:+0100
TZOFFSETTO:+0200
DTSTART:19160430T230000
RDATE:19400401T020000
RDATE:19430329T020000
RDATE:19460414T020000
RDATE:19470406T030000
RDATE:19480418T020000
RDATE:19490410T020000
RDATE:19800406T020000
END:DAYLIGHT
BEGIN:STANDARD
TZNAME:CET
TZOFFSETFROM:+0200
TZOFFSETTO:+0100
DTSTART:19161001T010000
RDATE:19421102T030000
RDATE:19431004T030000
RDATE:19441002T030000
RDATE:19451118T030000
RDATE:19461007T030000
END:STANDARD
BEGIN:DAYLIGHT
TZNAME:CEST
TZOFFSETFROM:+0100
TZOFFSETTO:+0200
DTSTART:19170416T020000
RRULE:FREQ=YEARLY;UNTIL=19180415T010000Z;BYMONTH=4;BYDAY=3MO
END:DAYLIGHT
BEGIN:STANDARD
TZNAME:CET
TZOFFSETFROM:+0200
TZOFFSETTO:+0100
DTSTART:19170917T030000
RRULE:FREQ=YEARLY;UNTIL=19180916T010000Z;BYMONTH=9;BYDAY=3MO
END:STANDARD
BEGIN:DAYLIGHT
TZNAME:CEST
TZOFFSETFROM:+0100
TZOFFSETTO:+0200
DTSTART:19440403T020000
RRULE:FREQ=YEARLY;UNTIL=19450402T010000Z;BYMONTH=4;BYDAY=1MO
END:DAYLIGHT
BEGIN:DAYLIGHT
TZNAME:CEMT
TZOFFSETFROM:+0200
TZOFFSETTO:+0300
DTSTART:19450524T020000
RDATE:19470511T030000
END:DAYLIGHT
BEGIN:DAYLIGHT
TZNAME:CEST
TZOFFSETFROM:+0300
TZOFFSETTO:+0200
DTSTART:19450924T030000
RDATE:19470629T030000
END:DAYLIGHT
BEGIN:STANDARD
TZNAME:CET
TZOFFSETFROM:+0100
TZOFFSETTO:+0100
DTSTART:19460101T000000
RDATE:19800101T000000
END:STANDARD
BEGIN:STANDARD
TZNAME:CET
TZOFFSETFROM:+0200
TZOFFSETTO:+0100
DTSTART:19471005T030000
RRULE:FREQ=YEARLY;UNTIL=19491002T010000Z;BYMONTH=10;BYDAY=1SU
END:STANDARD
BEGIN:STANDARD
TZNAME:CET
TZOFFSETFROM:+0200
TZOFFSETTO:+0100
DTSTART:19800928T030000
RRULE:FREQ=YEARLY;UNTIL=19950924T010000Z;BYMONTH=9;BYDAY=-1SU
END:STANDARD
BEGIN:DAYLIGHT
TZNAME:CEST
TZOFFSETFROM:+0100
TZOFFSETTO:+0200
DTSTART:19810329T020000
RRULE:FREQ=YEARLY;BYMONTH=3;BYDAY=-1SU
END:DAYLIGHT
BEGIN:STANDARD
TZNAME:CET
TZOFFSETFROM:+0200
TZOFFSETTO:+0100
DTSTART:19961027T030000
RRULE:FREQ=YEARLY;BYMONTH=10;BYDAY=-1SU
END:STANDARD
END:VTIMEZONE
BEGIN:VEVENT
DTSTAMP:20260425T021331Z
DTSTART;TZID=Europe/Berlin:20241021T201500
DTEND;TZID=Europe/Berlin:20241021T231500
SUMMARY:O40 4. Liga Gr. 3 Urdorf II vs Höngg II (0)
UID:bbbf42f4-bf59-4ed9-9de2-788b38c26f04
STATUS:CONFIRMED
LAST-MODIFIED:20241023T082301Z
DESCRIPTION:4. Liga O40 Gruppe 3\nBegegnungs-Nr: 0\nHeim: Urdorf II\nGast: Höngg II\n\nAdresse: Weihermattstrasse 50\, 8902 Urdorf\n
LOCATION:Weihermattstrasse 50\, 8902 Urdorf
CATEGORIES:Saison 2024/25
END:VEVENT
BEGIN:VEVENT
DTSTAMP:20260425T021331Z
DTSTART;TZID=Europe/Berlin:20240819T201500
DTEND;TZID=Europe/Berlin:20240819T231500
SUMMARY:O40 4. Liga Gr. 3 Urdorf II vs Bülach III (0)
UID:5ec8d868-9a56-41fc-bcb7-52b2a5e5455b
STATUS:CONFIRMED
LAST-MODIFIED:20240828T091846Z
DESCRIPTION:4. Liga O40 Gruppe 3\nBegegnungs-Nr: 0\nHeim: Urdorf II\nGast: Bülach III\n\nAdresse: Weihermattstrasse 50\, 8902 Urdorf\n
LOCATION:Weihermattstrasse 50\, 8902 Urdorf
CATEGORIES:Saison 2024/25
END:VEVENT
BEGIN:VEVENT
DTSTAMP:20260425T021331Z
DTSTART;TZID=Europe/Berlin:20250331T201500
DTEND;TZID=Europe/Berlin:20250331T231500
SUMMARY:O40 4. Liga Gr. 3 Urdorf II vs Seebach-Kügeliloo (0)
UID:79039503-cb4e-40e2-a9df-641c8c786f39
STATUS:CONFIRMED
LAST-MODIFIED:20250404T084100Z
DESCRIPTION:4. Liga O40 Gruppe 3\nBegegnungs-Nr: 0\nHeim: Urdorf II\nGast: Seebach-Kügeliloo\n\nAdresse: Weihermattstrasse 50\, 8902 Urdorf\n
LOCATION:Weihermattstrasse 50\, 8902 Urdorf
CATEGORIES:Saison 2024/25
END:VEVENT
BEGIN:VEVENT
DTSTAMP:20260425T021331Z
DTSTART;TZID=Europe/Berlin:20250224T201500
DTEND;TZID=Europe/Berlin:20250224T231500
SUMMARY:O40 4. Liga Gr. 3 Urdorf II vs Buchs Zürich II (0)
UID:d2d776cb-af8e-44c6-a27f-07d7d3b50918
STATUS:CONFIRMED
LAST-MODIFIED:20250227T154338Z
DESCRIPTION:4. Liga O40 Gruppe 3\nBegegnungs-Nr: 0\nHeim: Urdorf II\nGast: Buchs Zürich II\n\nAdresse: Weihermattstrasse 50\, 8902 Urdorf\n
LOCATION:Weihermattstrasse 50\, 8902 Urdorf
CATEGORIES:Saison 2024/25
END:VEVENT
BEGIN:VEVENT
DTSTAMP:20260425T021331Z
DTSTART;TZID=Europe/Berlin:20250113T201500
DTEND;TZID=Europe/Berlin:20250113T231500
SUMMARY:O40 4. Liga Gr. 3 Urdorf II vs Young Stars ZH (0)
UID:7cd83b11-5c8a-4527-b8e8-e697ef76b76c
STATUS:CONFIRMED
LAST-MODIFIED:20250114T094746Z
DESCRIPTION:4. Liga O40 Gruppe 3\nBegegnungs-Nr: 0\nHeim: Urdorf II\nGast: Young Stars ZH\n\nAdresse: Weihermattstrasse 50\, 8902 Urdorf\n
LOCATION:Weihermattstrasse 50\, 8902 Urdorf
CATEGORIES:Saison 2024/25
END:VEVENT
BEGIN:VEVENT
DTSTAMP:20260425T021331Z
DTSTART;TZID=Europe/Berlin:20241125T201500
DTEND;TZID=Europe/Berlin:20241125T231500
SUMMARY:O40 4. Liga Gr. 3 Urdorf II vs Pinguin Zürich (0)
UID:d3f838a6-ffc1-4973-846a-5386c3c7478f
STATUS:CONFIRMED
LAST-MODIFIED:20241126T091552Z
DESCRIPTION:4. Liga O40 Gruppe 3\nBegegnungs-Nr: 0\nHeim: Urdorf II\nGast: Pinguin Zürich\n\nAdresse: Weihermattstrasse 50\, 8902 Urdorf\n
LOCATION:Weihermattstrasse 50\, 8902 Urdorf
CATEGORIES:Saison 2024/25
END:VEVENT
BEGIN:VEVENT
DTSTAMP:20260425T021331Z
DTSTART;TZID=Europe/Berlin:20241119T200000
DTEND;TZID=Europe/Berlin:20241119T230000
SUMMARY:O40 4. Liga Gr. 3 Seebach-Kügeliloo vs Urdorf II (0)
UID:9d920d02-3947-4802-bbff-ee48806d7f22
STATUS:CONFIRMED
LAST-MODIFIED:20241122T152047Z
DESCRIPTION:4. Liga O40 Gruppe 3\nBegegnungs-Nr: 0\nHeim: Seebach-Kügeliloo\nGast: Urdorf II\n\nAdresse: Sperletweg 71\, 8052 Zürich\n
LOCATION:Sperletweg 71\, 8052 Zürich
CATEGORIES:Saison 2024/25
END:VEVENT
BEGIN:VEVENT
DTSTAMP:20260425T021331Z
DTSTART;TZID=Europe/Berlin:20240930T201500
DTEND;TZID=Europe/Berlin:20240930T231500
SUMMARY:O40 4. Liga Gr. 3 Buchs Zürich II vs Urdorf II (0)
UID:33b03334-02c7-4904-bfdc-dec280207004
STATUS:CONFIRMED
LAST-MODIFIED:20241004T082224Z
DESCRIPTION:4. Liga O40 Gruppe 3\nBegegnungs-Nr: 0\nHeim: Buchs Zürich II\nGast: Urdorf II\n\nAdresse: Schulstrasse 73\, 8105 Regensdorf\n
LOCATION:Schulstrasse 73\, 8105 Regensdorf
CATEGORIES:Saison 2024/25
END:VEVENT
BEGIN:VEVENT
DTSTAMP:20260425T021331Z
DTSTART;TZID=Europe/Berlin:20241115T200000
DTEND;TZID=Europe/Berlin:20241115T230000
SUMMARY:O40 4. Liga Gr. 3 Young Stars ZH vs Urdorf II (0)
UID:536c94fc-b786-4748-bf83-e55e3db3fea2
STATUS:CONFIRMED
LAST-MODIFIED:20241122T152024Z
DESCRIPTION:4. Liga O40 Gruppe 3\nBegegnungs-Nr: 0\nHeim: Young Stars ZH\nGast: Urdorf II\n\nAdresse: Balgriststrasse 55\, 8008 Zürich\n
LOCATION:Balgriststrasse 55\, 8008 Zürich
CATEGORIES:Saison 2024/25
END:VEVENT
BEGIN:VEVENT
DTSTAMP:20260425T021331Z
DTSTART;TZID=Europe/Berlin:20250411T193000
DTEND;TZID=Europe/Berlin:20250411T223000
SUMMARY:O40 4. Liga Gr. 3 Pinguin Zürich vs Urdorf II (0)
UID:8a787b19-bf6c-43fe-af64-567a4fe5cc29
STATUS:CONFIRMED
LAST-MODIFIED:20250423T070836Z
DESCRIPTION:4. Liga O40 Gruppe 3\nBegegnungs-Nr: 0\nHeim: Pinguin Zürich\nGast: Urdorf II\n\nAdresse: Basteiplatz\, 8001 Zürich\n
LOCATION:Basteiplatz\, 8001 Zürich
CATEGORIES:Saison 2024/25
END:VEVENT
BEGIN:VEVENT
DTSTAMP:20260425T021331Z
DTSTART;TZID=Europe/Berlin:20250319T200000
DTEND;TZID=Europe/Berlin:20250319T230000
SUMMARY:O40 4. Liga Gr. 3 Höngg II vs Urdorf II (0)
UID:f4a9db61-bf46-400c-a928-bcec6144f399
STATUS:CONFIRMED
LAST-MODIFIED:20250321T124445Z
DESCRIPTION:4. Liga O40 Gruppe 3\nBegegnungs-Nr: 0\nHeim: Höngg II\nGast: Urdorf II\n\nAdresse: Bläsistrasse 2\, 8049 Zürich\n
LOCATION:Bläsistrasse 2\, 8049 Zürich
CATEGORIES:Saison 2024/25
END:VEVENT
BEGIN:VEVENT
DTSTAMP:20260425T021331Z
DTSTART;TZID=Europe/Berlin:20250207T193000
DTEND;TZID=Europe/Berlin:20250207T223000
SUMMARY:O40 4. Liga Gr. 3 Bülach III vs Urdorf II (0)
UID:cae26932-a40f-44dd-91a0-d2b60977da2b
STATUS:CONFIRMED
LAST-MODIFIED:20250213T133459Z
DESCRIPTION:4. Liga O40 Gruppe 3\nBegegnungs-Nr: 0\nHeim: Bülach III\nGast: Urdorf II\n\nAdresse: Schwerzgruebstrasse 28\, 8180 Bülach\n
LOCATION:Schwerzgruebstrasse 28\, 8180 Bülach
CATEGORIES:Saison 2024/25
END:VEVENT
END:VCALENDAR
