BEGIN:VCALENDAR
PRODID:-//nuDatenautomaten//framework iCal4j //DE
VERSION:2.0
CALSCALE:GREGORIAN
BEGIN:VTIMEZONE
TZID:Europe/Berlin
LAST-MODIFIED:20260306T231828Z
TZURL:https://www.tzurl.org/zoneinfo/Europe/Berlin
X-LIC-LOCATION:Europe/Berlin
X-PROLEPTIC-TZNAME:LMT
BEGIN:STANDARD
TZNAME:CET
TZOFFSETFROM:+005328
TZOFFSETTO:+0100
DTSTART:18930401T000000
END:STANDARD
BEGIN:DAYLIGHT
TZNAME:CEST
TZOFFSETFROM:+0100
TZOFFSETTO:+0200
DTSTART:19160430T230000
RDATE:19400401T020000
RDATE:19430329T020000
RDATE:19460414T020000
RDATE:19470406T030000
RDATE:19480418T020000
RDATE:19490410T020000
RDATE:19800406T020000
END:DAYLIGHT
BEGIN:STANDARD
TZNAME:CET
TZOFFSETFROM:+0200
TZOFFSETTO:+0100
DTSTART:19161001T010000
RDATE:19421102T030000
RDATE:19431004T030000
RDATE:19441002T030000
RDATE:19451118T030000
RDATE:19461007T030000
END:STANDARD
BEGIN:DAYLIGHT
TZNAME:CEST
TZOFFSETFROM:+0100
TZOFFSETTO:+0200
DTSTART:19170416T020000
RRULE:FREQ=YEARLY;UNTIL=19180415T010000Z;BYMONTH=4;BYDAY=3MO
END:DAYLIGHT
BEGIN:STANDARD
TZNAME:CET
TZOFFSETFROM:+0200
TZOFFSETTO:+0100
DTSTART:19170917T030000
RRULE:FREQ=YEARLY;UNTIL=19180916T010000Z;BYMONTH=9;BYDAY=3MO
END:STANDARD
BEGIN:DAYLIGHT
TZNAME:CEST
TZOFFSETFROM:+0100
TZOFFSETTO:+0200
DTSTART:19440403T020000
RRULE:FREQ=YEARLY;UNTIL=19450402T010000Z;BYMONTH=4;BYDAY=1MO
END:DAYLIGHT
BEGIN:DAYLIGHT
TZNAME:CEMT
TZOFFSETFROM:+0200
TZOFFSETTO:+0300
DTSTART:19450524T020000
RDATE:19470511T030000
END:DAYLIGHT
BEGIN:DAYLIGHT
TZNAME:CEST
TZOFFSETFROM:+0300
TZOFFSETTO:+0200
DTSTART:19450924T030000
RDATE:19470629T030000
END:DAYLIGHT
BEGIN:STANDARD
TZNAME:CET
TZOFFSETFROM:+0100
TZOFFSETTO:+0100
DTSTART:19460101T000000
RDATE:19800101T000000
END:STANDARD
BEGIN:STANDARD
TZNAME:CET
TZOFFSETFROM:+0200
TZOFFSETTO:+0100
DTSTART:19471005T030000
RRULE:FREQ=YEARLY;UNTIL=19491002T010000Z;BYMONTH=10;BYDAY=1SU
END:STANDARD
BEGIN:STANDARD
TZNAME:CET
TZOFFSETFROM:+0200
TZOFFSETTO:+0100
DTSTART:19800928T030000
RRULE:FREQ=YEARLY;UNTIL=19950924T010000Z;BYMONTH=9;BYDAY=-1SU
END:STANDARD
BEGIN:DAYLIGHT
TZNAME:CEST
TZOFFSETFROM:+0100
TZOFFSETTO:+0200
DTSTART:19810329T020000
RRULE:FREQ=YEARLY;BYMONTH=3;BYDAY=-1SU
END:DAYLIGHT
BEGIN:STANDARD
TZNAME:CET
TZOFFSETFROM:+0200
TZOFFSETTO:+0100
DTSTART:19961027T030000
RRULE:FREQ=YEARLY;BYMONTH=10;BYDAY=-1SU
END:STANDARD
END:VTIMEZONE
BEGIN:VEVENT
DTSTAMP:20260424T232552Z
DTSTART;TZID=Europe/Berlin:20241006T140000
DTEND;TZID=Europe/Berlin:20241006T170000
SUMMARY:STTL Women Young Stars ZH vs Lausanne (4)
UID:73f8f3d9-eafb-4df6-b782-338190804b48
STATUS:CONFIRMED
LAST-MODIFIED:20241011T074805Z
DESCRIPTION:Swiss Table Tennis League Women\nBegegnungs-Nr: 4\nHeim: Young Stars ZH\nGast: Lausanne\n\nAdresse: Seefeldstrasse 93\, 8008 Zürich\n
LOCATION:Seefeldstrasse 93\, 8008 Zürich
CATEGORIES:Saison 2024/25
END:VEVENT
BEGIN:VEVENT
DTSTAMP:20260424T232552Z
DTSTART;TZID=Europe/Berlin:20241102T173000
DTEND;TZID=Europe/Berlin:20241102T203000
SUMMARY:STTL Women Young Stars ZH vs Rio-Star Muttenz (9)
UID:337e6b38-3e2b-4f1f-86bf-905d51f6a0fe
STATUS:CONFIRMED
LAST-MODIFIED:20241105T085910Z
DESCRIPTION:Swiss Table Tennis League Women\nBegegnungs-Nr: 9\nHeim: Young Stars ZH\nGast: Rio-Star Muttenz\n\nAdresse: Seefeldstrasse 93\, 8008 Zürich\n
LOCATION:Seefeldstrasse 93\, 8008 Zürich
CATEGORIES:Saison 2024/25
END:VEVENT
BEGIN:VEVENT
DTSTAMP:20260424T232552Z
DTSTART;TZID=Europe/Berlin:20241208T110000
DTEND;TZID=Europe/Berlin:20241208T140000
SUMMARY:STTL Women Young Stars ZH vs Neuhausen (3)
UID:3896b9ba-1087-416c-8b14-a757adccb646
STATUS:CONFIRMED
LAST-MODIFIED:20241212T084539Z
DESCRIPTION:Swiss Table Tennis League Women\nBegegnungs-Nr: 3\nHeim: Young Stars ZH\nGast: Neuhausen\n\nAdresse: Seefeldstrasse 93\, 8008 Zürich\n
LOCATION:Seefeldstrasse 93\, 8008 Zürich
CATEGORIES:Saison 2024/25
END:VEVENT
BEGIN:VEVENT
DTSTAMP:20260424T232552Z
DTSTART;TZID=Europe/Berlin:20250330T140000
DTEND;TZID=Europe/Berlin:20250330T170000
SUMMARY:STTL Women Young Stars ZH vs ZZ-Lancy (13)
UID:2eedb7cd-0176-4ed0-b187-1f05eea90c12
STATUS:CONFIRMED
LAST-MODIFIED:20250403T092326Z
DESCRIPTION:Swiss Table Tennis League Women\nBegegnungs-Nr: 13\nHeim: Young Stars ZH\nGast: ZZ-Lancy\n\nAdresse: Seefeldstrasse 93\, 8008 Zürich\n
LOCATION:Seefeldstrasse 93\, 8008 Zürich
CATEGORIES:Saison 2024/25
END:VEVENT
BEGIN:VEVENT
DTSTAMP:20260424T232552Z
DTSTART;TZID=Europe/Berlin:20250201T173000
DTEND;TZID=Europe/Berlin:20250201T203000
SUMMARY:STTL Women Young Stars ZH vs Zürich-Affoltern (4)
UID:8391bc5f-2cd4-4d90-b8e9-054be2a5cdfa
STATUS:CONFIRMED
LAST-MODIFIED:20250210T075023Z
DESCRIPTION:Swiss Table Tennis League Women\nBegegnungs-Nr: 4\nHeim: Young Stars ZH\nGast: Zürich-Affoltern\n\nAdresse: Seefeldstrasse 93\, 8008 Zürich\n
LOCATION:Seefeldstrasse 93\, 8008 Zürich
CATEGORIES:Saison 2024/25
END:VEVENT
BEGIN:VEVENT
DTSTAMP:20260424T232552Z
DTSTART;TZID=Europe/Berlin:20250510T173000
DTEND;TZID=Europe/Berlin:20250510T203000
SUMMARY:STTL Women/DA NLB Auf/Ab Young Stars ZH vs Wädenswil (1)
UID:71ccb941-6811-4518-b0dd-85db42ef171d
STATUS:CONFIRMED
LAST-MODIFIED:20250513T074103Z
DESCRIPTION:Swiss Table Tennis League Women/Damen NLB Auf-/Abstiegsspiele\nBegegnungs-Nr: 1\nHeim: Young Stars ZH\nGast: Wädenswil\n\nAdresse: Seefeldstrasse 93\, 8008 Zürich\n
LOCATION:Seefeldstrasse 93\, 8008 Zürich
CATEGORIES:Saison 2024/25
END:VEVENT
BEGIN:VEVENT
DTSTAMP:20260424T232552Z
DTSTART;TZID=Europe/Berlin:20241005T140000
DTEND;TZID=Europe/Berlin:20241005T170000
SUMMARY:STTL Women Zürich-Affoltern vs Young Stars ZH (1)
UID:15be005d-ffcf-4f9a-9652-6a3a797fb04e
STATUS:CONFIRMED
LAST-MODIFIED:20241011T074640Z
DESCRIPTION:Swiss Table Tennis League Women\nBegegnungs-Nr: 1\nHeim: Zürich-Affoltern\nGast: Young Stars ZH\n\nAdresse: Rümlangstr. 89\, 8052 Zürich\n
LOCATION:Rümlangstr. 89\, 8052 Zürich
CATEGORIES:Saison 2024/25
END:VEVENT
BEGIN:VEVENT
DTSTAMP:20260424T232552Z
DTSTART;TZID=Europe/Berlin:20241103T150000
DTEND;TZID=Europe/Berlin:20241103T180000
SUMMARY:STTL Women ZZ-Lancy vs Young Stars ZH (10)
UID:0bcf422f-db6d-471c-980a-dbe8363d315a
STATUS:CONFIRMED
LAST-MODIFIED:20241105T090220Z
DESCRIPTION:Swiss Table Tennis League Women\nBegegnungs-Nr: 10\nHeim: ZZ-Lancy\nGast: Young Stars ZH\n\nAdresse: Avenue du Curé-Baud 40\, 1212 Grand-Lancy\n
LOCATION:Avenue du Curé-Baud 40\, 1212 Grand-Lancy
CATEGORIES:Saison 2024/25
END:VEVENT
BEGIN:VEVENT
DTSTAMP:20260424T232552Z
DTSTART;TZID=Europe/Berlin:20241207T180000
DTEND;TZID=Europe/Berlin:20241207T210000
SUMMARY:STTL Women Neuhausen vs Young Stars ZH (15)
UID:30ae2ba2-0c29-4a28-82c3-544ba4c35849
STATUS:CONFIRMED
LAST-MODIFIED:20241212T084510Z
DESCRIPTION:Swiss Table Tennis League Women\nBegegnungs-Nr: 15\nHeim: Neuhausen\nGast: Young Stars ZH\n\nAdresse: Ebnatstrasse 35\, 8200 Schaffhausen\n
LOCATION:Ebnatstrasse 35\, 8200 Schaffhausen
CATEGORIES:Saison 2024/25
END:VEVENT
BEGIN:VEVENT
DTSTAMP:20260424T232552Z
DTSTART;TZID=Europe/Berlin:20250329T160000
DTEND;TZID=Europe/Berlin:20250329T190000
SUMMARY:STTL Women Rio-Star Muttenz vs Young Stars ZH (12)
UID:8a6925ea-cbbf-43d5-b6fe-19f565ea313c
STATUS:CONFIRMED
LAST-MODIFIED:20250403T092318Z
DESCRIPTION:Swiss Table Tennis League Women\nBegegnungs-Nr: 12\nHeim: Rio-Star Muttenz\nGast: Young Stars ZH\n\nAdresse: Gründenstrasse 32\, 4132 Muttenz\n
LOCATION:Gründenstrasse 32\, 4132 Muttenz
CATEGORIES:Saison 2024/25
END:VEVENT
BEGIN:VEVENT
DTSTAMP:20260424T232552Z
DTSTART;TZID=Europe/Berlin:20250202T120000
DTEND;TZID=Europe/Berlin:20250202T150000
SUMMARY:STTL Women Lausanne vs Young Stars ZH (7)
UID:5402cf6e-8c3f-4d45-b91b-f3ed84921d55
STATUS:CONFIRMED
LAST-MODIFIED:20250210T075037Z
DESCRIPTION:Swiss Table Tennis League Women\nBegegnungs-Nr: 7\nHeim: Lausanne\nGast: Young Stars ZH\n\nAdresse: Vaudoise Aréna\, Ch. du Viaduc 14\, 1008 Prilly\n
LOCATION:Vaudoise Aréna\, Ch. du Viaduc 14\, 1008 Prilly
CATEGORIES:Saison 2024/25
END:VEVENT
BEGIN:VEVENT
DTSTAMP:20260424T232552Z
DTSTART;TZID=Europe/Berlin:20250511T180000
DTEND;TZID=Europe/Berlin:20250511T210000
SUMMARY:STTL Women/DA NLB Auf/Ab Wädenswil vs Young Stars ZH (2)
UID:964ae175-5da9-45f5-9938-e3881199a7c7
STATUS:CONFIRMED
LAST-MODIFIED:20250513T074155Z
DESCRIPTION:Swiss Table Tennis League Women/Damen NLB Auf-/Abstiegsspiele\nBegegnungs-Nr: 2\nHeim: Wädenswil\nGast: Young Stars ZH\n\nAdresse: Fuhrstrasse 16b\, 8820 Wädenswil\n
LOCATION:Fuhrstrasse 16b\, 8820 Wädenswil
CATEGORIES:Saison 2024/25
END:VEVENT
END:VCALENDAR
