BEGIN:VCALENDAR
PRODID:-//nuDatenautomaten//framework iCal4j //DE
VERSION:2.0
CALSCALE:GREGORIAN
BEGIN:VTIMEZONE
TZID:Europe/Berlin
LAST-MODIFIED:20260306T231828Z
TZURL:https://www.tzurl.org/zoneinfo/Europe/Berlin
X-LIC-LOCATION:Europe/Berlin
X-PROLEPTIC-TZNAME:LMT
BEGIN:STANDARD
TZNAME:CET
TZOFFSETFROM:+005328
TZOFFSETTO:+0100
DTSTART:18930401T000000
END:STANDARD
BEGIN:DAYLIGHT
TZNAME:CEST
TZOFFSETFROM:+0100
TZOFFSETTO:+0200
DTSTART:19160430T230000
RDATE:19400401T020000
RDATE:19430329T020000
RDATE:19460414T020000
RDATE:19470406T030000
RDATE:19480418T020000
RDATE:19490410T020000
RDATE:19800406T020000
END:DAYLIGHT
BEGIN:STANDARD
TZNAME:CET
TZOFFSETFROM:+0200
TZOFFSETTO:+0100
DTSTART:19161001T010000
RDATE:19421102T030000
RDATE:19431004T030000
RDATE:19441002T030000
RDATE:19451118T030000
RDATE:19461007T030000
END:STANDARD
BEGIN:DAYLIGHT
TZNAME:CEST
TZOFFSETFROM:+0100
TZOFFSETTO:+0200
DTSTART:19170416T020000
RRULE:FREQ=YEARLY;UNTIL=19180415T010000Z;BYMONTH=4;BYDAY=3MO
END:DAYLIGHT
BEGIN:STANDARD
TZNAME:CET
TZOFFSETFROM:+0200
TZOFFSETTO:+0100
DTSTART:19170917T030000
RRULE:FREQ=YEARLY;UNTIL=19180916T010000Z;BYMONTH=9;BYDAY=3MO
END:STANDARD
BEGIN:DAYLIGHT
TZNAME:CEST
TZOFFSETFROM:+0100
TZOFFSETTO:+0200
DTSTART:19440403T020000
RRULE:FREQ=YEARLY;UNTIL=19450402T010000Z;BYMONTH=4;BYDAY=1MO
END:DAYLIGHT
BEGIN:DAYLIGHT
TZNAME:CEMT
TZOFFSETFROM:+0200
TZOFFSETTO:+0300
DTSTART:19450524T020000
RDATE:19470511T030000
END:DAYLIGHT
BEGIN:DAYLIGHT
TZNAME:CEST
TZOFFSETFROM:+0300
TZOFFSETTO:+0200
DTSTART:19450924T030000
RDATE:19470629T030000
END:DAYLIGHT
BEGIN:STANDARD
TZNAME:CET
TZOFFSETFROM:+0100
TZOFFSETTO:+0100
DTSTART:19460101T000000
RDATE:19800101T000000
END:STANDARD
BEGIN:STANDARD
TZNAME:CET
TZOFFSETFROM:+0200
TZOFFSETTO:+0100
DTSTART:19471005T030000
RRULE:FREQ=YEARLY;UNTIL=19491002T010000Z;BYMONTH=10;BYDAY=1SU
END:STANDARD
BEGIN:STANDARD
TZNAME:CET
TZOFFSETFROM:+0200
TZOFFSETTO:+0100
DTSTART:19800928T030000
RRULE:FREQ=YEARLY;UNTIL=19950924T010000Z;BYMONTH=9;BYDAY=-1SU
END:STANDARD
BEGIN:DAYLIGHT
TZNAME:CEST
TZOFFSETFROM:+0100
TZOFFSETTO:+0200
DTSTART:19810329T020000
RRULE:FREQ=YEARLY;BYMONTH=3;BYDAY=-1SU
END:DAYLIGHT
BEGIN:STANDARD
TZNAME:CET
TZOFFSETFROM:+0200
TZOFFSETTO:+0100
DTSTART:19961027T030000
RRULE:FREQ=YEARLY;BYMONTH=10;BYDAY=-1SU
END:STANDARD
END:VTIMEZONE
BEGIN:VEVENT
DTSTAMP:20260425T005049Z
DTSTART;TZID=Europe/Berlin:20241203T201500
DTEND;TZID=Europe/Berlin:20241203T231500
SUMMARY:HE 5. Liga Gr. 2 Steckborn-Homburg IV vs Kreuzlingen II (0)
UID:f4c6f1e5-8913-4d2e-ac33-079cfa95332e
STATUS:CONFIRMED
LAST-MODIFIED:20241205T124810Z
DESCRIPTION:5. Liga Herren Gruppe 2\nBegegnungs-Nr: 0\nHeim: Steckborn-Homburg IV\nGast: Kreuzlingen II\n\nAdresse: Feldbach\, 8266 Steckborn\n
LOCATION:Feldbach\, 8266 Steckborn
CATEGORIES:Saison 2024/25
END:VEVENT
BEGIN:VEVENT
DTSTAMP:20260425T005049Z
DTSTART;TZID=Europe/Berlin:20241105T201500
DTEND;TZID=Europe/Berlin:20241105T231500
SUMMARY:HE 5. Liga Gr. 2 Steckborn-Homburg IV vs Neuhausen V (0)
UID:ef27256d-58df-4d89-9a6d-b180b17459d7
STATUS:CONFIRMED
LAST-MODIFIED:20241108T140820Z
DESCRIPTION:5. Liga Herren Gruppe 2\nBegegnungs-Nr: 0\nHeim: Steckborn-Homburg IV\nGast: Neuhausen V\n\nAdresse: Feldbach\, 8266 Steckborn\n
LOCATION:Feldbach\, 8266 Steckborn
CATEGORIES:Saison 2024/25
END:VEVENT
BEGIN:VEVENT
DTSTAMP:20260425T005049Z
DTSTART;TZID=Europe/Berlin:20240917T201500
DTEND;TZID=Europe/Berlin:20240917T231500
SUMMARY:HE 5. Liga Gr. 2 Steckborn-Homburg IV vs Ettenhausen IV (0)
UID:1ad70c3b-cfce-47ab-87af-168871989937
STATUS:CONFIRMED
LAST-MODIFIED:20240918T101912Z
DESCRIPTION:5. Liga Herren Gruppe 2\nBegegnungs-Nr: 0\nHeim: Steckborn-Homburg IV\nGast: Ettenhausen IV\n\nAdresse: Feldbach\, 8266 Steckborn\n
LOCATION:Feldbach\, 8266 Steckborn
CATEGORIES:Saison 2024/25
END:VEVENT
BEGIN:VEVENT
DTSTAMP:20260425T005049Z
DTSTART;TZID=Europe/Berlin:20240827T201500
DTEND;TZID=Europe/Berlin:20240827T231500
SUMMARY:HE 5. Liga Gr. 2 Steckborn-Homburg IV vs Wil SG V (0)
UID:c268703b-1364-4430-a782-bb24767c8512
STATUS:CONFIRMED
LAST-MODIFIED:20240828T083917Z
DESCRIPTION:5. Liga Herren Gruppe 2\nBegegnungs-Nr: 0\nHeim: Steckborn-Homburg IV\nGast: Wil SG V\n\nAdresse: Feldbach\, 8266 Steckborn\n
LOCATION:Feldbach\, 8266 Steckborn
CATEGORIES:Saison 2024/25
END:VEVENT
BEGIN:VEVENT
DTSTAMP:20260425T005049Z
DTSTART;TZID=Europe/Berlin:20250304T201500
DTEND;TZID=Europe/Berlin:20250304T231500
SUMMARY:HE 5. Liga Gr. 2 Steckborn-Homburg IV vs Gossau St.Gallen II (0)
UID:c27e70eb-1809-4dae-94eb-439e81b27413
STATUS:CONFIRMED
LAST-MODIFIED:20250311T160051Z
DESCRIPTION:5. Liga Herren Gruppe 2\nBegegnungs-Nr: 0\nHeim: Steckborn-Homburg IV\nGast: Gossau St.Gallen II\n\nAdresse: Feldbach\, 8266 Steckborn\n
LOCATION:Feldbach\, 8266 Steckborn
CATEGORIES:Saison 2024/25
END:VEVENT
BEGIN:VEVENT
DTSTAMP:20260425T005049Z
DTSTART;TZID=Europe/Berlin:20250211T201500
DTEND;TZID=Europe/Berlin:20250211T231500
SUMMARY:HE 5. Liga Gr. 2 Steckborn-Homburg IV vs Schlatt (0)
UID:de08f302-5c49-4811-be50-0f38f66de99f
STATUS:CONFIRMED
LAST-MODIFIED:20250219T154441Z
DESCRIPTION:5. Liga Herren Gruppe 2\nBegegnungs-Nr: 0\nHeim: Steckborn-Homburg IV\nGast: Schlatt\n\nAdresse: Feldbach\, 8266 Steckborn\n
LOCATION:Feldbach\, 8266 Steckborn
CATEGORIES:Saison 2024/25
END:VEVENT
BEGIN:VEVENT
DTSTAMP:20260425T005049Z
DTSTART;TZID=Europe/Berlin:20250121T201500
DTEND;TZID=Europe/Berlin:20250121T231500
SUMMARY:HE 5. Liga Gr. 2 Steckborn-Homburg IV vs Wallenwil III (0)
UID:658e4bc2-e64e-4ff9-870e-ce46f162e282
STATUS:CONFIRMED
LAST-MODIFIED:20250123T082957Z
DESCRIPTION:5. Liga Herren Gruppe 2\nBegegnungs-Nr: 0\nHeim: Steckborn-Homburg IV\nGast: Wallenwil III\n\nAdresse: Feldbach\, 8266 Steckborn\n
LOCATION:Feldbach\, 8266 Steckborn
CATEGORIES:Saison 2024/25
END:VEVENT
BEGIN:VEVENT
DTSTAMP:20260425T005049Z
DTSTART;TZID=Europe/Berlin:20250507T200000
DTEND;TZID=Europe/Berlin:20250507T230000
SUMMARY:HE 5.Liga Aufstieg 1.Rde. Romanshorn IV vs Steckborn-Homburg IV (511)
UID:93350db8-848e-461f-bb21-0abc5a6ecda5
STATUS:CONFIRMED
LAST-MODIFIED:20250508T082246Z
DESCRIPTION:5. Liga Herren Aufstieg 1.Rde.\nBegegnungs-Nr: 511\nHeim: Romanshorn IV\nGast: Steckborn-Homburg IV\n
LOCATION:
CATEGORIES:Saison 2024/25
END:VEVENT
BEGIN:VEVENT
DTSTAMP:20260425T005049Z
DTSTART;TZID=Europe/Berlin:20241029T200000
DTEND;TZID=Europe/Berlin:20241029T230000
SUMMARY:HE 5. Liga Gr. 2 Gossau St.Gallen II vs Steckborn-Homburg IV (0)
UID:f4e35b50-9458-41f5-a5a1-fe2277deedb4
STATUS:CONFIRMED
LAST-MODIFIED:20241030T112312Z
DESCRIPTION:5. Liga Herren Gruppe 2\nBegegnungs-Nr: 0\nHeim: Gossau St.Gallen II\nGast: Steckborn-Homburg IV\n\nAdresse: Falkenstrasse 21\, 9200 Gossau\n
LOCATION:Falkenstrasse 21\, 9200 Gossau
CATEGORIES:Saison 2024/25
END:VEVENT
BEGIN:VEVENT
DTSTAMP:20260425T005049Z
DTSTART;TZID=Europe/Berlin:20240923T193000
DTEND;TZID=Europe/Berlin:20240923T223000
SUMMARY:HE 5. Liga Gr. 2 Schlatt vs Steckborn-Homburg IV (0)
UID:8daec0c3-424f-4aed-8d58-2df6f31d0aed
STATUS:CONFIRMED
LAST-MODIFIED:20240926T114218Z
DESCRIPTION:5. Liga Herren Gruppe 2\nBegegnungs-Nr: 0\nHeim: Schlatt\nGast: Steckborn-Homburg IV\n\nAdresse: Waltersteinerstrasse 79\, 8418 Schlatt ZH\n
LOCATION:Waltersteinerstrasse 79\, 8418 Schlatt ZH
CATEGORIES:Saison 2024/25
END:VEVENT
BEGIN:VEVENT
DTSTAMP:20260425T005049Z
DTSTART;TZID=Europe/Berlin:20240902T201500
DTEND;TZID=Europe/Berlin:20240902T231500
SUMMARY:HE 5. Liga Gr. 2 Wallenwil III vs Steckborn-Homburg IV (0)
UID:7f984e3d-06c1-4f7a-8ca5-2a9217e8ffd9
STATUS:CONFIRMED
LAST-MODIFIED:20240904T103913Z
DESCRIPTION:5. Liga Herren Gruppe 2\nBegegnungs-Nr: 0\nHeim: Wallenwil III\nGast: Steckborn-Homburg IV\n\nAdresse: Stationsstrasse 29\, 8360 Wallenwil\n
LOCATION:Stationsstrasse 29\, 8360 Wallenwil
CATEGORIES:Saison 2024/25
END:VEVENT
BEGIN:VEVENT
DTSTAMP:20260425T005049Z
DTSTART;TZID=Europe/Berlin:20250326T200000
DTEND;TZID=Europe/Berlin:20250326T230000
SUMMARY:HE 5. Liga Gr. 2 Kreuzlingen II vs Steckborn-Homburg IV (0)
UID:3448e633-1f45-45d8-ac9b-d503334fcaa6
STATUS:CONFIRMED
LAST-MODIFIED:20250327T133943Z
DESCRIPTION:5. Liga Herren Gruppe 2\nBegegnungs-Nr: 0\nHeim: Kreuzlingen II\nGast: Steckborn-Homburg IV\n\nAdresse: Rothausstrasse 14\, 8280 Kreuzlingen\n
LOCATION:Rothausstrasse 14\, 8280 Kreuzlingen
CATEGORIES:Saison 2024/25
END:VEVENT
BEGIN:VEVENT
DTSTAMP:20260425T005049Z
DTSTART;TZID=Europe/Berlin:20250310T200000
DTEND;TZID=Europe/Berlin:20250310T230000
SUMMARY:HE 5. Liga Gr. 2 Neuhausen V vs Steckborn-Homburg IV (0)
UID:d43a587f-7d08-44de-b04d-469785d7db5a
STATUS:CONFIRMED
LAST-MODIFIED:20250311T160126Z
DESCRIPTION:5. Liga Herren Gruppe 2\nBegegnungs-Nr: 0\nHeim: Neuhausen V\nGast: Steckborn-Homburg IV\n\nAdresse: Ebnatstrasse 35\, 8200 Schaffhausen\n
LOCATION:Ebnatstrasse 35\, 8200 Schaffhausen
CATEGORIES:Saison 2024/25
END:VEVENT
BEGIN:VEVENT
DTSTAMP:20260425T005049Z
DTSTART;TZID=Europe/Berlin:20250208T113000
DTEND;TZID=Europe/Berlin:20250208T143000
SUMMARY:HE 5. Liga Gr. 2 Ettenhausen IV vs Steckborn-Homburg IV (0)
UID:12eed49b-ddd0-43ac-a757-4a05826f771a
STATUS:CONFIRMED
LAST-MODIFIED:20250219T142823Z
DESCRIPTION:5. Liga Herren Gruppe 2\nBegegnungs-Nr: 0\nHeim: Ettenhausen IV\nGast: Steckborn-Homburg IV\n\nAdresse: Weidlistrasse 12\, 8356 Ettenhausen\n
LOCATION:Weidlistrasse 12\, 8356 Ettenhausen
CATEGORIES:Saison 2024/25
END:VEVENT
BEGIN:VEVENT
DTSTAMP:20260425T005049Z
DTSTART;TZID=Europe/Berlin:20250107T201500
DTEND;TZID=Europe/Berlin:20250107T231500
SUMMARY:HE 5. Liga Gr. 2 Wil SG V vs Steckborn-Homburg IV (0)
UID:f3e300f8-cd27-4d4e-a4bb-e6395622fed5
STATUS:CONFIRMED
LAST-MODIFIED:20250110T151349Z
DESCRIPTION:5. Liga Herren Gruppe 2\nBegegnungs-Nr: 0\nHeim: Wil SG V\nGast: Steckborn-Homburg IV\n\nAdresse: Lindenhofstr. 23\, 9500 Wil\n
LOCATION:Lindenhofstr. 23\, 9500 Wil
CATEGORIES:Saison 2024/25
END:VEVENT
END:VCALENDAR
