BEGIN:VCALENDAR
PRODID:-//nuDatenautomaten//framework iCal4j //DE
VERSION:2.0
CALSCALE:GREGORIAN
BEGIN:VTIMEZONE
TZID:Europe/Berlin
LAST-MODIFIED:20260306T231828Z
TZURL:https://www.tzurl.org/zoneinfo/Europe/Berlin
X-LIC-LOCATION:Europe/Berlin
X-PROLEPTIC-TZNAME:LMT
BEGIN:STANDARD
TZNAME:CET
TZOFFSETFROM:+005328
TZOFFSETTO:+0100
DTSTART:18930401T000000
END:STANDARD
BEGIN:DAYLIGHT
TZNAME:CEST
TZOFFSETFROM:+0100
TZOFFSETTO:+0200
DTSTART:19160430T230000
RDATE:19400401T020000
RDATE:19430329T020000
RDATE:19460414T020000
RDATE:19470406T030000
RDATE:19480418T020000
RDATE:19490410T020000
RDATE:19800406T020000
END:DAYLIGHT
BEGIN:STANDARD
TZNAME:CET
TZOFFSETFROM:+0200
TZOFFSETTO:+0100
DTSTART:19161001T010000
RDATE:19421102T030000
RDATE:19431004T030000
RDATE:19441002T030000
RDATE:19451118T030000
RDATE:19461007T030000
END:STANDARD
BEGIN:DAYLIGHT
TZNAME:CEST
TZOFFSETFROM:+0100
TZOFFSETTO:+0200
DTSTART:19170416T020000
RRULE:FREQ=YEARLY;UNTIL=19180415T010000Z;BYMONTH=4;BYDAY=3MO
END:DAYLIGHT
BEGIN:STANDARD
TZNAME:CET
TZOFFSETFROM:+0200
TZOFFSETTO:+0100
DTSTART:19170917T030000
RRULE:FREQ=YEARLY;UNTIL=19180916T010000Z;BYMONTH=9;BYDAY=3MO
END:STANDARD
BEGIN:DAYLIGHT
TZNAME:CEST
TZOFFSETFROM:+0100
TZOFFSETTO:+0200
DTSTART:19440403T020000
RRULE:FREQ=YEARLY;UNTIL=19450402T010000Z;BYMONTH=4;BYDAY=1MO
END:DAYLIGHT
BEGIN:DAYLIGHT
TZNAME:CEMT
TZOFFSETFROM:+0200
TZOFFSETTO:+0300
DTSTART:19450524T020000
RDATE:19470511T030000
END:DAYLIGHT
BEGIN:DAYLIGHT
TZNAME:CEST
TZOFFSETFROM:+0300
TZOFFSETTO:+0200
DTSTART:19450924T030000
RDATE:19470629T030000
END:DAYLIGHT
BEGIN:STANDARD
TZNAME:CET
TZOFFSETFROM:+0100
TZOFFSETTO:+0100
DTSTART:19460101T000000
RDATE:19800101T000000
END:STANDARD
BEGIN:STANDARD
TZNAME:CET
TZOFFSETFROM:+0200
TZOFFSETTO:+0100
DTSTART:19471005T030000
RRULE:FREQ=YEARLY;UNTIL=19491002T010000Z;BYMONTH=10;BYDAY=1SU
END:STANDARD
BEGIN:STANDARD
TZNAME:CET
TZOFFSETFROM:+0200
TZOFFSETTO:+0100
DTSTART:19800928T030000
RRULE:FREQ=YEARLY;UNTIL=19950924T010000Z;BYMONTH=9;BYDAY=-1SU
END:STANDARD
BEGIN:DAYLIGHT
TZNAME:CEST
TZOFFSETFROM:+0100
TZOFFSETTO:+0200
DTSTART:19810329T020000
RRULE:FREQ=YEARLY;BYMONTH=3;BYDAY=-1SU
END:DAYLIGHT
BEGIN:STANDARD
TZNAME:CET
TZOFFSETFROM:+0200
TZOFFSETTO:+0100
DTSTART:19961027T030000
RRULE:FREQ=YEARLY;BYMONTH=10;BYDAY=-1SU
END:STANDARD
END:VTIMEZONE
BEGIN:VEVENT
DTSTAMP:20260425T005054Z
DTSTART;TZID=Europe/Berlin:20241028T201500
DTEND;TZID=Europe/Berlin:20241028T231500
SUMMARY:HE 6. Liga Gr. 7 Gossau Zuerich III vs Wolfhausen IV (0)
UID:110cb0cb-fc10-48e6-9b1b-9fa109e04a80
STATUS:CONFIRMED
LAST-MODIFIED:20241030T124253Z
DESCRIPTION:6. Liga Herren Gruppe 7\nBegegnungs-Nr: 0\nHeim: Gossau Zuerich III\nGast: Wolfhausen IV\n\nAdresse: Schulstrasse\, 8624 Grüt-Gossau\n
LOCATION:Schulstrasse\, 8624 Grüt-Gossau
CATEGORIES:Saison 2024/25
END:VEVENT
BEGIN:VEVENT
DTSTAMP:20260425T005054Z
DTSTART;TZID=Europe/Berlin:20240923T201500
DTEND;TZID=Europe/Berlin:20240923T231500
SUMMARY:HE 6. Liga Gr. 7 Gossau Zuerich III vs Toggenburg III (0)
UID:724844f5-deb9-465f-a06f-b10e2c24d4f7
STATUS:CONFIRMED
LAST-MODIFIED:20240926T113921Z
DESCRIPTION:6. Liga Herren Gruppe 7\nBegegnungs-Nr: 0\nHeim: Gossau Zuerich III\nGast: Toggenburg III\n\nAdresse: Schulstrasse\, 8624 Grüt-Gossau\n
LOCATION:Schulstrasse\, 8624 Grüt-Gossau
CATEGORIES:Saison 2024/25
END:VEVENT
BEGIN:VEVENT
DTSTAMP:20260425T005054Z
DTSTART;TZID=Europe/Berlin:20240902T201500
DTEND;TZID=Europe/Berlin:20240902T231500
SUMMARY:HE 6. Liga Gr. 7 Gossau Zuerich III vs Eschenbach II (0)
UID:0f430531-483e-4990-9839-00d84868f39f
STATUS:CONFIRMED
LAST-MODIFIED:20240904T120910Z
DESCRIPTION:6. Liga Herren Gruppe 7\nBegegnungs-Nr: 0\nHeim: Gossau Zuerich III\nGast: Eschenbach II\n\nAdresse: Schulstrasse\, 8624 Grüt-Gossau\n
LOCATION:Schulstrasse\, 8624 Grüt-Gossau
CATEGORIES:Saison 2024/25
END:VEVENT
BEGIN:VEVENT
DTSTAMP:20260425T005054Z
DTSTART;TZID=Europe/Berlin:20250106T201500
DTEND;TZID=Europe/Berlin:20250106T231500
SUMMARY:HE 6. Liga Gr. 7 Gossau Zuerich III vs Meilen-Männedorf VI (0)
UID:e2688fe6-3448-41fb-a397-dccfb0b00e8e
STATUS:CONFIRMED
LAST-MODIFIED:20250110T151827Z
DESCRIPTION:6. Liga Herren Gruppe 7\nBegegnungs-Nr: 0\nHeim: Gossau Zuerich III\nGast: Meilen-Männedorf VI\n\nAdresse: Schulstrasse\, 8624 Grüt-Gossau\n
LOCATION:Schulstrasse\, 8624 Grüt-Gossau
CATEGORIES:Saison 2024/25
END:VEVENT
BEGIN:VEVENT
DTSTAMP:20260425T005054Z
DTSTART;TZID=Europe/Berlin:20241202T201500
DTEND;TZID=Europe/Berlin:20241202T231500
SUMMARY:HE 6. Liga Gr. 7 Gossau Zuerich III vs Rüti (0)
UID:56848393-4035-4a37-8d1e-08e17f53c434
STATUS:CONFIRMED
LAST-MODIFIED:20241205T125932Z
DESCRIPTION:6. Liga Herren Gruppe 7\nBegegnungs-Nr: 0\nHeim: Gossau Zuerich III\nGast: Rüti\n\nAdresse: Schulstrasse\, 8624 Grüt-Gossau\n
LOCATION:Schulstrasse\, 8624 Grüt-Gossau
CATEGORIES:Saison 2024/25
END:VEVENT
BEGIN:VEVENT
DTSTAMP:20260425T005054Z
DTSTART;TZID=Europe/Berlin:20250127T201500
DTEND;TZID=Europe/Berlin:20250127T231500
SUMMARY:HE 6. Liga Gr. 7 Gossau Zuerich III vs Rapperswil-Jona VIII (0)
UID:b1eedb24-2292-4a18-88f8-ce8de3385715
STATUS:CONFIRMED
LAST-MODIFIED:20250129T130018Z
DESCRIPTION:6. Liga Herren Gruppe 7\nBegegnungs-Nr: 0\nHeim: Gossau Zuerich III\nGast: Rapperswil-Jona VIII\n\nAdresse: Schulstrasse\, 8624 Grüt-Gossau\n
LOCATION:Schulstrasse\, 8624 Grüt-Gossau
CATEGORIES:Saison 2024/25
END:VEVENT
BEGIN:VEVENT
DTSTAMP:20260425T005054Z
DTSTART;TZID=Europe/Berlin:20250325T200000
DTEND;TZID=Europe/Berlin:20250325T230000
SUMMARY:HE 6. Liga Gr. 7 Rüti vs Gossau Zuerich III (0)
UID:c4b13f07-76c1-4d77-bf92-bfe3cfe18852
STATUS:CONFIRMED
LAST-MODIFIED:20250327T134521Z
DESCRIPTION:6. Liga Herren Gruppe 7\nBegegnungs-Nr: 0\nHeim: Rüti\nGast: Gossau Zuerich III\n\nAdresse: Spitalstrasse 20\, 8630 Rüti\n
LOCATION:Spitalstrasse 20\, 8630 Rüti
CATEGORIES:Saison 2024/25
END:VEVENT
BEGIN:VEVENT
DTSTAMP:20260425T005054Z
DTSTART;TZID=Europe/Berlin:20250307T200000
DTEND;TZID=Europe/Berlin:20250307T230000
SUMMARY:HE 6. Liga Gr. 7 Wolfhausen IV vs Gossau Zuerich III (0)
UID:693eb836-da5d-4025-8ea9-ebf83574a2b9
STATUS:CONFIRMED
LAST-MODIFIED:20250312T150102Z
DESCRIPTION:6. Liga Herren Gruppe 7\nBegegnungs-Nr: 0\nHeim: Wolfhausen IV\nGast: Gossau Zuerich III\n\nAdresse: Schulstrasse 9\, 8633 Wolfhausen\n
LOCATION:Schulstrasse 9\, 8633 Wolfhausen
CATEGORIES:Saison 2024/25
END:VEVENT
BEGIN:VEVENT
DTSTAMP:20260425T005054Z
DTSTART;TZID=Europe/Berlin:20250214T200000
DTEND;TZID=Europe/Berlin:20250214T230000
SUMMARY:HE 6. Liga Gr. 7 Toggenburg III vs Gossau Zuerich III (0)
UID:106a2daa-76a8-4131-8983-be71f86ba86c
STATUS:CONFIRMED
LAST-MODIFIED:20250219T133332Z
DESCRIPTION:6. Liga Herren Gruppe 7\nBegegnungs-Nr: 0\nHeim: Toggenburg III\nGast: Gossau Zuerich III\n\nAdresse: Frohmaderweg\, 9630 Wattwil\n
LOCATION:Frohmaderweg\, 9630 Wattwil
CATEGORIES:Saison 2024/25
END:VEVENT
BEGIN:VEVENT
DTSTAMP:20260425T005054Z
DTSTART;TZID=Europe/Berlin:20250124T200000
DTEND;TZID=Europe/Berlin:20250124T230000
SUMMARY:HE 6. Liga Gr. 7 Eschenbach II vs Gossau Zuerich III (0)
UID:e5c614db-4e91-498c-81c3-91c7dcab1050
STATUS:CONFIRMED
LAST-MODIFIED:20250129T125955Z
DESCRIPTION:6. Liga Herren Gruppe 7\nBegegnungs-Nr: 0\nHeim: Eschenbach II\nGast: Gossau Zuerich III\n\nAdresse: Bildstöcklistrasse 2\, 8733 Eschenbach\n
LOCATION:Bildstöcklistrasse 2\, 8733 Eschenbach
CATEGORIES:Saison 2024/25
END:VEVENT
BEGIN:VEVENT
DTSTAMP:20260425T005054Z
DTSTART;TZID=Europe/Berlin:20240919T200000
DTEND;TZID=Europe/Berlin:20240919T230000
SUMMARY:HE 6. Liga Gr. 7 Rapperswil-Jona VIII vs Gossau Zuerich III (0)
UID:c5e04ba5-5789-43c2-bdc3-63114a1dcb35
STATUS:CONFIRMED
LAST-MODIFIED:20240920T140058Z
DESCRIPTION:6. Liga Herren Gruppe 7\nBegegnungs-Nr: 0\nHeim: Rapperswil-Jona VIII\nGast: Gossau Zuerich III\n\nAdresse: Holzwiesstrasse 39\, 8645 Jona\n
LOCATION:Holzwiesstrasse 39\, 8645 Jona
CATEGORIES:Saison 2024/25
END:VEVENT
BEGIN:VEVENT
DTSTAMP:20260425T005054Z
DTSTART;TZID=Europe/Berlin:20240827T194500
DTEND;TZID=Europe/Berlin:20240827T224500
SUMMARY:HE 6. Liga Gr. 7 Meilen-Männedorf VI vs Gossau Zuerich III (0)
UID:a2cda583-b9cd-47e3-bea6-6bb4a42eecbc
STATUS:CONFIRMED
LAST-MODIFIED:20240904T120803Z
DESCRIPTION:6. Liga Herren Gruppe 7\nBegegnungs-Nr: 0\nHeim: Meilen-Männedorf VI\nGast: Gossau Zuerich III\n\nAdresse: Schulhausstr. 27\, 8706 Meilen\n
LOCATION:Schulhausstr. 27\, 8706 Meilen
CATEGORIES:Saison 2024/25
END:VEVENT
END:VCALENDAR
