BEGIN:VCALENDAR
PRODID:-//nuDatenautomaten//framework iCal4j //DE
VERSION:2.0
CALSCALE:GREGORIAN
BEGIN:VTIMEZONE
TZID:Europe/Berlin
LAST-MODIFIED:20260306T231828Z
TZURL:https://www.tzurl.org/zoneinfo/Europe/Berlin
X-LIC-LOCATION:Europe/Berlin
X-PROLEPTIC-TZNAME:LMT
BEGIN:STANDARD
TZNAME:CET
TZOFFSETFROM:+005328
TZOFFSETTO:+0100
DTSTART:18930401T000000
END:STANDARD
BEGIN:DAYLIGHT
TZNAME:CEST
TZOFFSETFROM:+0100
TZOFFSETTO:+0200
DTSTART:19160430T230000
RDATE:19400401T020000
RDATE:19430329T020000
RDATE:19460414T020000
RDATE:19470406T030000
RDATE:19480418T020000
RDATE:19490410T020000
RDATE:19800406T020000
END:DAYLIGHT
BEGIN:STANDARD
TZNAME:CET
TZOFFSETFROM:+0200
TZOFFSETTO:+0100
DTSTART:19161001T010000
RDATE:19421102T030000
RDATE:19431004T030000
RDATE:19441002T030000
RDATE:19451118T030000
RDATE:19461007T030000
END:STANDARD
BEGIN:DAYLIGHT
TZNAME:CEST
TZOFFSETFROM:+0100
TZOFFSETTO:+0200
DTSTART:19170416T020000
RRULE:FREQ=YEARLY;UNTIL=19180415T010000Z;BYMONTH=4;BYDAY=3MO
END:DAYLIGHT
BEGIN:STANDARD
TZNAME:CET
TZOFFSETFROM:+0200
TZOFFSETTO:+0100
DTSTART:19170917T030000
RRULE:FREQ=YEARLY;UNTIL=19180916T010000Z;BYMONTH=9;BYDAY=3MO
END:STANDARD
BEGIN:DAYLIGHT
TZNAME:CEST
TZOFFSETFROM:+0100
TZOFFSETTO:+0200
DTSTART:19440403T020000
RRULE:FREQ=YEARLY;UNTIL=19450402T010000Z;BYMONTH=4;BYDAY=1MO
END:DAYLIGHT
BEGIN:DAYLIGHT
TZNAME:CEMT
TZOFFSETFROM:+0200
TZOFFSETTO:+0300
DTSTART:19450524T020000
RDATE:19470511T030000
END:DAYLIGHT
BEGIN:DAYLIGHT
TZNAME:CEST
TZOFFSETFROM:+0300
TZOFFSETTO:+0200
DTSTART:19450924T030000
RDATE:19470629T030000
END:DAYLIGHT
BEGIN:STANDARD
TZNAME:CET
TZOFFSETFROM:+0100
TZOFFSETTO:+0100
DTSTART:19460101T000000
RDATE:19800101T000000
END:STANDARD
BEGIN:STANDARD
TZNAME:CET
TZOFFSETFROM:+0200
TZOFFSETTO:+0100
DTSTART:19471005T030000
RRULE:FREQ=YEARLY;UNTIL=19491002T010000Z;BYMONTH=10;BYDAY=1SU
END:STANDARD
BEGIN:STANDARD
TZNAME:CET
TZOFFSETFROM:+0200
TZOFFSETTO:+0100
DTSTART:19800928T030000
RRULE:FREQ=YEARLY;UNTIL=19950924T010000Z;BYMONTH=9;BYDAY=-1SU
END:STANDARD
BEGIN:DAYLIGHT
TZNAME:CEST
TZOFFSETFROM:+0100
TZOFFSETTO:+0200
DTSTART:19810329T020000
RRULE:FREQ=YEARLY;BYMONTH=3;BYDAY=-1SU
END:DAYLIGHT
BEGIN:STANDARD
TZNAME:CET
TZOFFSETFROM:+0200
TZOFFSETTO:+0100
DTSTART:19961027T030000
RRULE:FREQ=YEARLY;BYMONTH=10;BYDAY=-1SU
END:STANDARD
END:VTIMEZONE
BEGIN:VEVENT
DTSTAMP:20260425T021422Z
DTSTART;TZID=Europe/Berlin:20241106T201500
DTEND;TZID=Europe/Berlin:20241106T231500
SUMMARY:HE 4. Liga Gr. 6 Urdorf II vs Sihltal (0)
UID:c4efe317-2246-4306-95c1-5e0545c0ef54
STATUS:CONFIRMED
LAST-MODIFIED:20241108T135550Z
DESCRIPTION:4. Liga Herren Gruppe 6\nBegegnungs-Nr: 0\nHeim: Urdorf II\nGast: Sihltal\n\nAdresse: Weihermattstrasse 50\, 8902 Urdorf\n
LOCATION:Weihermattstrasse 50\, 8902 Urdorf
CATEGORIES:Saison 2024/25
END:VEVENT
BEGIN:VEVENT
DTSTAMP:20260425T021422Z
DTSTART;TZID=Europe/Berlin:20240925T201500
DTEND;TZID=Europe/Berlin:20240925T231500
SUMMARY:HE 4. Liga Gr. 6 Urdorf II vs Flums IV (0)
UID:3a3086ef-2f1e-44c7-a5f8-d969439a1375
STATUS:CONFIRMED
LAST-MODIFIED:20240926T114033Z
DESCRIPTION:4. Liga Herren Gruppe 6\nBegegnungs-Nr: 0\nHeim: Urdorf II\nGast: Flums IV\n\nAdresse: Weihermattstrasse 50\, 8902 Urdorf\n
LOCATION:Weihermattstrasse 50\, 8902 Urdorf
CATEGORIES:Saison 2024/25
END:VEVENT
BEGIN:VEVENT
DTSTAMP:20260425T021422Z
DTSTART;TZID=Europe/Berlin:20240904T201500
DTEND;TZID=Europe/Berlin:20240904T231500
SUMMARY:HE 4. Liga Gr. 6 Urdorf II vs Affoltern A/A IV (0)
UID:77afb146-4b03-4382-af26-7dd3e9da986a
STATUS:CONFIRMED
LAST-MODIFIED:20240905T063802Z
DESCRIPTION:4. Liga Herren Gruppe 6\nBegegnungs-Nr: 0\nHeim: Urdorf II\nGast: Affoltern A/A IV\n\nAdresse: Weihermattstrasse 50\, 8902 Urdorf\n
LOCATION:Weihermattstrasse 50\, 8902 Urdorf
CATEGORIES:Saison 2024/25
END:VEVENT
BEGIN:VEVENT
DTSTAMP:20260425T021422Z
DTSTART;TZID=Europe/Berlin:20250326T201500
DTEND;TZID=Europe/Berlin:20250326T231500
SUMMARY:HE 4. Liga Gr. 6 Urdorf II vs Thalwil II (0)
UID:f290ac77-f069-4c7d-a325-b59bbe25e0ea
STATUS:CONFIRMED
LAST-MODIFIED:20250327T133817Z
DESCRIPTION:4. Liga Herren Gruppe 6\nBegegnungs-Nr: 0\nHeim: Urdorf II\nGast: Thalwil II\n\nAdresse: Weihermattstrasse 50\, 8902 Urdorf\n
LOCATION:Weihermattstrasse 50\, 8902 Urdorf
CATEGORIES:Saison 2024/25
END:VEVENT
BEGIN:VEVENT
DTSTAMP:20260425T021422Z
DTSTART;TZID=Europe/Berlin:20250305T201500
DTEND;TZID=Europe/Berlin:20250305T231500
SUMMARY:HE 4. Liga Gr. 6 Urdorf II vs Wädenswil V (0)
UID:43290628-83ef-47d5-bc09-bcb5f23eab00
STATUS:CONFIRMED
LAST-MODIFIED:20250311T155701Z
DESCRIPTION:4. Liga Herren Gruppe 6\nBegegnungs-Nr: 0\nHeim: Urdorf II\nGast: Wädenswil V\n\nAdresse: Weihermattstrasse 50\, 8902 Urdorf\n
LOCATION:Weihermattstrasse 50\, 8902 Urdorf
CATEGORIES:Saison 2024/25
END:VEVENT
BEGIN:VEVENT
DTSTAMP:20260425T021422Z
DTSTART;TZID=Europe/Berlin:20250129T201500
DTEND;TZID=Europe/Berlin:20250129T231500
SUMMARY:HE 4. Liga Gr. 6 Urdorf II vs BW-Wollishofen II (0)
UID:567f6a97-7780-41fd-993f-48b76edb7620
STATUS:CONFIRMED
LAST-MODIFIED:20250131T143738Z
DESCRIPTION:4. Liga Herren Gruppe 6\nBegegnungs-Nr: 0\nHeim: Urdorf II\nGast: BW-Wollishofen II\n\nAdresse: Weihermattstrasse 50\, 8902 Urdorf\n
LOCATION:Weihermattstrasse 50\, 8902 Urdorf
CATEGORIES:Saison 2024/25
END:VEVENT
BEGIN:VEVENT
DTSTAMP:20260425T021422Z
DTSTART;TZID=Europe/Berlin:20250108T201500
DTEND;TZID=Europe/Berlin:20250108T231500
SUMMARY:HE 4. Liga Gr. 6 Urdorf II vs Wettswil (0)
UID:8e5ba0fd-a983-4710-aebe-249721475f9a
STATUS:CONFIRMED
LAST-MODIFIED:20250110T151142Z
DESCRIPTION:4. Liga Herren Gruppe 6\nBegegnungs-Nr: 0\nHeim: Urdorf II\nGast: Wettswil\n\nAdresse: Weihermattstrasse 50\, 8902 Urdorf\n
LOCATION:Weihermattstrasse 50\, 8902 Urdorf
CATEGORIES:Saison 2024/25
END:VEVENT
BEGIN:VEVENT
DTSTAMP:20260425T021422Z
DTSTART;TZID=Europe/Berlin:20250509T200000
DTEND;TZID=Europe/Berlin:20250509T230000
SUMMARY:HE 4.Liga Abstieg Uster IV vs Urdorf II (413)
UID:ccfdf575-9d05-4851-9db1-845bd6fc47b0
STATUS:CONFIRMED
LAST-MODIFIED:20250420T190533Z
DESCRIPTION:4. Liga Herren Abstieg\nBegegnungs-Nr: 413\nHeim: Uster IV\nGast: Urdorf II\n
LOCATION:
CATEGORIES:Saison 2024/25
END:VEVENT
BEGIN:VEVENT
DTSTAMP:20260425T021422Z
DTSTART;TZID=Europe/Berlin:20241204T201500
DTEND;TZID=Europe/Berlin:20241204T231500
SUMMARY:HE 4. Liga Gr. 6 Thalwil II vs Urdorf II (0)
UID:03ee2535-40bd-42e2-8637-9667662d83e3
STATUS:CONFIRMED
LAST-MODIFIED:20241205T124647Z
DESCRIPTION:4. Liga Herren Gruppe 6\nBegegnungs-Nr: 0\nHeim: Thalwil II\nGast: Urdorf II\n\nAdresse: Bergstrasse 2\, 8800 Thalwil\n
LOCATION:Bergstrasse 2\, 8800 Thalwil
CATEGORIES:Saison 2024/25
END:VEVENT
BEGIN:VEVENT
DTSTAMP:20260425T021422Z
DTSTART;TZID=Europe/Berlin:20241031T200000
DTEND;TZID=Europe/Berlin:20241031T230000
SUMMARY:HE 4. Liga Gr. 6 Wädenswil V vs Urdorf II (0)
UID:18f149a5-5e33-4d74-9ab1-e8bd37e81f3f
STATUS:CONFIRMED
LAST-MODIFIED:20241108T134816Z
DESCRIPTION:4. Liga Herren Gruppe 6\nBegegnungs-Nr: 0\nHeim: Wädenswil V\nGast: Urdorf II\n\nAdresse: Fuhrstrasse 16b\, 8820 Wädenswil\n
LOCATION:Fuhrstrasse 16b\, 8820 Wädenswil
CATEGORIES:Saison 2024/25
END:VEVENT
BEGIN:VEVENT
DTSTAMP:20260425T021422Z
DTSTART;TZID=Europe/Berlin:20240911T200000
DTEND;TZID=Europe/Berlin:20240911T230000
SUMMARY:HE 4. Liga Gr. 6 BW-Wollishofen II vs Urdorf II (0)
UID:1bbfef75-7149-460f-8117-27424bb1d98e
STATUS:CONFIRMED
LAST-MODIFIED:20240912T201418Z
DESCRIPTION:4. Liga Herren Gruppe 6\nBegegnungs-Nr: 0\nHeim: BW-Wollishofen II\nGast: Urdorf II\n\nAdresse: Kilchbergstr. 28\, 8038 Zürich\n
LOCATION:Kilchbergstr. 28\, 8038 Zürich
CATEGORIES:Saison 2024/25
END:VEVENT
BEGIN:VEVENT
DTSTAMP:20260425T021422Z
DTSTART;TZID=Europe/Berlin:20240827T194500
DTEND;TZID=Europe/Berlin:20240827T224500
SUMMARY:HE 4. Liga Gr. 6 Wettswil vs Urdorf II (0)
UID:ad670089-f49e-4202-9faa-b2e893e9248d
STATUS:CONFIRMED
LAST-MODIFIED:20240828T083816Z
DESCRIPTION:4. Liga Herren Gruppe 6\nBegegnungs-Nr: 0\nHeim: Wettswil\nGast: Urdorf II\n\nAdresse: Hirsächersteig\, 8907 Wettswil\n
LOCATION:Hirsächersteig\, 8907 Wettswil
CATEGORIES:Saison 2024/25
END:VEVENT
BEGIN:VEVENT
DTSTAMP:20260425T021422Z
DTSTART;TZID=Europe/Berlin:20250311T201500
DTEND;TZID=Europe/Berlin:20250311T231500
SUMMARY:HE 4. Liga Gr. 6 Sihltal vs Urdorf II (0)
UID:044c27d2-01f2-4d57-8ecb-c0c4555bb301
STATUS:CONFIRMED
LAST-MODIFIED:20250312T145545Z
DESCRIPTION:4. Liga Herren Gruppe 6\nBegegnungs-Nr: 0\nHeim: Sihltal\nGast: Urdorf II\n\nAdresse: In der Schwerzi 4\, 8135 Langnau a/A\n
LOCATION:In der Schwerzi 4\, 8135 Langnau a/A
CATEGORIES:Saison 2024/25
END:VEVENT
BEGIN:VEVENT
DTSTAMP:20260425T021422Z
DTSTART;TZID=Europe/Berlin:20250214T201500
DTEND;TZID=Europe/Berlin:20250214T231500
SUMMARY:HE 4. Liga Gr. 6 Flums IV vs Urdorf II (0)
UID:4113e6e2-cf04-4c5f-9f90-f17864ee288c
STATUS:CONFIRMED
LAST-MODIFIED:20250219T113037Z
DESCRIPTION:4. Liga Herren Gruppe 6\nBegegnungs-Nr: 0\nHeim: Flums IV\nGast: Urdorf II\n\nAdresse: Bahnhofstrasse 23\, 8890 Flums\n
LOCATION:Bahnhofstrasse 23\, 8890 Flums
CATEGORIES:Saison 2024/25
END:VEVENT
BEGIN:VEVENT
DTSTAMP:20260425T021422Z
DTSTART;TZID=Europe/Berlin:20250124T200000
DTEND;TZID=Europe/Berlin:20250124T230000
SUMMARY:HE 4. Liga Gr. 6 Affoltern A/A IV vs Urdorf II (0)
UID:cba27932-863a-41a6-b873-10b08e267f94
STATUS:CONFIRMED
LAST-MODIFIED:20250129T123816Z
DESCRIPTION:4. Liga Herren Gruppe 6\nBegegnungs-Nr: 0\nHeim: Affoltern A/A IV\nGast: Urdorf II\n\nAdresse: Butzenstr. 2\, 8910 Affoltern am Albis\n
LOCATION:Butzenstr. 2\, 8910 Affoltern am Albis
CATEGORIES:Saison 2024/25
END:VEVENT
END:VCALENDAR
