BEGIN:VCALENDAR
PRODID:-//nuDatenautomaten//framework iCal4j //DE
VERSION:2.0
CALSCALE:GREGORIAN
BEGIN:VTIMEZONE
TZID:Europe/Berlin
LAST-MODIFIED:20260306T231828Z
TZURL:https://www.tzurl.org/zoneinfo/Europe/Berlin
X-LIC-LOCATION:Europe/Berlin
X-PROLEPTIC-TZNAME:LMT
BEGIN:STANDARD
TZNAME:CET
TZOFFSETFROM:+005328
TZOFFSETTO:+0100
DTSTART:18930401T000000
END:STANDARD
BEGIN:DAYLIGHT
TZNAME:CEST
TZOFFSETFROM:+0100
TZOFFSETTO:+0200
DTSTART:19160430T230000
RDATE:19400401T020000
RDATE:19430329T020000
RDATE:19460414T020000
RDATE:19470406T030000
RDATE:19480418T020000
RDATE:19490410T020000
RDATE:19800406T020000
END:DAYLIGHT
BEGIN:STANDARD
TZNAME:CET
TZOFFSETFROM:+0200
TZOFFSETTO:+0100
DTSTART:19161001T010000
RDATE:19421102T030000
RDATE:19431004T030000
RDATE:19441002T030000
RDATE:19451118T030000
RDATE:19461007T030000
END:STANDARD
BEGIN:DAYLIGHT
TZNAME:CEST
TZOFFSETFROM:+0100
TZOFFSETTO:+0200
DTSTART:19170416T020000
RRULE:FREQ=YEARLY;UNTIL=19180415T010000Z;BYMONTH=4;BYDAY=3MO
END:DAYLIGHT
BEGIN:STANDARD
TZNAME:CET
TZOFFSETFROM:+0200
TZOFFSETTO:+0100
DTSTART:19170917T030000
RRULE:FREQ=YEARLY;UNTIL=19180916T010000Z;BYMONTH=9;BYDAY=3MO
END:STANDARD
BEGIN:DAYLIGHT
TZNAME:CEST
TZOFFSETFROM:+0100
TZOFFSETTO:+0200
DTSTART:19440403T020000
RRULE:FREQ=YEARLY;UNTIL=19450402T010000Z;BYMONTH=4;BYDAY=1MO
END:DAYLIGHT
BEGIN:DAYLIGHT
TZNAME:CEMT
TZOFFSETFROM:+0200
TZOFFSETTO:+0300
DTSTART:19450524T020000
RDATE:19470511T030000
END:DAYLIGHT
BEGIN:DAYLIGHT
TZNAME:CEST
TZOFFSETFROM:+0300
TZOFFSETTO:+0200
DTSTART:19450924T030000
RDATE:19470629T030000
END:DAYLIGHT
BEGIN:STANDARD
TZNAME:CET
TZOFFSETFROM:+0100
TZOFFSETTO:+0100
DTSTART:19460101T000000
RDATE:19800101T000000
END:STANDARD
BEGIN:STANDARD
TZNAME:CET
TZOFFSETFROM:+0200
TZOFFSETTO:+0100
DTSTART:19471005T030000
RRULE:FREQ=YEARLY;UNTIL=19491002T010000Z;BYMONTH=10;BYDAY=1SU
END:STANDARD
BEGIN:STANDARD
TZNAME:CET
TZOFFSETFROM:+0200
TZOFFSETTO:+0100
DTSTART:19800928T030000
RRULE:FREQ=YEARLY;UNTIL=19950924T010000Z;BYMONTH=9;BYDAY=-1SU
END:STANDARD
BEGIN:DAYLIGHT
TZNAME:CEST
TZOFFSETFROM:+0100
TZOFFSETTO:+0200
DTSTART:19810329T020000
RRULE:FREQ=YEARLY;BYMONTH=3;BYDAY=-1SU
END:DAYLIGHT
BEGIN:STANDARD
TZNAME:CET
TZOFFSETFROM:+0200
TZOFFSETTO:+0100
DTSTART:19961027T030000
RRULE:FREQ=YEARLY;BYMONTH=10;BYDAY=-1SU
END:STANDARD
END:VTIMEZONE
BEGIN:VEVENT
DTSTAMP:20260419T230152Z
DTSTART;TZID=Europe/Berlin:20241206T200000
DTEND;TZID=Europe/Berlin:20241206T230000
SUMMARY:L5P1 Cortaillod IV vs Tramelan IV (0)
UID:025f5f3b-c31e-4b2b-9c50-7faf2848b330
STATUS:CONFIRMED
LAST-MODIFIED:20241208T110151Z
DESCRIPTION:5ème ligue phase 1\nBegegnungs-Nr: 0\nHeim: Cortaillod IV\nGast: Tramelan IV\n\nAdresse: Coteaux 1\, 2016 Cortaillod\n
LOCATION:Coteaux 1\, 2016 Cortaillod
CATEGORIES:Saison 2024/25
END:VEVENT
BEGIN:VEVENT
DTSTAMP:20260419T230152Z
DTSTART;TZID=Europe/Berlin:20241122T200000
DTEND;TZID=Europe/Berlin:20241122T230000
SUMMARY:L5P1 Cortaillod IV vs Moutier III (0)
UID:bc8c6e27-467b-49ef-ad12-dbd5c84f5e2e
STATUS:CONFIRMED
LAST-MODIFIED:20241129T082137Z
DESCRIPTION:5ème ligue phase 1\nBegegnungs-Nr: 0\nHeim: Cortaillod IV\nGast: Moutier III\n\nAdresse: Coteaux 1\, 2016 Cortaillod\n
LOCATION:Coteaux 1\, 2016 Cortaillod
CATEGORIES:Saison 2024/25
END:VEVENT
BEGIN:VEVENT
DTSTAMP:20260419T230152Z
DTSTART;TZID=Europe/Berlin:20240906T200000
DTEND;TZID=Europe/Berlin:20240906T230000
SUMMARY:L5P1 Cortaillod IV vs Omega V (0)
UID:f3d09570-970a-41e9-be36-b8431a5f3ec1
STATUS:CONFIRMED
LAST-MODIFIED:20240924T160622Z
DESCRIPTION:5ème ligue phase 1\nBegegnungs-Nr: 0\nHeim: Cortaillod IV\nGast: Omega V\n\nAdresse: Coteaux 1\, 2016 Cortaillod\n
LOCATION:Coteaux 1\, 2016 Cortaillod
CATEGORIES:Saison 2024/25
END:VEVENT
BEGIN:VEVENT
DTSTAMP:20260419T230152Z
DTSTART;TZID=Europe/Berlin:20241025T200000
DTEND;TZID=Europe/Berlin:20241025T230000
SUMMARY:L5P1 Cortaillod IV vs Entente Pongiste Neuchâteloise V (0)
UID:1b22f973-f78d-46c3-b9e7-fbf9341605ac
STATUS:CONFIRMED
LAST-MODIFIED:20241029T075108Z
DESCRIPTION:5ème ligue phase 1\nBegegnungs-Nr: 0\nHeim: Cortaillod IV\nGast: Entente Pongiste Neuchâteloise V\n\nAdresse: Coteaux 1\, 2016 Cortaillod\n
LOCATION:Coteaux 1\, 2016 Cortaillod
CATEGORIES:Saison 2024/25
END:VEVENT
BEGIN:VEVENT
DTSTAMP:20260419T230152Z
DTSTART;TZID=Europe/Berlin:20250124T200000
DTEND;TZID=Europe/Berlin:20250124T230000
SUMMARY:L4P2 Cortaillod IV vs Tavannes (0)
UID:6530b5b6-5312-410f-b880-47bb1b1ca7e8
STATUS:CONFIRMED
LAST-MODIFIED:20250128T152146Z
DESCRIPTION:4ème ligue phase 2\nBegegnungs-Nr: 0\nHeim: Cortaillod IV\nGast: Tavannes\n\nAdresse: Coteaux 1\, 2016 Cortaillod\n
LOCATION:Coteaux 1\, 2016 Cortaillod
CATEGORIES:Saison 2024/25
END:VEVENT
BEGIN:VEVENT
DTSTAMP:20260419T230152Z
DTSTART;TZID=Europe/Berlin:20250221T200000
DTEND;TZID=Europe/Berlin:20250221T230000
SUMMARY:L4P2 Cortaillod IV vs Hauterive (0)
UID:0e5fd079-a6ce-46f0-abba-d0b8a3d6415e
STATUS:CONFIRMED
LAST-MODIFIED:20250222T071635Z
DESCRIPTION:4ème ligue phase 2\nBegegnungs-Nr: 0\nHeim: Cortaillod IV\nGast: Hauterive\n\nAdresse: Coteaux 1\, 2016 Cortaillod\n
LOCATION:Coteaux 1\, 2016 Cortaillod
CATEGORIES:Saison 2024/25
END:VEVENT
BEGIN:VEVENT
DTSTAMP:20260419T230152Z
DTSTART;TZID=Europe/Berlin:20250411T200000
DTEND;TZID=Europe/Berlin:20250411T230000
SUMMARY:L4P2 Cortaillod IV vs Val-de-Ruz V (0)
UID:da0a2b06-9d94-4132-894d-887bf92567f4
STATUS:CONFIRMED
LAST-MODIFIED:20250413T125607Z
DESCRIPTION:4ème ligue phase 2\nBegegnungs-Nr: 0\nHeim: Cortaillod IV\nGast: Val-de-Ruz V\n\nAdresse: Coteaux 1\, 2016 Cortaillod\n
LOCATION:Coteaux 1\, 2016 Cortaillod
CATEGORIES:Saison 2024/25
END:VEVENT
BEGIN:VEVENT
DTSTAMP:20260419T230152Z
DTSTART;TZID=Europe/Berlin:20250502T200000
DTEND;TZID=Europe/Berlin:20250502T230000
SUMMARY:L4P2 Cortaillod IV vs Omega III (0)
UID:0197669b-feea-46d2-aaf1-585cc6cd2f45
STATUS:CONFIRMED
LAST-MODIFIED:20250512T090622Z
DESCRIPTION:4ème ligue phase 2\nBegegnungs-Nr: 0\nHeim: Cortaillod IV\nGast: Omega III\n\nAdresse: Coteaux 1\, 2016 Cortaillod\n
LOCATION:Coteaux 1\, 2016 Cortaillod
CATEGORIES:Saison 2024/25
END:VEVENT
BEGIN:VEVENT
DTSTAMP:20260419T230152Z
DTSTART;TZID=Europe/Berlin:20240911T200000
DTEND;TZID=Europe/Berlin:20240911T230000
SUMMARY:L5P1 Omega IV vs Cortaillod IV (0)
UID:3d357f8f-edd7-49f4-9648-152a3d8330c0
STATUS:CONFIRMED
LAST-MODIFIED:20240917T130201Z
DESCRIPTION:5ème ligue phase 1\nBegegnungs-Nr: 0\nHeim: Omega IV\nGast: Cortaillod IV\n\nAdresse: Tennisweg 1\, 2504 Biel-Bienne\n
LOCATION:Tennisweg 1\, 2504 Biel-Bienne
CATEGORIES:Saison 2024/25
END:VEVENT
BEGIN:VEVENT
DTSTAMP:20260419T230152Z
DTSTART;TZID=Europe/Berlin:20241115T193000
DTEND;TZID=Europe/Berlin:20241115T223000
SUMMARY:L5P1 Val-de-Ruz V vs Cortaillod IV (0)
UID:64549baf-47cc-4e99-82fc-09e09f268091
STATUS:CONFIRMED
LAST-MODIFIED:20241122T115522Z
DESCRIPTION:5ème ligue phase 1\nBegegnungs-Nr: 0\nHeim: Val-de-Ruz V\nGast: Cortaillod IV\n\nAdresse: Rue de Chasseral 3\, 2053 Cernier\n
LOCATION:Rue de Chasseral 3\, 2053 Cernier
CATEGORIES:Saison 2024/25
END:VEVENT
BEGIN:VEVENT
DTSTAMP:20260419T230152Z
DTSTART;TZID=Europe/Berlin:20241101T201500
DTEND;TZID=Europe/Berlin:20241101T231500
SUMMARY:L5P1 Delémont V vs Cortaillod IV (0)
UID:199a7014-1d3d-4026-8634-7501b2e659d0
STATUS:CONFIRMED
LAST-MODIFIED:20241104T144045Z
DESCRIPTION:5ème ligue phase 1\nBegegnungs-Nr: 0\nHeim: Delémont V\nGast: Cortaillod IV\n\nAdresse: Rue de la Blancherie 4\, 2800 Delémont\n
LOCATION:Rue de la Blancherie 4\, 2800 Delémont
CATEGORIES:Saison 2024/25
END:VEVENT
BEGIN:VEVENT
DTSTAMP:20260419T230152Z
DTSTART;TZID=Europe/Berlin:20241009T193000
DTEND;TZID=Europe/Berlin:20241009T223000
SUMMARY:L5P1 Hauterive II vs Cortaillod IV (0)
UID:b2d482de-c191-4ecf-8a88-2e47d8c0d828
STATUS:CONFIRMED
LAST-MODIFIED:20241010T112237Z
DESCRIPTION:5ème ligue phase 1\nBegegnungs-Nr: 0\nHeim: Hauterive II\nGast: Cortaillod IV\n\nAdresse: Rue des Longschamps 10\, 2068 Hauterive NE\n
LOCATION:Rue des Longschamps 10\, 2068 Hauterive NE
CATEGORIES:Saison 2024/25
END:VEVENT
BEGIN:VEVENT
DTSTAMP:20260419T230152Z
DTSTART;TZID=Europe/Berlin:20250207T200000
DTEND;TZID=Europe/Berlin:20250207T230000
SUMMARY:L4P2 Entente Pongiste Neuchâteloise V vs Cortaillod IV (0)
UID:d2562c97-031c-433a-aefd-d701cbceb05b
STATUS:CONFIRMED
LAST-MODIFIED:20250210T175018Z
DESCRIPTION:4ème ligue phase 2\nBegegnungs-Nr: 0\nHeim: Entente Pongiste Neuchâteloise V\nGast: Cortaillod IV\n\nAdresse: Allée du 700e\, 2525 Le Landeron\n
LOCATION:Allée du 700e\, 2525 Le Landeron
CATEGORIES:Saison 2024/25
END:VEVENT
BEGIN:VEVENT
DTSTAMP:20260419T230152Z
DTSTART;TZID=Europe/Berlin:20250314T201500
DTEND;TZID=Europe/Berlin:20250314T231500
SUMMARY:L4P2 Delémont III vs Cortaillod IV (0)
UID:3ecc7d60-3326-4b4f-bd6d-ef6996bf4cc7
STATUS:CONFIRMED
LAST-MODIFIED:20250317T071546Z
DESCRIPTION:4ème ligue phase 2\nBegegnungs-Nr: 0\nHeim: Delémont III\nGast: Cortaillod IV\n\nAdresse: Rue de la Blancherie 4\, 2800 Delémont\n
LOCATION:Rue de la Blancherie 4\, 2800 Delémont
CATEGORIES:Saison 2024/25
END:VEVENT
BEGIN:VEVENT
DTSTAMP:20260419T230152Z
DTSTART;TZID=Europe/Berlin:20250328T201500
DTEND;TZID=Europe/Berlin:20250328T231500
SUMMARY:L4P2 Delémont IV vs Cortaillod IV (0)
UID:63728093-08f8-42f2-8a5a-0ee891a547f7
STATUS:CONFIRMED
LAST-MODIFIED:20250404T050901Z
DESCRIPTION:4ème ligue phase 2\nBegegnungs-Nr: 0\nHeim: Delémont IV\nGast: Cortaillod IV\n\nAdresse: Rue de la Blancherie 4\, 2800 Delémont\n
LOCATION:Rue de la Blancherie 4\, 2800 Delémont
CATEGORIES:Saison 2024/25
END:VEVENT
END:VCALENDAR
