BEGIN:VCALENDAR
PRODID:-//nuDatenautomaten//framework iCal4j //DE
VERSION:2.0
CALSCALE:GREGORIAN
BEGIN:VTIMEZONE
TZID:Europe/Berlin
LAST-MODIFIED:20260306T231828Z
TZURL:https://www.tzurl.org/zoneinfo/Europe/Berlin
X-LIC-LOCATION:Europe/Berlin
X-PROLEPTIC-TZNAME:LMT
BEGIN:STANDARD
TZNAME:CET
TZOFFSETFROM:+005328
TZOFFSETTO:+0100
DTSTART:18930401T000000
END:STANDARD
BEGIN:DAYLIGHT
TZNAME:CEST
TZOFFSETFROM:+0100
TZOFFSETTO:+0200
DTSTART:19160430T230000
RDATE:19400401T020000
RDATE:19430329T020000
RDATE:19460414T020000
RDATE:19470406T030000
RDATE:19480418T020000
RDATE:19490410T020000
RDATE:19800406T020000
END:DAYLIGHT
BEGIN:STANDARD
TZNAME:CET
TZOFFSETFROM:+0200
TZOFFSETTO:+0100
DTSTART:19161001T010000
RDATE:19421102T030000
RDATE:19431004T030000
RDATE:19441002T030000
RDATE:19451118T030000
RDATE:19461007T030000
END:STANDARD
BEGIN:DAYLIGHT
TZNAME:CEST
TZOFFSETFROM:+0100
TZOFFSETTO:+0200
DTSTART:19170416T020000
RRULE:FREQ=YEARLY;UNTIL=19180415T010000Z;BYMONTH=4;BYDAY=3MO
END:DAYLIGHT
BEGIN:STANDARD
TZNAME:CET
TZOFFSETFROM:+0200
TZOFFSETTO:+0100
DTSTART:19170917T030000
RRULE:FREQ=YEARLY;UNTIL=19180916T010000Z;BYMONTH=9;BYDAY=3MO
END:STANDARD
BEGIN:DAYLIGHT
TZNAME:CEST
TZOFFSETFROM:+0100
TZOFFSETTO:+0200
DTSTART:19440403T020000
RRULE:FREQ=YEARLY;UNTIL=19450402T010000Z;BYMONTH=4;BYDAY=1MO
END:DAYLIGHT
BEGIN:DAYLIGHT
TZNAME:CEMT
TZOFFSETFROM:+0200
TZOFFSETTO:+0300
DTSTART:19450524T020000
RDATE:19470511T030000
END:DAYLIGHT
BEGIN:DAYLIGHT
TZNAME:CEST
TZOFFSETFROM:+0300
TZOFFSETTO:+0200
DTSTART:19450924T030000
RDATE:19470629T030000
END:DAYLIGHT
BEGIN:STANDARD
TZNAME:CET
TZOFFSETFROM:+0100
TZOFFSETTO:+0100
DTSTART:19460101T000000
RDATE:19800101T000000
END:STANDARD
BEGIN:STANDARD
TZNAME:CET
TZOFFSETFROM:+0200
TZOFFSETTO:+0100
DTSTART:19471005T030000
RRULE:FREQ=YEARLY;UNTIL=19491002T010000Z;BYMONTH=10;BYDAY=1SU
END:STANDARD
BEGIN:STANDARD
TZNAME:CET
TZOFFSETFROM:+0200
TZOFFSETTO:+0100
DTSTART:19800928T030000
RRULE:FREQ=YEARLY;UNTIL=19950924T010000Z;BYMONTH=9;BYDAY=-1SU
END:STANDARD
BEGIN:DAYLIGHT
TZNAME:CEST
TZOFFSETFROM:+0100
TZOFFSETTO:+0200
DTSTART:19810329T020000
RRULE:FREQ=YEARLY;BYMONTH=3;BYDAY=-1SU
END:DAYLIGHT
BEGIN:STANDARD
TZNAME:CET
TZOFFSETFROM:+0200
TZOFFSETTO:+0100
DTSTART:19961027T030000
RRULE:FREQ=YEARLY;BYMONTH=10;BYDAY=-1SU
END:STANDARD
END:VTIMEZONE
BEGIN:VEVENT
DTSTAMP:20260425T004234Z
DTSTART;TZID=Europe/Berlin:20240912T200000
DTEND;TZID=Europe/Berlin:20240912T230000
SUMMARY:Ligue 5 Gr.3 Ph.A Onex IV vs Meyrin VI (2)
UID:f7560c6b-821f-49db-9777-750a2fba84fe
STATUS:CONFIRMED
LAST-MODIFIED:20240913T161132Z
DESCRIPTION:5ème ligue Hommes Gr.3 Phase A\nBegegnungs-Nr: 2\nHeim: Onex IV\nGast: Meyrin VI\n
LOCATION:
CATEGORIES:Saison 2024/25
END:VEVENT
BEGIN:VEVENT
DTSTAMP:20260425T004234Z
DTSTART;TZID=Europe/Berlin:20240926T200000
DTEND;TZID=Europe/Berlin:20240926T230000
SUMMARY:Ligue 5 Gr.3 Ph.A Onex IV vs Grand-Saconnex V (8)
UID:100f21ff-e00a-44aa-af34-cc920a1b5ffe
STATUS:CONFIRMED
LAST-MODIFIED:20240927T081308Z
DESCRIPTION:5ème ligue Hommes Gr.3 Phase A\nBegegnungs-Nr: 8\nHeim: Onex IV\nGast: Grand-Saconnex V\n
LOCATION:
CATEGORIES:Saison 2024/25
END:VEVENT
BEGIN:VEVENT
DTSTAMP:20260425T004234Z
DTSTART;TZID=Europe/Berlin:20241010T200000
DTEND;TZID=Europe/Berlin:20241010T230000
SUMMARY:Ligue 5 Gr.3 Ph.A Onex IV vs Silver Star IX (12)
UID:4bcb5423-9f05-4a96-baf5-69e47a296ade
STATUS:CONFIRMED
LAST-MODIFIED:20241013T092030Z
DESCRIPTION:5ème ligue Hommes Gr.3 Phase A\nBegegnungs-Nr: 12\nHeim: Onex IV\nGast: Silver Star IX\n
LOCATION:
CATEGORIES:Saison 2024/25
END:VEVENT
BEGIN:VEVENT
DTSTAMP:20260425T004234Z
DTSTART;TZID=Europe/Berlin:20241114T200000
DTEND;TZID=Europe/Berlin:20241114T230000
SUMMARY:Ligue 5 Gr.3 Ph.A Onex IV vs Collex-Bossy II (20)
UID:8ca61d68-f19d-4f81-8561-a1a1e44df8c7
STATUS:CONFIRMED
LAST-MODIFIED:20241115T103204Z
DESCRIPTION:5ème ligue Hommes Gr.3 Phase A\nBegegnungs-Nr: 20\nHeim: Onex IV\nGast: Collex-Bossy II\n
LOCATION:
CATEGORIES:Saison 2024/25
END:VEVENT
BEGIN:VEVENT
DTSTAMP:20260425T004234Z
DTSTART;TZID=Europe/Berlin:20241205T200000
DTEND;TZID=Europe/Berlin:20241205T230000
SUMMARY:Ligue 5 Gr.3 Ph.A Onex IV vs Châtelaine IX (28)
UID:db99ae0a-16db-4bd1-a4cf-790768029a2c
STATUS:CONFIRMED
LAST-MODIFIED:20241206T082944Z
DESCRIPTION:5ème ligue Hommes Gr.3 Phase A\nBegegnungs-Nr: 28\nHeim: Onex IV\nGast: Châtelaine IX\n
LOCATION:
CATEGORIES:Saison 2024/25
END:VEVENT
BEGIN:VEVENT
DTSTAMP:20260425T004234Z
DTSTART;TZID=Europe/Berlin:20250130T200000
DTEND;TZID=Europe/Berlin:20250130T230000
SUMMARY:Ligue 5 Gr.3 Ph.B Onex IV vs ZZ-Lancy X (6)
UID:c2b12d6e-55bd-40d4-888b-dabc9b7dcd39
STATUS:CONFIRMED
LAST-MODIFIED:20250131T081051Z
DESCRIPTION:5ème ligue Hommes Gr.3 Phase B\nBegegnungs-Nr: 6\nHeim: Onex IV\nGast: ZZ-Lancy X\n
LOCATION:
CATEGORIES:Saison 2024/25
END:VEVENT
BEGIN:VEVENT
DTSTAMP:20260425T004234Z
DTSTART;TZID=Europe/Berlin:20250417T200000
DTEND;TZID=Europe/Berlin:20250417T230000
SUMMARY:Ligue 5 Gr.3 Ph.B Onex IV vs Rapid-Genève IV (19)
UID:19a824ff-9e9c-4c35-bd4e-44a90c9f6cea
STATUS:CONFIRMED
LAST-MODIFIED:20250418T193430Z
DESCRIPTION:5ème ligue Hommes Gr.3 Phase B\nBegegnungs-Nr: 19\nHeim: Onex IV\nGast: Rapid-Genève IV\n
LOCATION:
CATEGORIES:Saison 2024/25
END:VEVENT
BEGIN:VEVENT
DTSTAMP:20260425T004234Z
DTSTART;TZID=Europe/Berlin:20250116T200000
DTEND;TZID=Europe/Berlin:20250116T230000
SUMMARY:Ligue 5 Gr.3 Ph.B Onex IV vs Versoix VI (2)
UID:76b80ec7-8c37-475b-a4c6-0613de7d75da
STATUS:CONFIRMED
LAST-MODIFIED:20250117T083330Z
DESCRIPTION:5ème ligue Hommes Gr.3 Phase B\nBegegnungs-Nr: 2\nHeim: Onex IV\nGast: Versoix VI\n
LOCATION:
CATEGORIES:Saison 2024/25
END:VEVENT
BEGIN:VEVENT
DTSTAMP:20260425T004234Z
DTSTART;TZID=Europe/Berlin:20250320T200000
DTEND;TZID=Europe/Berlin:20250320T230000
SUMMARY:Ligue 5 Gr.3 Ph.B Onex IV vs Meyrin VII (14)
UID:4cfa398c-682a-4084-af40-6ecc0f1d3666
STATUS:CONFIRMED
LAST-MODIFIED:20250321T094626Z
DESCRIPTION:5ème ligue Hommes Gr.3 Phase B\nBegegnungs-Nr: 14\nHeim: Onex IV\nGast: Meyrin VII\n
LOCATION:
CATEGORIES:Saison 2024/25
END:VEVENT
BEGIN:VEVENT
DTSTAMP:20260425T004234Z
DTSTART;TZID=Europe/Berlin:20240917T194500
DTEND;TZID=Europe/Berlin:20240917T224500
SUMMARY:Ligue 5 Gr.3 Ph.A Collex-Bossy II vs Onex IV (5)
UID:5ee0b32d-30e8-4d7b-a0c2-af08b0aeed39
STATUS:CONFIRMED
LAST-MODIFIED:20240918T065937Z
DESCRIPTION:5ème ligue Hommes Gr.3 Phase A\nBegegnungs-Nr: 5\nHeim: Collex-Bossy II\nGast: Onex IV\n
LOCATION:
CATEGORIES:Saison 2024/25
END:VEVENT
BEGIN:VEVENT
DTSTAMP:20260425T004234Z
DTSTART;TZID=Europe/Berlin:20241016T194500
DTEND;TZID=Europe/Berlin:20241016T224500
SUMMARY:Ligue 5 Gr.3 Ph.A Châtelaine IX vs Onex IV (13)
UID:2b6ae771-3c87-4eca-a19d-43fcb1f42b5a
STATUS:CONFIRMED
LAST-MODIFIED:20241017T130206Z
DESCRIPTION:5ème ligue Hommes Gr.3 Phase A\nBegegnungs-Nr: 13\nHeim: Châtelaine IX\nGast: Onex IV\n
LOCATION:
CATEGORIES:Saison 2024/25
END:VEVENT
BEGIN:VEVENT
DTSTAMP:20260425T004234Z
DTSTART;TZID=Europe/Berlin:20241030T194500
DTEND;TZID=Europe/Berlin:20241030T224500
SUMMARY:Ligue 5 Gr.3 Ph.A Meyrin VI vs Onex IV (17)
UID:fab7925d-c09d-4084-a2d9-1aff6bdb48d5
STATUS:CONFIRMED
LAST-MODIFIED:20241031T091209Z
DESCRIPTION:5ème ligue Hommes Gr.3 Phase A\nBegegnungs-Nr: 17\nHeim: Meyrin VI\nGast: Onex IV\n
LOCATION:
CATEGORIES:Saison 2024/25
END:VEVENT
BEGIN:VEVENT
DTSTAMP:20260425T004234Z
DTSTART;TZID=Europe/Berlin:20241118T194500
DTEND;TZID=Europe/Berlin:20241118T224500
SUMMARY:Ligue 5 Gr.3 Ph.A Grand-Saconnex V vs Onex IV (23)
UID:21780361-423b-4240-81db-0e184c9c5ba3
STATUS:CONFIRMED
LAST-MODIFIED:20241119T101353Z
DESCRIPTION:5ème ligue Hommes Gr.3 Phase A\nBegegnungs-Nr: 23\nHeim: Grand-Saconnex V\nGast: Onex IV\n
LOCATION:
CATEGORIES:Saison 2024/25
END:VEVENT
BEGIN:VEVENT
DTSTAMP:20260425T004234Z
DTSTART;TZID=Europe/Berlin:20241125T194500
DTEND;TZID=Europe/Berlin:20241125T224500
SUMMARY:Ligue 5 Gr.3 Ph.A Silver Star IX vs Onex IV (27)
UID:b45d1113-9bb3-491d-94e0-01ec97e98347
STATUS:CONFIRMED
LAST-MODIFIED:20241126T181333Z
DESCRIPTION:5ème ligue Hommes Gr.3 Phase A\nBegegnungs-Nr: 27\nHeim: Silver Star IX\nGast: Onex IV\n
LOCATION:
CATEGORIES:Saison 2024/25
END:VEVENT
BEGIN:VEVENT
DTSTAMP:20260425T004234Z
DTSTART;TZID=Europe/Berlin:20250120T194500
DTEND;TZID=Europe/Berlin:20250120T224500
SUMMARY:Ligue 5 Gr.3 Ph.B Meyrin VII vs Onex IV (4)
UID:0d7e2dee-167f-49a0-8a95-30aa3c2a27e4
STATUS:CONFIRMED
LAST-MODIFIED:20250121T081526Z
DESCRIPTION:5ème ligue Hommes Gr.3 Phase B\nBegegnungs-Nr: 4\nHeim: Meyrin VII\nGast: Onex IV\n
LOCATION:
CATEGORIES:Saison 2024/25
END:VEVENT
BEGIN:VEVENT
DTSTAMP:20260425T004234Z
DTSTART;TZID=Europe/Berlin:20250331T194500
DTEND;TZID=Europe/Berlin:20250331T224500
SUMMARY:Ligue 5 Gr.3 Ph.B ZZ-Lancy X vs Onex IV (16)
UID:00dd6c23-8d83-4e62-802f-ab4bc07065e3
STATUS:CONFIRMED
LAST-MODIFIED:20250402T122155Z
DESCRIPTION:5ème ligue Hommes Gr.3 Phase B\nBegegnungs-Nr: 16\nHeim: ZZ-Lancy X\nGast: Onex IV\n
LOCATION:
CATEGORIES:Saison 2024/25
END:VEVENT
BEGIN:VEVENT
DTSTAMP:20260425T004234Z
DTSTART;TZID=Europe/Berlin:20250310T194500
DTEND;TZID=Europe/Berlin:20250310T224500
SUMMARY:Ligue 5 Gr.3 Ph.B Versoix VI vs Onex IV (12)
UID:6000ddc2-10df-416c-9961-7d172aa79479
STATUS:CONFIRMED
LAST-MODIFIED:20250311T083328Z
DESCRIPTION:5ème ligue Hommes Gr.3 Phase B\nBegegnungs-Nr: 12\nHeim: Versoix VI\nGast: Onex IV\n
LOCATION:
CATEGORIES:Saison 2024/25
END:VEVENT
BEGIN:VEVENT
DTSTAMP:20260425T004234Z
DTSTART;TZID=Europe/Berlin:20250217T194500
DTEND;TZID=Europe/Berlin:20250217T224500
SUMMARY:Ligue 5 Gr.3 Ph.B Rapid-Genève IV vs Onex IV (9)
UID:8e690b3d-672e-4aa1-a8bf-7c464b885d79
STATUS:CONFIRMED
LAST-MODIFIED:20250218T194635Z
DESCRIPTION:5ème ligue Hommes Gr.3 Phase B\nBegegnungs-Nr: 9\nHeim: Rapid-Genève IV\nGast: Onex IV\n
LOCATION:
CATEGORIES:Saison 2024/25
END:VEVENT
END:VCALENDAR
