BEGIN:VCALENDAR
PRODID:-//nuDatenautomaten//framework iCal4j //DE
VERSION:2.0
CALSCALE:GREGORIAN
BEGIN:VTIMEZONE
TZID:Europe/Berlin
LAST-MODIFIED:20260306T231828Z
TZURL:https://www.tzurl.org/zoneinfo/Europe/Berlin
X-LIC-LOCATION:Europe/Berlin
X-PROLEPTIC-TZNAME:LMT
BEGIN:STANDARD
TZNAME:CET
TZOFFSETFROM:+005328
TZOFFSETTO:+0100
DTSTART:18930401T000000
END:STANDARD
BEGIN:DAYLIGHT
TZNAME:CEST
TZOFFSETFROM:+0100
TZOFFSETTO:+0200
DTSTART:19160430T230000
RDATE:19400401T020000
RDATE:19430329T020000
RDATE:19460414T020000
RDATE:19470406T030000
RDATE:19480418T020000
RDATE:19490410T020000
RDATE:19800406T020000
END:DAYLIGHT
BEGIN:STANDARD
TZNAME:CET
TZOFFSETFROM:+0200
TZOFFSETTO:+0100
DTSTART:19161001T010000
RDATE:19421102T030000
RDATE:19431004T030000
RDATE:19441002T030000
RDATE:19451118T030000
RDATE:19461007T030000
END:STANDARD
BEGIN:DAYLIGHT
TZNAME:CEST
TZOFFSETFROM:+0100
TZOFFSETTO:+0200
DTSTART:19170416T020000
RRULE:FREQ=YEARLY;UNTIL=19180415T010000Z;BYMONTH=4;BYDAY=3MO
END:DAYLIGHT
BEGIN:STANDARD
TZNAME:CET
TZOFFSETFROM:+0200
TZOFFSETTO:+0100
DTSTART:19170917T030000
RRULE:FREQ=YEARLY;UNTIL=19180916T010000Z;BYMONTH=9;BYDAY=3MO
END:STANDARD
BEGIN:DAYLIGHT
TZNAME:CEST
TZOFFSETFROM:+0100
TZOFFSETTO:+0200
DTSTART:19440403T020000
RRULE:FREQ=YEARLY;UNTIL=19450402T010000Z;BYMONTH=4;BYDAY=1MO
END:DAYLIGHT
BEGIN:DAYLIGHT
TZNAME:CEMT
TZOFFSETFROM:+0200
TZOFFSETTO:+0300
DTSTART:19450524T020000
RDATE:19470511T030000
END:DAYLIGHT
BEGIN:DAYLIGHT
TZNAME:CEST
TZOFFSETFROM:+0300
TZOFFSETTO:+0200
DTSTART:19450924T030000
RDATE:19470629T030000
END:DAYLIGHT
BEGIN:STANDARD
TZNAME:CET
TZOFFSETFROM:+0100
TZOFFSETTO:+0100
DTSTART:19460101T000000
RDATE:19800101T000000
END:STANDARD
BEGIN:STANDARD
TZNAME:CET
TZOFFSETFROM:+0200
TZOFFSETTO:+0100
DTSTART:19471005T030000
RRULE:FREQ=YEARLY;UNTIL=19491002T010000Z;BYMONTH=10;BYDAY=1SU
END:STANDARD
BEGIN:STANDARD
TZNAME:CET
TZOFFSETFROM:+0200
TZOFFSETTO:+0100
DTSTART:19800928T030000
RRULE:FREQ=YEARLY;UNTIL=19950924T010000Z;BYMONTH=9;BYDAY=-1SU
END:STANDARD
BEGIN:DAYLIGHT
TZNAME:CEST
TZOFFSETFROM:+0100
TZOFFSETTO:+0200
DTSTART:19810329T020000
RRULE:FREQ=YEARLY;BYMONTH=3;BYDAY=-1SU
END:DAYLIGHT
BEGIN:STANDARD
TZNAME:CET
TZOFFSETFROM:+0200
TZOFFSETTO:+0100
DTSTART:19961027T030000
RRULE:FREQ=YEARLY;BYMONTH=10;BYDAY=-1SU
END:STANDARD
END:VTIMEZONE
BEGIN:VEVENT
DTSTAMP:20260425T005109Z
DTSTART;TZID=Europe/Berlin:20250310T200000
DTEND;TZID=Europe/Berlin:20250310T230000
SUMMARY:HE 5. Liga Gr. 4 Höngg III vs Zürich-Affoltern VII (0)
UID:5e63ea7b-e082-4dd9-b870-3e3d26318e11
STATUS:CONFIRMED
LAST-MODIFIED:20250311T160211Z
DESCRIPTION:5. Liga Herren Gruppe 4\nBegegnungs-Nr: 0\nHeim: Höngg III\nGast: Zürich-Affoltern VII\n\nAdresse: Bläsistrasse 2\, 8049 Zürich\n
LOCATION:Bläsistrasse 2\, 8049 Zürich
CATEGORIES:Saison 2024/25
END:VEVENT
BEGIN:VEVENT
DTSTAMP:20260425T005109Z
DTSTART;TZID=Europe/Berlin:20250203T200000
DTEND;TZID=Europe/Berlin:20250203T230000
SUMMARY:HE 5. Liga Gr. 4 Höngg III vs Seebach-Kügeliloo IV (0)
UID:0b6ad3a1-57d3-48ad-8df0-7a3263251d5b
STATUS:CONFIRMED
LAST-MODIFIED:20250204T123809Z
DESCRIPTION:5. Liga Herren Gruppe 4\nBegegnungs-Nr: 0\nHeim: Höngg III\nGast: Seebach-Kügeliloo IV\n\nAdresse: Bläsistrasse 2\, 8049 Zürich\n
LOCATION:Bläsistrasse 2\, 8049 Zürich
CATEGORIES:Saison 2024/25
END:VEVENT
BEGIN:VEVENT
DTSTAMP:20260425T005109Z
DTSTART;TZID=Europe/Berlin:20250120T200000
DTEND;TZID=Europe/Berlin:20250120T230000
SUMMARY:HE 5. Liga Gr. 4 Höngg III vs Seebach-Kügeliloo III (0)
UID:c02d244a-385f-4415-8e7f-971ec67aede2
STATUS:CONFIRMED
LAST-MODIFIED:20250123T083113Z
DESCRIPTION:5. Liga Herren Gruppe 4\nBegegnungs-Nr: 0\nHeim: Höngg III\nGast: Seebach-Kügeliloo III\n\nAdresse: Bläsistrasse 2\, 8049 Zürich\n
LOCATION:Bläsistrasse 2\, 8049 Zürich
CATEGORIES:Saison 2024/25
END:VEVENT
BEGIN:VEVENT
DTSTAMP:20260425T005109Z
DTSTART;TZID=Europe/Berlin:20241202T200000
DTEND;TZID=Europe/Berlin:20241202T230000
SUMMARY:HE 5. Liga Gr. 4 Höngg III vs Urdorf III (0)
UID:c65e628d-553c-49fe-b79c-2ebbc9ed485e
STATUS:CONFIRMED
LAST-MODIFIED:20241205T125559Z
DESCRIPTION:5. Liga Herren Gruppe 4\nBegegnungs-Nr: 0\nHeim: Höngg III\nGast: Urdorf III\n\nAdresse: Bläsistrasse 2\, 8049 Zürich\n
LOCATION:Bläsistrasse 2\, 8049 Zürich
CATEGORIES:Saison 2024/25
END:VEVENT
BEGIN:VEVENT
DTSTAMP:20260425T005109Z
DTSTART;TZID=Europe/Berlin:20241028T200000
DTEND;TZID=Europe/Berlin:20241028T230000
SUMMARY:HE 5. Liga Gr. 4 Höngg III vs Niederhasli V (0)
UID:f2dfcab7-0422-4d1a-bd2c-18726d4c7ad6
STATUS:CONFIRMED
LAST-MODIFIED:20241030T112335Z
DESCRIPTION:5. Liga Herren Gruppe 4\nBegegnungs-Nr: 0\nHeim: Höngg III\nGast: Niederhasli V\n\nAdresse: Bläsistrasse 2\, 8049 Zürich\n
LOCATION:Bläsistrasse 2\, 8049 Zürich
CATEGORIES:Saison 2024/25
END:VEVENT
BEGIN:VEVENT
DTSTAMP:20260425T005109Z
DTSTART;TZID=Europe/Berlin:20240916T200000
DTEND;TZID=Europe/Berlin:20240916T230000
SUMMARY:HE 5. Liga Gr. 4 Höngg III vs Buchs Zürich IV (0)
UID:3e607e2a-a46f-41df-b97b-b830abda06cb
STATUS:CONFIRMED
LAST-MODIFIED:20240917T071243Z
DESCRIPTION:5. Liga Herren Gruppe 4\nBegegnungs-Nr: 0\nHeim: Höngg III\nGast: Buchs Zürich IV\n\nAdresse: Bläsistrasse 2\, 8049 Zürich\n
LOCATION:Bläsistrasse 2\, 8049 Zürich
CATEGORIES:Saison 2024/25
END:VEVENT
BEGIN:VEVENT
DTSTAMP:20260425T005109Z
DTSTART;TZID=Europe/Berlin:20240826T200000
DTEND;TZID=Europe/Berlin:20240826T230000
SUMMARY:HE 5. Liga Gr. 4 Höngg III vs Affoltern A/A V (0)
UID:edf26c27-53df-408b-bcd4-c5f4982ee48f
STATUS:CONFIRMED
LAST-MODIFIED:20240828T083958Z
DESCRIPTION:5. Liga Herren Gruppe 4\nBegegnungs-Nr: 0\nHeim: Höngg III\nGast: Affoltern A/A V\n\nAdresse: Bläsistrasse 2\, 8049 Zürich\n
LOCATION:Bläsistrasse 2\, 8049 Zürich
CATEGORIES:Saison 2024/25
END:VEVENT
BEGIN:VEVENT
DTSTAMP:20260425T005109Z
DTSTART;TZID=Europe/Berlin:20250328T201500
DTEND;TZID=Europe/Berlin:20250328T231500
SUMMARY:HE 5. Liga Gr. 4 Urdorf III vs Höngg III (0)
UID:254f38fe-79b2-435f-a2e7-6c51d2f94aa8
STATUS:CONFIRMED
LAST-MODIFIED:20250404T083305Z
DESCRIPTION:5. Liga Herren Gruppe 4\nBegegnungs-Nr: 0\nHeim: Urdorf III\nGast: Höngg III\n\nAdresse: Weihermattstrasse 50\, 8902 Urdorf\n
LOCATION:Weihermattstrasse 50\, 8902 Urdorf
CATEGORIES:Saison 2024/25
END:VEVENT
BEGIN:VEVENT
DTSTAMP:20260425T005109Z
DTSTART;TZID=Europe/Berlin:20250303T193000
DTEND;TZID=Europe/Berlin:20250303T223000
SUMMARY:HE 5. Liga Gr. 4 Niederhasli V vs Höngg III (0)
UID:6aa30bf3-5e9e-48d0-9b15-a943165052cc
STATUS:CONFIRMED
LAST-MODIFIED:20250306T142641Z
DESCRIPTION:5. Liga Herren Gruppe 4\nBegegnungs-Nr: 0\nHeim: Niederhasli V\nGast: Höngg III\n\nAdresse: Dorfstrasse 22\, 8155 Niederhasli\n
LOCATION:Dorfstrasse 22\, 8155 Niederhasli
CATEGORIES:Saison 2024/25
END:VEVENT
BEGIN:VEVENT
DTSTAMP:20260425T005109Z
DTSTART;TZID=Europe/Berlin:20250131T193000
DTEND;TZID=Europe/Berlin:20250131T223000
SUMMARY:HE 5. Liga Gr. 4 Buchs Zürich IV vs Höngg III (0)
UID:81fd37dc-4b13-4e0a-9076-dd883d58bdea
STATUS:CONFIRMED
LAST-MODIFIED:20250203T120005Z
DESCRIPTION:5. Liga Herren Gruppe 4\nBegegnungs-Nr: 0\nHeim: Buchs Zürich IV\nGast: Höngg III\n\nAdresse: Drisglerstrasse 3\, 8107 Buchs ZH\n
LOCATION:Drisglerstrasse 3\, 8107 Buchs ZH
CATEGORIES:Saison 2024/25
END:VEVENT
BEGIN:VEVENT
DTSTAMP:20260425T005109Z
DTSTART;TZID=Europe/Berlin:20250401T193000
DTEND;TZID=Europe/Berlin:20250401T223000
SUMMARY:HE 5. Liga Gr. 4 Affoltern A/A V vs Höngg III (0)
UID:715999c3-ed1a-4a06-9d50-aa6d29e689a2
STATUS:CONFIRMED
LAST-MODIFIED:20250404T083314Z
DESCRIPTION:5. Liga Herren Gruppe 4\nBegegnungs-Nr: 0\nHeim: Affoltern A/A V\nGast: Höngg III\n\nAdresse: Butzenstrasse 8\, 8910 Affoltern am Albis\n
LOCATION:Butzenstrasse 8\, 8910 Affoltern am Albis
CATEGORIES:Saison 2024/25
END:VEVENT
BEGIN:VEVENT
DTSTAMP:20260425T005109Z
DTSTART;TZID=Europe/Berlin:20241106T194500
DTEND;TZID=Europe/Berlin:20241106T224500
SUMMARY:HE 5. Liga Gr. 4 Zürich-Affoltern VII vs Höngg III (0)
UID:1245ba84-ed38-41f4-aa81-142885e7b6f0
STATUS:CONFIRMED
LAST-MODIFIED:20241108T142816Z
DESCRIPTION:5. Liga Herren Gruppe 4\nBegegnungs-Nr: 0\nHeim: Zürich-Affoltern VII\nGast: Höngg III\n\nAdresse: Fronwaldstr.115\, 8046 Zürich\n
LOCATION:Fronwaldstr.115\, 8046 Zürich
CATEGORIES:Saison 2024/25
END:VEVENT
BEGIN:VEVENT
DTSTAMP:20260425T005109Z
DTSTART;TZID=Europe/Berlin:20240925T193000
DTEND;TZID=Europe/Berlin:20240925T223000
SUMMARY:HE 5. Liga Gr. 4 Seebach-Kügeliloo IV vs Höngg III (0)
UID:4db6b8c4-3213-4e07-8470-3b3e57307514
STATUS:CONFIRMED
LAST-MODIFIED:20240926T115034Z
DESCRIPTION:5. Liga Herren Gruppe 4\nBegegnungs-Nr: 0\nHeim: Seebach-Kügeliloo IV\nGast: Höngg III\n\nAdresse: Maienstrasse 9\, 8050 Zürich\n
LOCATION:Maienstrasse 9\, 8050 Zürich
CATEGORIES:Saison 2024/25
END:VEVENT
BEGIN:VEVENT
DTSTAMP:20260425T005109Z
DTSTART;TZID=Europe/Berlin:20241002T193000
DTEND;TZID=Europe/Berlin:20241002T223000
SUMMARY:HE 5. Liga Gr. 4 Seebach-Kügeliloo III vs Höngg III (0)
UID:31b21d42-4dd2-4f80-a2f0-7193e64e807c
STATUS:CONFIRMED
LAST-MODIFIED:20241004T080705Z
DESCRIPTION:5. Liga Herren Gruppe 4\nBegegnungs-Nr: 0\nHeim: Seebach-Kügeliloo III\nGast: Höngg III\n\nAdresse: Maienstrasse 9\, 8050 Zürich\n
LOCATION:Maienstrasse 9\, 8050 Zürich
CATEGORIES:Saison 2024/25
END:VEVENT
END:VCALENDAR
