BEGIN:VCALENDAR
PRODID:-//nuDatenautomaten//framework iCal4j //DE
VERSION:2.0
CALSCALE:GREGORIAN
BEGIN:VTIMEZONE
TZID:Europe/Berlin
LAST-MODIFIED:20260306T231828Z
TZURL:https://www.tzurl.org/zoneinfo/Europe/Berlin
X-LIC-LOCATION:Europe/Berlin
X-PROLEPTIC-TZNAME:LMT
BEGIN:STANDARD
TZNAME:CET
TZOFFSETFROM:+005328
TZOFFSETTO:+0100
DTSTART:18930401T000000
END:STANDARD
BEGIN:DAYLIGHT
TZNAME:CEST
TZOFFSETFROM:+0100
TZOFFSETTO:+0200
DTSTART:19160430T230000
RDATE:19400401T020000
RDATE:19430329T020000
RDATE:19460414T020000
RDATE:19470406T030000
RDATE:19480418T020000
RDATE:19490410T020000
RDATE:19800406T020000
END:DAYLIGHT
BEGIN:STANDARD
TZNAME:CET
TZOFFSETFROM:+0200
TZOFFSETTO:+0100
DTSTART:19161001T010000
RDATE:19421102T030000
RDATE:19431004T030000
RDATE:19441002T030000
RDATE:19451118T030000
RDATE:19461007T030000
END:STANDARD
BEGIN:DAYLIGHT
TZNAME:CEST
TZOFFSETFROM:+0100
TZOFFSETTO:+0200
DTSTART:19170416T020000
RRULE:FREQ=YEARLY;UNTIL=19180415T010000Z;BYMONTH=4;BYDAY=3MO
END:DAYLIGHT
BEGIN:STANDARD
TZNAME:CET
TZOFFSETFROM:+0200
TZOFFSETTO:+0100
DTSTART:19170917T030000
RRULE:FREQ=YEARLY;UNTIL=19180916T010000Z;BYMONTH=9;BYDAY=3MO
END:STANDARD
BEGIN:DAYLIGHT
TZNAME:CEST
TZOFFSETFROM:+0100
TZOFFSETTO:+0200
DTSTART:19440403T020000
RRULE:FREQ=YEARLY;UNTIL=19450402T010000Z;BYMONTH=4;BYDAY=1MO
END:DAYLIGHT
BEGIN:DAYLIGHT
TZNAME:CEMT
TZOFFSETFROM:+0200
TZOFFSETTO:+0300
DTSTART:19450524T020000
RDATE:19470511T030000
END:DAYLIGHT
BEGIN:DAYLIGHT
TZNAME:CEST
TZOFFSETFROM:+0300
TZOFFSETTO:+0200
DTSTART:19450924T030000
RDATE:19470629T030000
END:DAYLIGHT
BEGIN:STANDARD
TZNAME:CET
TZOFFSETFROM:+0100
TZOFFSETTO:+0100
DTSTART:19460101T000000
RDATE:19800101T000000
END:STANDARD
BEGIN:STANDARD
TZNAME:CET
TZOFFSETFROM:+0200
TZOFFSETTO:+0100
DTSTART:19471005T030000
RRULE:FREQ=YEARLY;UNTIL=19491002T010000Z;BYMONTH=10;BYDAY=1SU
END:STANDARD
BEGIN:STANDARD
TZNAME:CET
TZOFFSETFROM:+0200
TZOFFSETTO:+0100
DTSTART:19800928T030000
RRULE:FREQ=YEARLY;UNTIL=19950924T010000Z;BYMONTH=9;BYDAY=-1SU
END:STANDARD
BEGIN:DAYLIGHT
TZNAME:CEST
TZOFFSETFROM:+0100
TZOFFSETTO:+0200
DTSTART:19810329T020000
RRULE:FREQ=YEARLY;BYMONTH=3;BYDAY=-1SU
END:DAYLIGHT
BEGIN:STANDARD
TZNAME:CET
TZOFFSETFROM:+0200
TZOFFSETTO:+0100
DTSTART:19961027T030000
RRULE:FREQ=YEARLY;BYMONTH=10;BYDAY=-1SU
END:STANDARD
END:VTIMEZONE
BEGIN:VEVENT
DTSTAMP:20260425T022334Z
DTSTART;TZID=Europe/Berlin:20240923T200000
DTEND;TZID=Europe/Berlin:20240923T230000
SUMMARY:HE 6. Liga Gr. 4 Imperial Winterthur IV vs Ettenhausen V (0)
UID:39902e5d-fc44-41cd-9a0a-9573d2324dd8
STATUS:CONFIRMED
LAST-MODIFIED:20240926T115316Z
DESCRIPTION:6. Liga Herren Gruppe 4\nBegegnungs-Nr: 0\nHeim: Imperial Winterthur IV\nGast: Ettenhausen V\n\nAdresse: Büelhofstrasse 25a\, 8405 Winterthur\n
LOCATION:Büelhofstrasse 25a\, 8405 Winterthur
CATEGORIES:Saison 2024/25
END:VEVENT
BEGIN:VEVENT
DTSTAMP:20260425T022334Z
DTSTART;TZID=Europe/Berlin:20240902T200000
DTEND;TZID=Europe/Berlin:20240902T230000
SUMMARY:HE 6. Liga Gr. 4 Imperial Winterthur IV vs Kloten III (0)
UID:f55e0de1-13c3-4401-a22e-00104484af27
STATUS:CONFIRMED
LAST-MODIFIED:20240904T114618Z
DESCRIPTION:6. Liga Herren Gruppe 4\nBegegnungs-Nr: 0\nHeim: Imperial Winterthur IV\nGast: Kloten III\n\nAdresse: Büelhofstrasse 25a\, 8405 Winterthur\n
LOCATION:Büelhofstrasse 25a\, 8405 Winterthur
CATEGORIES:Saison 2024/25
END:VEVENT
BEGIN:VEVENT
DTSTAMP:20260425T022334Z
DTSTART;TZID=Europe/Berlin:20250324T200000
DTEND;TZID=Europe/Berlin:20250324T230000
SUMMARY:HE 6. Liga Gr. 4 Imperial Winterthur IV vs Embrachertal V (0)
UID:44c89a2a-5b32-487b-a7d0-ada1011689f0
STATUS:CONFIRMED
LAST-MODIFIED:20250327T134453Z
DESCRIPTION:6. Liga Herren Gruppe 4\nBegegnungs-Nr: 0\nHeim: Imperial Winterthur IV\nGast: Embrachertal V\n\nAdresse: Büelhofstrasse 25a\, 8405 Winterthur\n
LOCATION:Büelhofstrasse 25a\, 8405 Winterthur
CATEGORIES:Saison 2024/25
END:VEVENT
BEGIN:VEVENT
DTSTAMP:20260425T022334Z
DTSTART;TZID=Europe/Berlin:20250317T200000
DTEND;TZID=Europe/Berlin:20250317T230000
SUMMARY:HE 6. Liga Gr. 4 Imperial Winterthur IV vs Schaffhausen II (0)
UID:88821143-6381-4962-b529-c2d3b67c7e85
STATUS:CONFIRMED
LAST-MODIFIED:20250319T094721Z
DESCRIPTION:6. Liga Herren Gruppe 4\nBegegnungs-Nr: 0\nHeim: Imperial Winterthur IV\nGast: Schaffhausen II\n\nAdresse: Büelhofstrasse 25a\, 8405 Winterthur\n
LOCATION:Büelhofstrasse 25a\, 8405 Winterthur
CATEGORIES:Saison 2024/25
END:VEVENT
BEGIN:VEVENT
DTSTAMP:20260425T022334Z
DTSTART;TZID=Europe/Berlin:20250127T200000
DTEND;TZID=Europe/Berlin:20250127T230000
SUMMARY:HE 6. Liga Gr. 4 Imperial Winterthur IV vs Frauenfeld II (0)
UID:dfe390b1-8b58-4394-8481-bb95c055350b
STATUS:CONFIRMED
LAST-MODIFIED:20250129T125644Z
DESCRIPTION:6. Liga Herren Gruppe 4\nBegegnungs-Nr: 0\nHeim: Imperial Winterthur IV\nGast: Frauenfeld II\n\nAdresse: Büelhofstrasse 25a\, 8405 Winterthur\n
LOCATION:Büelhofstrasse 25a\, 8405 Winterthur
CATEGORIES:Saison 2024/25
END:VEVENT
BEGIN:VEVENT
DTSTAMP:20260425T022334Z
DTSTART;TZID=Europe/Berlin:20250106T200000
DTEND;TZID=Europe/Berlin:20250106T230000
SUMMARY:HE 6. Liga Gr. 4 Imperial Winterthur IV vs Neuhausen VIII (0)
UID:971a3aa6-bb06-44fb-9697-637ee148200e
STATUS:CONFIRMED
LAST-MODIFIED:20250110T151730Z
DESCRIPTION:6. Liga Herren Gruppe 4\nBegegnungs-Nr: 0\nHeim: Imperial Winterthur IV\nGast: Neuhausen VIII\n\nAdresse: Büelhofstrasse 25a\, 8405 Winterthur\n
LOCATION:Büelhofstrasse 25a\, 8405 Winterthur
CATEGORIES:Saison 2024/25
END:VEVENT
BEGIN:VEVENT
DTSTAMP:20260425T022334Z
DTSTART;TZID=Europe/Berlin:20240919T200000
DTEND;TZID=Europe/Berlin:20240919T230000
SUMMARY:HE 6. Liga Gr. 4 Frauenfeld II vs Imperial Winterthur IV (0)
UID:fa6c67e0-0f06-4179-b8b4-8a5b62436a70
STATUS:CONFIRMED
LAST-MODIFIED:20240920T140027Z
DESCRIPTION:6. Liga Herren Gruppe 4\nBegegnungs-Nr: 0\nHeim: Frauenfeld II\nGast: Imperial Winterthur IV\n\nAdresse: Scheuchenstrasse\, 8500 Frauenfeld\n
LOCATION:Scheuchenstrasse\, 8500 Frauenfeld
CATEGORIES:Saison 2024/25
END:VEVENT
BEGIN:VEVENT
DTSTAMP:20260425T022334Z
DTSTART;TZID=Europe/Berlin:20240827T200000
DTEND;TZID=Europe/Berlin:20240827T230000
SUMMARY:HE 6. Liga Gr. 4 Neuhausen VIII vs Imperial Winterthur IV (0)
UID:2b960886-de88-4db2-ac9e-a3140ceaf646
STATUS:CONFIRMED
LAST-MODIFIED:20240828T084232Z
DESCRIPTION:6. Liga Herren Gruppe 4\nBegegnungs-Nr: 0\nHeim: Neuhausen VIII\nGast: Imperial Winterthur IV\n\nAdresse: Ebnatstrasse 35\, 8200 Schaffhausen\n
LOCATION:Ebnatstrasse 35\, 8200 Schaffhausen
CATEGORIES:Saison 2024/25
END:VEVENT
BEGIN:VEVENT
DTSTAMP:20260425T022334Z
DTSTART;TZID=Europe/Berlin:20250215T113000
DTEND;TZID=Europe/Berlin:20250215T143000
SUMMARY:HE 6. Liga Gr. 4 Ettenhausen V vs Imperial Winterthur IV (0)
UID:2e411138-6077-438a-ad3e-d5ab2bc71d38
STATUS:CONFIRMED
LAST-MODIFIED:20250219T133230Z
DESCRIPTION:6. Liga Herren Gruppe 4\nBegegnungs-Nr: 0\nHeim: Ettenhausen V\nGast: Imperial Winterthur IV\n\nAdresse: Weidlistrasse 12\, 8356 Ettenhausen\n
LOCATION:Weidlistrasse 12\, 8356 Ettenhausen
CATEGORIES:Saison 2024/25
END:VEVENT
BEGIN:VEVENT
DTSTAMP:20260425T022334Z
DTSTART;TZID=Europe/Berlin:20250123T194500
DTEND;TZID=Europe/Berlin:20250123T224500
SUMMARY:HE 6. Liga Gr. 4 Kloten III vs Imperial Winterthur IV (0)
UID:0c986c1c-54bc-492e-b4d8-0d278ae5d800
STATUS:CONFIRMED
LAST-MODIFIED:20250129T125605Z
DESCRIPTION:6. Liga Herren Gruppe 4\nBegegnungs-Nr: 0\nHeim: Kloten III\nGast: Imperial Winterthur IV\n\nAdresse: Schluefweg 10\, 8302 Kloten\n
LOCATION:Schluefweg 10\, 8302 Kloten
CATEGORIES:Saison 2024/25
END:VEVENT
BEGIN:VEVENT
DTSTAMP:20260425T022334Z
DTSTART;TZID=Europe/Berlin:20241205T200000
DTEND;TZID=Europe/Berlin:20241205T230000
SUMMARY:HE 6. Liga Gr. 4 Embrachertal V vs Imperial Winterthur IV (0)
UID:ecea39c4-b435-45dc-bc3a-da2e99ec14ca
STATUS:CONFIRMED
LAST-MODIFIED:20241211T103101Z
DESCRIPTION:6. Liga Herren Gruppe 4\nBegegnungs-Nr: 0\nHeim: Embrachertal V\nGast: Imperial Winterthur IV\n\nAdresse: Schützenhausstrasse 20\, 8424 Embrach\n
LOCATION:Schützenhausstrasse 20\, 8424 Embrach
CATEGORIES:Saison 2024/25
END:VEVENT
BEGIN:VEVENT
DTSTAMP:20260425T022334Z
DTSTART;TZID=Europe/Berlin:20241111T193000
DTEND;TZID=Europe/Berlin:20241111T223000
SUMMARY:HE 6. Liga Gr. 4 Schaffhausen II vs Imperial Winterthur IV (0)
UID:e1fdc22a-0d8a-4711-8909-0f317495fd44
STATUS:CONFIRMED
LAST-MODIFIED:20241114T075901Z
DESCRIPTION:6. Liga Herren Gruppe 4\nBegegnungs-Nr: 0\nHeim: Schaffhausen II\nGast: Imperial Winterthur IV\n\nAdresse: Grünaustieg 30\, 8200 Schaffhausen\n
LOCATION:Grünaustieg 30\, 8200 Schaffhausen
CATEGORIES:Saison 2024/25
END:VEVENT
END:VCALENDAR
