BEGIN:VCALENDAR
PRODID:-//nuDatenautomaten//framework iCal4j //DE
VERSION:2.0
CALSCALE:GREGORIAN
BEGIN:VTIMEZONE
TZID:Europe/Berlin
LAST-MODIFIED:20260306T231828Z
TZURL:https://www.tzurl.org/zoneinfo/Europe/Berlin
X-LIC-LOCATION:Europe/Berlin
X-PROLEPTIC-TZNAME:LMT
BEGIN:STANDARD
TZNAME:CET
TZOFFSETFROM:+005328
TZOFFSETTO:+0100
DTSTART:18930401T000000
END:STANDARD
BEGIN:DAYLIGHT
TZNAME:CEST
TZOFFSETFROM:+0100
TZOFFSETTO:+0200
DTSTART:19160430T230000
RDATE:19400401T020000
RDATE:19430329T020000
RDATE:19460414T020000
RDATE:19470406T030000
RDATE:19480418T020000
RDATE:19490410T020000
RDATE:19800406T020000
END:DAYLIGHT
BEGIN:STANDARD
TZNAME:CET
TZOFFSETFROM:+0200
TZOFFSETTO:+0100
DTSTART:19161001T010000
RDATE:19421102T030000
RDATE:19431004T030000
RDATE:19441002T030000
RDATE:19451118T030000
RDATE:19461007T030000
END:STANDARD
BEGIN:DAYLIGHT
TZNAME:CEST
TZOFFSETFROM:+0100
TZOFFSETTO:+0200
DTSTART:19170416T020000
RRULE:FREQ=YEARLY;UNTIL=19180415T010000Z;BYMONTH=4;BYDAY=3MO
END:DAYLIGHT
BEGIN:STANDARD
TZNAME:CET
TZOFFSETFROM:+0200
TZOFFSETTO:+0100
DTSTART:19170917T030000
RRULE:FREQ=YEARLY;UNTIL=19180916T010000Z;BYMONTH=9;BYDAY=3MO
END:STANDARD
BEGIN:DAYLIGHT
TZNAME:CEST
TZOFFSETFROM:+0100
TZOFFSETTO:+0200
DTSTART:19440403T020000
RRULE:FREQ=YEARLY;UNTIL=19450402T010000Z;BYMONTH=4;BYDAY=1MO
END:DAYLIGHT
BEGIN:DAYLIGHT
TZNAME:CEMT
TZOFFSETFROM:+0200
TZOFFSETTO:+0300
DTSTART:19450524T020000
RDATE:19470511T030000
END:DAYLIGHT
BEGIN:DAYLIGHT
TZNAME:CEST
TZOFFSETFROM:+0300
TZOFFSETTO:+0200
DTSTART:19450924T030000
RDATE:19470629T030000
END:DAYLIGHT
BEGIN:STANDARD
TZNAME:CET
TZOFFSETFROM:+0100
TZOFFSETTO:+0100
DTSTART:19460101T000000
RDATE:19800101T000000
END:STANDARD
BEGIN:STANDARD
TZNAME:CET
TZOFFSETFROM:+0200
TZOFFSETTO:+0100
DTSTART:19471005T030000
RRULE:FREQ=YEARLY;UNTIL=19491002T010000Z;BYMONTH=10;BYDAY=1SU
END:STANDARD
BEGIN:STANDARD
TZNAME:CET
TZOFFSETFROM:+0200
TZOFFSETTO:+0100
DTSTART:19800928T030000
RRULE:FREQ=YEARLY;UNTIL=19950924T010000Z;BYMONTH=9;BYDAY=-1SU
END:STANDARD
BEGIN:DAYLIGHT
TZNAME:CEST
TZOFFSETFROM:+0100
TZOFFSETTO:+0200
DTSTART:19810329T020000
RRULE:FREQ=YEARLY;BYMONTH=3;BYDAY=-1SU
END:DAYLIGHT
BEGIN:STANDARD
TZNAME:CET
TZOFFSETFROM:+0200
TZOFFSETTO:+0100
DTSTART:19961027T030000
RRULE:FREQ=YEARLY;BYMONTH=10;BYDAY=-1SU
END:STANDARD
END:VTIMEZONE
BEGIN:VEVENT
DTSTAMP:20260425T004212Z
DTSTART;TZID=Europe/Berlin:20241112T194500
DTEND;TZID=Europe/Berlin:20241112T224500
SUMMARY:Ligue 2 Gr.2\, Ph.A Mandement III vs Versoix II (20)
UID:66bd689b-5983-4b67-8130-055b546096bb
STATUS:CONFIRMED
LAST-MODIFIED:20241113T103529Z
DESCRIPTION:2ème ligue Homme Gr.2 Phase A\nBegegnungs-Nr: 20\nHeim: Mandement III\nGast: Versoix II\n\nAdresse: Route de la Gare de Satigny 27A\, 1242 Satigny\n
LOCATION:Route de la Gare de Satigny 27A\, 1242 Satigny
CATEGORIES:Saison 2024/25
END:VEVENT
BEGIN:VEVENT
DTSTAMP:20260425T004212Z
DTSTART;TZID=Europe/Berlin:20240910T194500
DTEND;TZID=Europe/Berlin:20240910T224500
SUMMARY:Ligue 2 Gr.2\, Ph.A Mandement III vs Rapid-Genève (2)
UID:3203c0e9-0577-4ffc-bf1e-b07bee05afb7
STATUS:CONFIRMED
LAST-MODIFIED:20240911T104145Z
DESCRIPTION:2ème ligue Homme Gr.2 Phase A\nBegegnungs-Nr: 2\nHeim: Mandement III\nGast: Rapid-Genève\n\nAdresse: Route de la Gare de Satigny 27A\, 1242 Satigny\n
LOCATION:Route de la Gare de Satigny 27A\, 1242 Satigny
CATEGORIES:Saison 2024/25
END:VEVENT
BEGIN:VEVENT
DTSTAMP:20260425T004212Z
DTSTART;TZID=Europe/Berlin:20241008T194500
DTEND;TZID=Europe/Berlin:20241008T224500
SUMMARY:Ligue 2 Gr.2\, Ph.A Mandement III vs UGS-Chênois V (12)
UID:25e5365b-2a19-4eab-baf4-ca44e47f892a
STATUS:CONFIRMED
LAST-MODIFIED:20241009T074156Z
DESCRIPTION:2ème ligue Homme Gr.2 Phase A\nBegegnungs-Nr: 12\nHeim: Mandement III\nGast: UGS-Chênois V\n\nAdresse: Route de la Gare de Satigny 27A\, 1242 Satigny\n
LOCATION:Route de la Gare de Satigny 27A\, 1242 Satigny
CATEGORIES:Saison 2024/25
END:VEVENT
BEGIN:VEVENT
DTSTAMP:20260425T004212Z
DTSTART;TZID=Europe/Berlin:20240924T194500
DTEND;TZID=Europe/Berlin:20240924T224500
SUMMARY:Ligue 2 Gr.2\, Ph.A Mandement III vs Silver Star IV (8)
UID:731533a7-b3ba-41ca-a029-ffba4c50e8c9
STATUS:CONFIRMED
LAST-MODIFIED:20240925T060904Z
DESCRIPTION:2ème ligue Homme Gr.2 Phase A\nBegegnungs-Nr: 8\nHeim: Mandement III\nGast: Silver Star IV\n\nAdresse: Route de la Gare de Satigny 27A\, 1242 Satigny\n
LOCATION:Route de la Gare de Satigny 27A\, 1242 Satigny
CATEGORIES:Saison 2024/25
END:VEVENT
BEGIN:VEVENT
DTSTAMP:20260425T004212Z
DTSTART;TZID=Europe/Berlin:20241203T194500
DTEND;TZID=Europe/Berlin:20241203T224500
SUMMARY:Ligue 2 Gr.2\, Ph.A Mandement III vs ZZ-Lancy VI (28)
UID:3d040146-066c-4774-a511-f386ebad2889
STATUS:CONFIRMED
LAST-MODIFIED:20241204T084518Z
DESCRIPTION:2ème ligue Homme Gr.2 Phase A\nBegegnungs-Nr: 28\nHeim: Mandement III\nGast: ZZ-Lancy VI\n\nAdresse: Route de la Gare de Satigny 27A\, 1242 Satigny\n
LOCATION:Route de la Gare de Satigny 27A\, 1242 Satigny
CATEGORIES:Saison 2024/25
END:VEVENT
BEGIN:VEVENT
DTSTAMP:20260425T004212Z
DTSTART;TZID=Europe/Berlin:20250519T194500
DTEND;TZID=Europe/Berlin:20250519T224500
SUMMARY:Ligue 2 Titre finale Mandement III vs Bernex II (1)
UID:d6b4122a-0252-44de-a8e9-9f17873b3d8a
STATUS:CONFIRMED
LAST-MODIFIED:20250520T193038Z
DESCRIPTION:2ème ligue Homme Titre finale\nBegegnungs-Nr: 1\nHeim: Mandement III\nGast: Bernex II\n
LOCATION:
CATEGORIES:Saison 2024/25
END:VEVENT
BEGIN:VEVENT
DTSTAMP:20260425T004212Z
DTSTART;TZID=Europe/Berlin:20250120T194500
DTEND;TZID=Europe/Berlin:20250120T224500
SUMMARY:Ligue 1 Ph.B Mandement III vs Carouge III (8)
UID:a4ff0f15-150f-49c5-ad7f-0b95fd258d79
STATUS:CONFIRMED
LAST-MODIFIED:20250121T080636Z
DESCRIPTION:1ère ligue Homme Gr. unique Phase B\nBegegnungs-Nr: 8\nHeim: Mandement III\nGast: Carouge III\n\nAdresse: Route de la Gare de Satigny 27A\, 1242 Satigny\n
LOCATION:Route de la Gare de Satigny 27A\, 1242 Satigny
CATEGORIES:Saison 2024/25
END:VEVENT
BEGIN:VEVENT
DTSTAMP:20260425T004212Z
DTSTART;TZID=Europe/Berlin:20250407T194500
DTEND;TZID=Europe/Berlin:20250407T224500
SUMMARY:Ligue 1 Ph.B Mandement III vs Versoix (43)
UID:97c02ea1-adf5-4c74-bf9a-da3f6a4311a1
STATUS:CONFIRMED
LAST-MODIFIED:20250410T142522Z
DESCRIPTION:1ère ligue Homme Gr. unique Phase B\nBegegnungs-Nr: 43\nHeim: Mandement III\nGast: Versoix\n\nAdresse: Route de la Gare de Satigny 27A\, 1242 Satigny\n
LOCATION:Route de la Gare de Satigny 27A\, 1242 Satigny
CATEGORIES:Saison 2024/25
END:VEVENT
BEGIN:VEVENT
DTSTAMP:20260425T004212Z
DTSTART;TZID=Europe/Berlin:20250217T194500
DTEND;TZID=Europe/Berlin:20250217T224500
SUMMARY:Ligue 1 Ph.B Mandement III vs ZZ-Lancy IV (24)
UID:8acd8e77-5f82-418e-92ae-1577ca3afb64
STATUS:CONFIRMED
LAST-MODIFIED:20250218T090342Z
DESCRIPTION:1ère ligue Homme Gr. unique Phase B\nBegegnungs-Nr: 24\nHeim: Mandement III\nGast: ZZ-Lancy IV\n\nAdresse: Route de la Gare de Satigny 27A\, 1242 Satigny\n
LOCATION:Route de la Gare de Satigny 27A\, 1242 Satigny
CATEGORIES:Saison 2024/25
END:VEVENT
BEGIN:VEVENT
DTSTAMP:20260425T004212Z
DTSTART;TZID=Europe/Berlin:20250210T194500
DTEND;TZID=Europe/Berlin:20250210T224500
SUMMARY:Ligue 1 Ph.B Mandement III vs Silver Star II (20)
UID:f590db0d-b58b-4557-8b82-b2a547087fda
STATUS:CONFIRMED
LAST-MODIFIED:20250211T085334Z
DESCRIPTION:1ère ligue Homme Gr. unique Phase B\nBegegnungs-Nr: 20\nHeim: Mandement III\nGast: Silver Star II\n\nAdresse: Route de la Gare de Satigny 27A\, 1242 Satigny\n
LOCATION:Route de la Gare de Satigny 27A\, 1242 Satigny
CATEGORIES:Saison 2024/25
END:VEVENT
BEGIN:VEVENT
DTSTAMP:20260425T004212Z
DTSTART;TZID=Europe/Berlin:20241028T194500
DTEND;TZID=Europe/Berlin:20241028T224500
SUMMARY:Ligue 2 Gr.2\, Ph.A Rapid-Genève vs Mandement III (17)
UID:3586f87b-f883-4892-a859-8a00861ec969
STATUS:CONFIRMED
LAST-MODIFIED:20241029T180953Z
DESCRIPTION:2ème ligue Homme Gr.2 Phase A\nBegegnungs-Nr: 17\nHeim: Rapid-Genève\nGast: Mandement III\n
LOCATION:
CATEGORIES:Saison 2024/25
END:VEVENT
BEGIN:VEVENT
DTSTAMP:20260425T004212Z
DTSTART;TZID=Europe/Berlin:20241015T200000
DTEND;TZID=Europe/Berlin:20241015T230000
SUMMARY:Ligue 2 Gr.2\, Ph.A ZZ-Lancy VI vs Mandement III (13)
UID:d0f1a7b8-7b6e-4b67-b165-9ed3a242dcf2
STATUS:CONFIRMED
LAST-MODIFIED:20241016T065828Z
DESCRIPTION:2ème ligue Homme Gr.2 Phase A\nBegegnungs-Nr: 13\nHeim: ZZ-Lancy VI\nGast: Mandement III\n
LOCATION:
CATEGORIES:Saison 2024/25
END:VEVENT
BEGIN:VEVENT
DTSTAMP:20260425T004212Z
DTSTART;TZID=Europe/Berlin:20240916T194500
DTEND;TZID=Europe/Berlin:20240916T224500
SUMMARY:Ligue 2 Gr.2\, Ph.A Versoix II vs Mandement III (5)
UID:b580c0c1-6b1d-4856-a39a-70393f278e69
STATUS:CONFIRMED
LAST-MODIFIED:20240917T065753Z
DESCRIPTION:2ème ligue Homme Gr.2 Phase A\nBegegnungs-Nr: 5\nHeim: Versoix II\nGast: Mandement III\n
LOCATION:
CATEGORIES:Saison 2024/25
END:VEVENT
BEGIN:VEVENT
DTSTAMP:20260425T004212Z
DTSTART;TZID=Europe/Berlin:20241126T193000
DTEND;TZID=Europe/Berlin:20241126T223000
SUMMARY:Ligue 2 Gr.2\, Ph.A UGS-Chênois V vs Mandement III (27)
UID:445ba2f9-f06a-48f1-b88f-5ccdaca52f84
STATUS:CONFIRMED
LAST-MODIFIED:20241127T081932Z
DESCRIPTION:2ème ligue Homme Gr.2 Phase A\nBegegnungs-Nr: 27\nHeim: UGS-Chênois V\nGast: Mandement III\nHalle: Belle-Terre\nAdresse: Allée Belle-Terre 18\, 1226 Thônex\n
LOCATION:Belle-Terre Allée Belle-Terre 18\, 1226 Thônex
CATEGORIES:Saison 2024/25
END:VEVENT
BEGIN:VEVENT
DTSTAMP:20260425T004212Z
DTSTART;TZID=Europe/Berlin:20241119T194500
DTEND;TZID=Europe/Berlin:20241119T224500
SUMMARY:Ligue 2 Gr.2\, Ph.A Silver Star IV vs Mandement III (23)
UID:b983f6de-adde-4be6-979d-a46893cc8d3a
STATUS:CONFIRMED
LAST-MODIFIED:20241120T081450Z
DESCRIPTION:2ème ligue Homme Gr.2 Phase A\nBegegnungs-Nr: 23\nHeim: Silver Star IV\nGast: Mandement III\n
LOCATION:
CATEGORIES:Saison 2024/25
END:VEVENT
BEGIN:VEVENT
DTSTAMP:20260425T004212Z
DTSTART;TZID=Europe/Berlin:20250513T200000
DTEND;TZID=Europe/Berlin:20250513T230000
SUMMARY:Ligue 2 Titre demi Silver Star III vs Mandement III (1)
UID:6acaeb59-1edf-47d8-972f-e65e99d8d9c6
STATUS:CONFIRMED
LAST-MODIFIED:20250514T181410Z
DESCRIPTION:2ème ligue Homme Titre demi\nBegegnungs-Nr: 1\nHeim: Silver Star III\nGast: Mandement III\n
LOCATION:
CATEGORIES:Saison 2024/25
END:VEVENT
BEGIN:VEVENT
DTSTAMP:20260425T004212Z
DTSTART;TZID=Europe/Berlin:20250331T194500
DTEND;TZID=Europe/Berlin:20250331T224500
SUMMARY:Ligue 1 Ph.B UGS-Chênois III vs Mandement III (39)
UID:4ddb95c4-9e14-4465-86e2-9002ff478ab2
STATUS:CONFIRMED
LAST-MODIFIED:20250401T190627Z
DESCRIPTION:1ère ligue Homme Gr. unique Phase B\nBegegnungs-Nr: 39\nHeim: UGS-Chênois III\nGast: Mandement III\n
LOCATION:
CATEGORIES:Saison 2024/25
END:VEVENT
BEGIN:VEVENT
DTSTAMP:20260425T004212Z
DTSTART;TZID=Europe/Berlin:20250317T200000
DTEND;TZID=Europe/Berlin:20250317T230000
SUMMARY:Ligue 1 Ph.B Châtelaine vs Mandement III (31)
UID:a57900d8-1dd0-4991-bc6e-b22277c797ad
STATUS:CONFIRMED
LAST-MODIFIED:20250318T071603Z
DESCRIPTION:1ère ligue Homme Gr. unique Phase B\nBegegnungs-Nr: 31\nHeim: Châtelaine\nGast: Mandement III\n
LOCATION:
CATEGORIES:Saison 2024/25
END:VEVENT
BEGIN:VEVENT
DTSTAMP:20260425T004212Z
DTSTART;TZID=Europe/Berlin:20250113T194500
DTEND;TZID=Europe/Berlin:20250113T224500
SUMMARY:Ligue 1 Ph.B Mandement II vs Mandement III (2)
UID:198e0064-ee2f-48c9-8d76-cd19f465450f
STATUS:CONFIRMED
LAST-MODIFIED:20250114T083208Z
DESCRIPTION:1ère ligue Homme Gr. unique Phase B\nBegegnungs-Nr: 2\nHeim: Mandement II\nGast: Mandement III\n\nAdresse: Route de la Gare de Satigny 27A\, 1242 Satigny\n
LOCATION:Route de la Gare de Satigny 27A\, 1242 Satigny
CATEGORIES:Saison 2024/25
END:VEVENT
BEGIN:VEVENT
DTSTAMP:20260425T004212Z
DTSTART;TZID=Europe/Berlin:20250310T194500
DTEND;TZID=Europe/Berlin:20250310T224500
SUMMARY:Ligue 1 Ph.B Bernex II vs Mandement III (29)
UID:78a941b3-c2e5-4c64-acc8-43f153eae14d
STATUS:CONFIRMED
LAST-MODIFIED:20250311T103558Z
DESCRIPTION:1ère ligue Homme Gr. unique Phase B\nBegegnungs-Nr: 29\nHeim: Bernex II\nGast: Mandement III\n
LOCATION:
CATEGORIES:Saison 2024/25
END:VEVENT
BEGIN:VEVENT
DTSTAMP:20260425T004212Z
DTSTART;TZID=Europe/Berlin:20250127T194500
DTEND;TZID=Europe/Berlin:20250127T224500
SUMMARY:Ligue 1 Ph.B UGS-Chênois IV vs Mandement III (14)
UID:f6f3f658-6b87-47d4-b19d-73e7edfaa127
STATUS:CONFIRMED
LAST-MODIFIED:20250128T091850Z
DESCRIPTION:1ère ligue Homme Gr. unique Phase B\nBegegnungs-Nr: 14\nHeim: UGS-Chênois IV\nGast: Mandement III\n
LOCATION:
CATEGORIES:Saison 2024/25
END:VEVENT
END:VCALENDAR
