BEGIN:VCALENDAR
PRODID:-//nuDatenautomaten//framework iCal4j //DE
VERSION:2.0
CALSCALE:GREGORIAN
BEGIN:VTIMEZONE
TZID:Europe/Berlin
LAST-MODIFIED:20260306T231828Z
TZURL:https://www.tzurl.org/zoneinfo/Europe/Berlin
X-LIC-LOCATION:Europe/Berlin
X-PROLEPTIC-TZNAME:LMT
BEGIN:STANDARD
TZNAME:CET
TZOFFSETFROM:+005328
TZOFFSETTO:+0100
DTSTART:18930401T000000
END:STANDARD
BEGIN:DAYLIGHT
TZNAME:CEST
TZOFFSETFROM:+0100
TZOFFSETTO:+0200
DTSTART:19160430T230000
RDATE:19400401T020000
RDATE:19430329T020000
RDATE:19460414T020000
RDATE:19470406T030000
RDATE:19480418T020000
RDATE:19490410T020000
RDATE:19800406T020000
END:DAYLIGHT
BEGIN:STANDARD
TZNAME:CET
TZOFFSETFROM:+0200
TZOFFSETTO:+0100
DTSTART:19161001T010000
RDATE:19421102T030000
RDATE:19431004T030000
RDATE:19441002T030000
RDATE:19451118T030000
RDATE:19461007T030000
END:STANDARD
BEGIN:DAYLIGHT
TZNAME:CEST
TZOFFSETFROM:+0100
TZOFFSETTO:+0200
DTSTART:19170416T020000
RRULE:FREQ=YEARLY;UNTIL=19180415T010000Z;BYMONTH=4;BYDAY=3MO
END:DAYLIGHT
BEGIN:STANDARD
TZNAME:CET
TZOFFSETFROM:+0200
TZOFFSETTO:+0100
DTSTART:19170917T030000
RRULE:FREQ=YEARLY;UNTIL=19180916T010000Z;BYMONTH=9;BYDAY=3MO
END:STANDARD
BEGIN:DAYLIGHT
TZNAME:CEST
TZOFFSETFROM:+0100
TZOFFSETTO:+0200
DTSTART:19440403T020000
RRULE:FREQ=YEARLY;UNTIL=19450402T010000Z;BYMONTH=4;BYDAY=1MO
END:DAYLIGHT
BEGIN:DAYLIGHT
TZNAME:CEMT
TZOFFSETFROM:+0200
TZOFFSETTO:+0300
DTSTART:19450524T020000
RDATE:19470511T030000
END:DAYLIGHT
BEGIN:DAYLIGHT
TZNAME:CEST
TZOFFSETFROM:+0300
TZOFFSETTO:+0200
DTSTART:19450924T030000
RDATE:19470629T030000
END:DAYLIGHT
BEGIN:STANDARD
TZNAME:CET
TZOFFSETFROM:+0100
TZOFFSETTO:+0100
DTSTART:19460101T000000
RDATE:19800101T000000
END:STANDARD
BEGIN:STANDARD
TZNAME:CET
TZOFFSETFROM:+0200
TZOFFSETTO:+0100
DTSTART:19471005T030000
RRULE:FREQ=YEARLY;UNTIL=19491002T010000Z;BYMONTH=10;BYDAY=1SU
END:STANDARD
BEGIN:STANDARD
TZNAME:CET
TZOFFSETFROM:+0200
TZOFFSETTO:+0100
DTSTART:19800928T030000
RRULE:FREQ=YEARLY;UNTIL=19950924T010000Z;BYMONTH=9;BYDAY=-1SU
END:STANDARD
BEGIN:DAYLIGHT
TZNAME:CEST
TZOFFSETFROM:+0100
TZOFFSETTO:+0200
DTSTART:19810329T020000
RRULE:FREQ=YEARLY;BYMONTH=3;BYDAY=-1SU
END:DAYLIGHT
BEGIN:STANDARD
TZNAME:CET
TZOFFSETFROM:+0200
TZOFFSETTO:+0100
DTSTART:19961027T030000
RRULE:FREQ=YEARLY;BYMONTH=10;BYDAY=-1SU
END:STANDARD
END:VTIMEZONE
BEGIN:VEVENT
DTSTAMP:20260425T032758Z
DTSTART;TZID=Europe/Berlin:20240822T201500
DTEND;TZID=Europe/Berlin:20240822T231500
SUMMARY:O40 3. Liga Gr. 1 Wallenwil vs Romanshorn II (0)
UID:e10e8da6-d95a-4256-a331-8fafbafa5c6c
STATUS:CONFIRMED
LAST-MODIFIED:20240828T091530Z
DESCRIPTION:3. Liga O40 Gruppe 1\nBegegnungs-Nr: 0\nHeim: Wallenwil\nGast: Romanshorn II\n\nAdresse: Stationsstrasse 29\, 8360 Wallenwil\n
LOCATION:Stationsstrasse 29\, 8360 Wallenwil
CATEGORIES:Saison 2024/25
END:VEVENT
BEGIN:VEVENT
DTSTAMP:20260425T032758Z
DTSTART;TZID=Europe/Berlin:20250331T201500
DTEND;TZID=Europe/Berlin:20250331T231500
SUMMARY:O40 3. Liga Gr. 1 Wallenwil vs Bronschhofen (0)
UID:89382e1e-b8ad-4eb7-881e-0d449ecc3ef3
STATUS:CONFIRMED
LAST-MODIFIED:20250404T083941Z
DESCRIPTION:3. Liga O40 Gruppe 1\nBegegnungs-Nr: 0\nHeim: Wallenwil\nGast: Bronschhofen\n\nAdresse: Stationsstrasse 29\, 8360 Wallenwil\n
LOCATION:Stationsstrasse 29\, 8360 Wallenwil
CATEGORIES:Saison 2024/25
END:VEVENT
BEGIN:VEVENT
DTSTAMP:20260425T032758Z
DTSTART;TZID=Europe/Berlin:20250320T201500
DTEND;TZID=Europe/Berlin:20250320T231500
SUMMARY:O40 3. Liga Gr. 1 Wallenwil vs Gossau St.Gallen (0)
UID:f5153843-f4ec-427e-a97f-c410c869a78b
STATUS:CONFIRMED
LAST-MODIFIED:20250321T124306Z
DESCRIPTION:3. Liga O40 Gruppe 1\nBegegnungs-Nr: 0\nHeim: Wallenwil\nGast: Gossau St.Gallen\n\nAdresse: Stationsstrasse 29\, 8360 Wallenwil\n
LOCATION:Stationsstrasse 29\, 8360 Wallenwil
CATEGORIES:Saison 2024/25
END:VEVENT
BEGIN:VEVENT
DTSTAMP:20260425T032758Z
DTSTART;TZID=Europe/Berlin:20250206T201500
DTEND;TZID=Europe/Berlin:20250206T231500
SUMMARY:O40 3. Liga Gr. 1 Wallenwil vs Wuppenau (0)
UID:e2405d1a-cb25-464e-9e80-0534c1ff0fa9
STATUS:CONFIRMED
LAST-MODIFIED:20250207T115600Z
DESCRIPTION:3. Liga O40 Gruppe 1\nBegegnungs-Nr: 0\nHeim: Wallenwil\nGast: Wuppenau\n\nAdresse: Stationsstrasse 29\, 8360 Wallenwil\n
LOCATION:Stationsstrasse 29\, 8360 Wallenwil
CATEGORIES:Saison 2024/25
END:VEVENT
BEGIN:VEVENT
DTSTAMP:20260425T032758Z
DTSTART;TZID=Europe/Berlin:20241212T201500
DTEND;TZID=Europe/Berlin:20241212T231500
SUMMARY:O40 3. Liga Gr. 1 Wallenwil vs St. Gallen (0)
UID:86dbd5bd-92f4-43d0-8319-e921b252aef7
STATUS:CONFIRMED
LAST-MODIFIED:20241213T102152Z
DESCRIPTION:3. Liga O40 Gruppe 1\nBegegnungs-Nr: 0\nHeim: Wallenwil\nGast: St. Gallen\n\nAdresse: Stationsstrasse 29\, 8360 Wallenwil\n
LOCATION:Stationsstrasse 29\, 8360 Wallenwil
CATEGORIES:Saison 2024/25
END:VEVENT
BEGIN:VEVENT
DTSTAMP:20260425T032758Z
DTSTART;TZID=Europe/Berlin:20241121T201500
DTEND;TZID=Europe/Berlin:20241121T231500
SUMMARY:O40 3. Liga Gr. 1 Wallenwil vs Horn (0)
UID:062a80a8-0425-4f64-a4ff-d01d4cf09187
STATUS:CONFIRMED
LAST-MODIFIED:20241122T151730Z
DESCRIPTION:3. Liga O40 Gruppe 1\nBegegnungs-Nr: 0\nHeim: Wallenwil\nGast: Horn\n\nAdresse: Stationsstrasse 29\, 8360 Wallenwil\n
LOCATION:Stationsstrasse 29\, 8360 Wallenwil
CATEGORIES:Saison 2024/25
END:VEVENT
BEGIN:VEVENT
DTSTAMP:20260425T032758Z
DTSTART;TZID=Europe/Berlin:20240819T201500
DTEND;TZID=Europe/Berlin:20240819T231500
SUMMARY:O40 3. Liga Gr. 1 Wuppenau vs Wallenwil (0)
UID:5259f1fe-46b9-41b8-8ea7-6e68e434e488
STATUS:CONFIRMED
LAST-MODIFIED:20240828T091345Z
DESCRIPTION:3. Liga O40 Gruppe 1\nBegegnungs-Nr: 0\nHeim: Wuppenau\nGast: Wallenwil\n\nAdresse: Nollenstrasse\, 9514 Wuppenau\n
LOCATION:Nollenstrasse\, 9514 Wuppenau
CATEGORIES:Saison 2024/25
END:VEVENT
BEGIN:VEVENT
DTSTAMP:20260425T032758Z
DTSTART;TZID=Europe/Berlin:20250425T200000
DTEND;TZID=Europe/Berlin:20250425T230000
SUMMARY:O40 3. Liga Gr. 1 St. Gallen vs Wallenwil (0)
UID:c841ed5c-e117-4866-b824-004ebfe93b28
STATUS:CONFIRMED
LAST-MODIFIED:20250428T142208Z
DESCRIPTION:3. Liga O40 Gruppe 1\nBegegnungs-Nr: 0\nHeim: St. Gallen\nGast: Wallenwil\n\nAdresse: Zilstrasse 61\, 9016 St.Gallen\n
LOCATION:Zilstrasse 61\, 9016 St.Gallen
CATEGORIES:Saison 2024/25
END:VEVENT
BEGIN:VEVENT
DTSTAMP:20260425T032758Z
DTSTART;TZID=Europe/Berlin:20250225T200000
DTEND;TZID=Europe/Berlin:20250225T230000
SUMMARY:O40 3. Liga Gr. 1 Horn vs Wallenwil (0)
UID:4a2488e4-0dcb-44fd-955e-30265582d5cf
STATUS:CONFIRMED
LAST-MODIFIED:20250227T123713Z
DESCRIPTION:3. Liga O40 Gruppe 1\nBegegnungs-Nr: 0\nHeim: Horn\nGast: Wallenwil\n\nAdresse: Feldstrasse 16\, 9326 Horn\n
LOCATION:Feldstrasse 16\, 9326 Horn
CATEGORIES:Saison 2024/25
END:VEVENT
BEGIN:VEVENT
DTSTAMP:20260425T032758Z
DTSTART;TZID=Europe/Berlin:20250113T201500
DTEND;TZID=Europe/Berlin:20250113T231500
SUMMARY:O40 3. Liga Gr. 1 Romanshorn II vs Wallenwil (0)
UID:572b7d9d-1e3c-4047-9ab1-2c7e4984fac7
STATUS:CONFIRMED
LAST-MODIFIED:20250114T094611Z
DESCRIPTION:3. Liga O40 Gruppe 1\nBegegnungs-Nr: 0\nHeim: Romanshorn II\nGast: Wallenwil\n\nAdresse: Florastrasse\, 8590 Romanshorn\n
LOCATION:Florastrasse\, 8590 Romanshorn
CATEGORIES:Saison 2024/25
END:VEVENT
BEGIN:VEVENT
DTSTAMP:20260425T032758Z
DTSTART;TZID=Europe/Berlin:20241118T200000
DTEND;TZID=Europe/Berlin:20241118T230000
SUMMARY:O40 3. Liga Gr. 1 Bronschhofen vs Wallenwil (0)
UID:d511d4bd-0027-4902-81e1-58df85939b55
STATUS:CONFIRMED
LAST-MODIFIED:20241122T151641Z
DESCRIPTION:3. Liga O40 Gruppe 1\nBegegnungs-Nr: 0\nHeim: Bronschhofen\nGast: Wallenwil\n\nAdresse: Schulstrasse 6\, 9552 Bronschhofen\n
LOCATION:Schulstrasse 6\, 9552 Bronschhofen
CATEGORIES:Saison 2024/25
END:VEVENT
BEGIN:VEVENT
DTSTAMP:20260425T032758Z
DTSTART;TZID=Europe/Berlin:20241022T200000
DTEND;TZID=Europe/Berlin:20241022T230000
SUMMARY:O40 3. Liga Gr. 1 Gossau St.Gallen vs Wallenwil (0)
UID:0d49674c-21e6-4091-8aff-baaa6cf7e9c8
STATUS:CONFIRMED
LAST-MODIFIED:20241023T082153Z
DESCRIPTION:3. Liga O40 Gruppe 1\nBegegnungs-Nr: 0\nHeim: Gossau St.Gallen\nGast: Wallenwil\n\nAdresse: Falkenstrasse 21\, 9200 Gossau\n
LOCATION:Falkenstrasse 21\, 9200 Gossau
CATEGORIES:Saison 2024/25
END:VEVENT
END:VCALENDAR
