BEGIN:VCALENDAR
PRODID:-//nuDatenautomaten//framework iCal4j //DE
VERSION:2.0
CALSCALE:GREGORIAN
BEGIN:VTIMEZONE
TZID:Europe/Berlin
LAST-MODIFIED:20260306T231828Z
TZURL:https://www.tzurl.org/zoneinfo/Europe/Berlin
X-LIC-LOCATION:Europe/Berlin
X-PROLEPTIC-TZNAME:LMT
BEGIN:STANDARD
TZNAME:CET
TZOFFSETFROM:+005328
TZOFFSETTO:+0100
DTSTART:18930401T000000
END:STANDARD
BEGIN:DAYLIGHT
TZNAME:CEST
TZOFFSETFROM:+0100
TZOFFSETTO:+0200
DTSTART:19160430T230000
RDATE:19400401T020000
RDATE:19430329T020000
RDATE:19460414T020000
RDATE:19470406T030000
RDATE:19480418T020000
RDATE:19490410T020000
RDATE:19800406T020000
END:DAYLIGHT
BEGIN:STANDARD
TZNAME:CET
TZOFFSETFROM:+0200
TZOFFSETTO:+0100
DTSTART:19161001T010000
RDATE:19421102T030000
RDATE:19431004T030000
RDATE:19441002T030000
RDATE:19451118T030000
RDATE:19461007T030000
END:STANDARD
BEGIN:DAYLIGHT
TZNAME:CEST
TZOFFSETFROM:+0100
TZOFFSETTO:+0200
DTSTART:19170416T020000
RRULE:FREQ=YEARLY;UNTIL=19180415T010000Z;BYMONTH=4;BYDAY=3MO
END:DAYLIGHT
BEGIN:STANDARD
TZNAME:CET
TZOFFSETFROM:+0200
TZOFFSETTO:+0100
DTSTART:19170917T030000
RRULE:FREQ=YEARLY;UNTIL=19180916T010000Z;BYMONTH=9;BYDAY=3MO
END:STANDARD
BEGIN:DAYLIGHT
TZNAME:CEST
TZOFFSETFROM:+0100
TZOFFSETTO:+0200
DTSTART:19440403T020000
RRULE:FREQ=YEARLY;UNTIL=19450402T010000Z;BYMONTH=4;BYDAY=1MO
END:DAYLIGHT
BEGIN:DAYLIGHT
TZNAME:CEMT
TZOFFSETFROM:+0200
TZOFFSETTO:+0300
DTSTART:19450524T020000
RDATE:19470511T030000
END:DAYLIGHT
BEGIN:DAYLIGHT
TZNAME:CEST
TZOFFSETFROM:+0300
TZOFFSETTO:+0200
DTSTART:19450924T030000
RDATE:19470629T030000
END:DAYLIGHT
BEGIN:STANDARD
TZNAME:CET
TZOFFSETFROM:+0100
TZOFFSETTO:+0100
DTSTART:19460101T000000
RDATE:19800101T000000
END:STANDARD
BEGIN:STANDARD
TZNAME:CET
TZOFFSETFROM:+0200
TZOFFSETTO:+0100
DTSTART:19471005T030000
RRULE:FREQ=YEARLY;UNTIL=19491002T010000Z;BYMONTH=10;BYDAY=1SU
END:STANDARD
BEGIN:STANDARD
TZNAME:CET
TZOFFSETFROM:+0200
TZOFFSETTO:+0100
DTSTART:19800928T030000
RRULE:FREQ=YEARLY;UNTIL=19950924T010000Z;BYMONTH=9;BYDAY=-1SU
END:STANDARD
BEGIN:DAYLIGHT
TZNAME:CEST
TZOFFSETFROM:+0100
TZOFFSETTO:+0200
DTSTART:19810329T020000
RRULE:FREQ=YEARLY;BYMONTH=3;BYDAY=-1SU
END:DAYLIGHT
BEGIN:STANDARD
TZNAME:CET
TZOFFSETFROM:+0200
TZOFFSETTO:+0100
DTSTART:19961027T030000
RRULE:FREQ=YEARLY;BYMONTH=10;BYDAY=-1SU
END:STANDARD
END:VTIMEZONE
BEGIN:VEVENT
DTSTAMP:20260424T231900Z
DTSTART;TZID=Europe/Berlin:20250406T140000
DTEND;TZID=Europe/Berlin:20250406T170000
SUMMARY:HE NLB Gr. 2 Rio-Star Muttenz II vs Rapperswil-Jona II (26)
UID:2d701132-8aea-42a3-9a07-3cf6ba1bb92b
STATUS:CONFIRMED
LAST-MODIFIED:20250408T101954Z
DESCRIPTION:Herren Nationalliga B Gruppe 2\nBegegnungs-Nr: 26\nHeim: Rio-Star Muttenz II\nGast: Rapperswil-Jona II\n\nAdresse: Gründenstrasse 32\, 4132 Muttenz\n
LOCATION:Gründenstrasse 32\, 4132 Muttenz
CATEGORIES:Saison 2024/25
END:VEVENT
BEGIN:VEVENT
DTSTAMP:20260424T231900Z
DTSTART;TZID=Europe/Berlin:20250405T140000
DTEND;TZID=Europe/Berlin:20250405T170000
SUMMARY:HE NLB Gr. 2 Rio-Star Muttenz II vs Bremgarten (23)
UID:097ef40d-ca4b-4138-a230-d26e36f55091
STATUS:CONFIRMED
LAST-MODIFIED:20250408T101907Z
DESCRIPTION:Herren Nationalliga B Gruppe 2\nBegegnungs-Nr: 23\nHeim: Rio-Star Muttenz II\nGast: Bremgarten\n\nAdresse: Gründenstrasse 32\, 4132 Muttenz\n
LOCATION:Gründenstrasse 32\, 4132 Muttenz
CATEGORIES:Saison 2024/25
END:VEVENT
BEGIN:VEVENT
DTSTAMP:20260424T231900Z
DTSTART;TZID=Europe/Berlin:20250111T160000
DTEND;TZID=Europe/Berlin:20250111T190000
SUMMARY:HE NLB Gr. 2 Rio-Star Muttenz II vs Fribourg (2)
UID:ecad1ded-e375-4a80-b316-3bf2af83e0a3
STATUS:CONFIRMED
LAST-MODIFIED:20250113T085736Z
DESCRIPTION:Herren Nationalliga B Gruppe 2\nBegegnungs-Nr: 2\nHeim: Rio-Star Muttenz II\nGast: Fribourg\n\nAdresse: Gründenstrasse 32\, 4132 Muttenz\n
LOCATION:Gründenstrasse 32\, 4132 Muttenz
CATEGORIES:Saison 2024/25
END:VEVENT
BEGIN:VEVENT
DTSTAMP:20260424T231900Z
DTSTART;TZID=Europe/Berlin:20240907T150000
DTEND;TZID=Europe/Berlin:20240907T180000
SUMMARY:HE NLB Gr. 2 Rio-Star Muttenz II vs Rapid Luzern (3)
UID:e08e7cbe-a5bf-46ee-8c58-f4a771951b64
STATUS:CONFIRMED
LAST-MODIFIED:20240910T075459Z
DESCRIPTION:Herren Nationalliga B Gruppe 2\nBegegnungs-Nr: 3\nHeim: Rio-Star Muttenz II\nGast: Rapid Luzern\n\nAdresse: Gründenstrasse 32\, 4132 Muttenz\n
LOCATION:Gründenstrasse 32\, 4132 Muttenz
CATEGORIES:Saison 2024/25
END:VEVENT
BEGIN:VEVENT
DTSTAMP:20260424T231900Z
DTSTART;TZID=Europe/Berlin:20241102T140000
DTEND;TZID=Europe/Berlin:20241102T170000
SUMMARY:HE NLB Gr. 2 Rio-Star Muttenz II vs ABTT (16)
UID:2cdfa001-7d60-4cb8-b47c-7fed562e2aac
STATUS:CONFIRMED
LAST-MODIFIED:20241104T090315Z
DESCRIPTION:Herren Nationalliga B Gruppe 2\nBegegnungs-Nr: 16\nHeim: Rio-Star Muttenz II\nGast: ABTT\n\nAdresse: Gründenstrasse 32\, 4132 Muttenz\n
LOCATION:Gründenstrasse 32\, 4132 Muttenz
CATEGORIES:Saison 2024/25
END:VEVENT
BEGIN:VEVENT
DTSTAMP:20260424T231900Z
DTSTART;TZID=Europe/Berlin:20241116T130000
DTEND;TZID=Europe/Berlin:20241116T160000
SUMMARY:HE NLB Gr. 2 Rio-Star Muttenz II vs Young Stars ZH II (19)
UID:866b71a6-87a5-4af3-abe9-6786864fff8b
STATUS:CONFIRMED
LAST-MODIFIED:20241118T111738Z
DESCRIPTION:Herren Nationalliga B Gruppe 2\nBegegnungs-Nr: 19\nHeim: Rio-Star Muttenz II\nGast: Young Stars ZH II\n\nAdresse: Gründenstrasse 32\, 4132 Muttenz\n
LOCATION:Gründenstrasse 32\, 4132 Muttenz
CATEGORIES:Saison 2024/25
END:VEVENT
BEGIN:VEVENT
DTSTAMP:20260424T231900Z
DTSTART;TZID=Europe/Berlin:20240928T150000
DTEND;TZID=Europe/Berlin:20240928T180000
SUMMARY:HE NLB Gr. 2 Rio-Star Muttenz II vs St. Gallen (6)
UID:bf42a7be-7eb6-4a91-969d-21b33ff8a4b1
STATUS:CONFIRMED
LAST-MODIFIED:20241001T072444Z
DESCRIPTION:Herren Nationalliga B Gruppe 2\nBegegnungs-Nr: 6\nHeim: Rio-Star Muttenz II\nGast: St. Gallen\n\nAdresse: Gründenstrasse 32\, 4132 Muttenz\n
LOCATION:Gründenstrasse 32\, 4132 Muttenz
CATEGORIES:Saison 2024/25
END:VEVENT
BEGIN:VEVENT
DTSTAMP:20260424T231900Z
DTSTART;TZID=Europe/Berlin:20250201T170000
DTEND;TZID=Europe/Berlin:20250201T200000
SUMMARY:HE NLB Gr. 2 Rapid Luzern vs Rio-Star Muttenz II (7)
UID:c488cdf1-b9f9-4932-a929-99c0f926369f
STATUS:CONFIRMED
LAST-MODIFIED:20250203T092427Z
DESCRIPTION:Herren Nationalliga B Gruppe 2\nBegegnungs-Nr: 7\nHeim: Rapid Luzern\nGast: Rio-Star Muttenz II\n\nAdresse: Kreuzbuchstr. 60\, 6006 Luzern\n
LOCATION:Kreuzbuchstr. 60\, 6006 Luzern
CATEGORIES:Saison 2024/25
END:VEVENT
BEGIN:VEVENT
DTSTAMP:20260424T231900Z
DTSTART;TZID=Europe/Berlin:20250301T150000
DTEND;TZID=Europe/Berlin:20250301T180000
SUMMARY:HE NLB Gr. 2 St. Gallen vs Rio-Star Muttenz II (14)
UID:2c778e16-94c8-472b-a89b-aa84f7cf942c
STATUS:CONFIRMED
LAST-MODIFIED:20250303T064718Z
DESCRIPTION:Herren Nationalliga B Gruppe 2\nBegegnungs-Nr: 14\nHeim: St. Gallen\nGast: Rio-Star Muttenz II\n\nAdresse: Zilstrasse 61\, 9016 St.Gallen\n
LOCATION:Zilstrasse 61\, 9016 St.Gallen
CATEGORIES:Saison 2024/25
END:VEVENT
BEGIN:VEVENT
DTSTAMP:20260424T231900Z
DTSTART;TZID=Europe/Berlin:20250302T164500
DTEND;TZID=Europe/Berlin:20250302T194500
SUMMARY:HE NLB Gr. 2 Young Stars ZH II vs Rio-Star Muttenz II (19)
UID:1a7d254f-73a0-4b19-84cd-be17abdabbd6
STATUS:CONFIRMED
LAST-MODIFIED:20250304T100758Z
DESCRIPTION:Herren Nationalliga B Gruppe 2\nBegegnungs-Nr: 19\nHeim: Young Stars ZH II\nGast: Rio-Star Muttenz II\n\nAdresse: Seefeldstrasse 93\, 8008 Zürich\n
LOCATION:Seefeldstrasse 93\, 8008 Zürich
CATEGORIES:Saison 2024/25
END:VEVENT
BEGIN:VEVENT
DTSTAMP:20260424T231900Z
DTSTART;TZID=Europe/Berlin:20250208T140000
DTEND;TZID=Europe/Berlin:20250208T170000
SUMMARY:HE NLB Gr. 2 ABTT vs Rio-Star Muttenz II (12)
UID:2bbd8442-c2bb-4c7f-b8f5-8bd77856cd74
STATUS:CONFIRMED
LAST-MODIFIED:20250210T074305Z
DESCRIPTION:Herren Nationalliga B Gruppe 2\nBegegnungs-Nr: 12\nHeim: ABTT\nGast: Rio-Star Muttenz II\n\nAdresse: Francesco Chiesa 2a\, 6500 Bellinzona\n
LOCATION:Francesco Chiesa 2a\, 6500 Bellinzona
CATEGORIES:Saison 2024/25
END:VEVENT
BEGIN:VEVENT
DTSTAMP:20260424T231900Z
DTSTART;TZID=Europe/Berlin:20241208T140000
DTEND;TZID=Europe/Berlin:20241208T170000
SUMMARY:HE NLB Gr. 2 Rapperswil-Jona II vs Rio-Star Muttenz II (26)
UID:ddf3ff0b-6e63-4757-aa12-d7a1b0fb82fe
STATUS:CONFIRMED
LAST-MODIFIED:20241211T124739Z
DESCRIPTION:Herren Nationalliga B Gruppe 2\nBegegnungs-Nr: 26\nHeim: Rapperswil-Jona II\nGast: Rio-Star Muttenz II\n\nAdresse: Kreuzstrasse 43\, 8640 Rapperswil\n
LOCATION:Kreuzstrasse 43\, 8640 Rapperswil
CATEGORIES:Saison 2024/25
END:VEVENT
BEGIN:VEVENT
DTSTAMP:20260424T231900Z
DTSTART;TZID=Europe/Berlin:20241026T160000
DTEND;TZID=Europe/Berlin:20241026T190000
SUMMARY:HE NLB Gr. 2 Fribourg vs Rio-Star Muttenz II (10)
UID:ab1ffbdb-6892-4e70-942e-19d224a1f9e5
STATUS:CONFIRMED
LAST-MODIFIED:20241031T083201Z
DESCRIPTION:Herren Nationalliga B Gruppe 2\nBegegnungs-Nr: 10\nHeim: Fribourg\nGast: Rio-Star Muttenz II\n\nAdresse: Avenue Général Guisan 61\, 1700 Fribourg\n
LOCATION:Avenue Général Guisan 61\, 1700 Fribourg
CATEGORIES:Saison 2024/25
END:VEVENT
BEGIN:VEVENT
DTSTAMP:20260424T231900Z
DTSTART;TZID=Europe/Berlin:20241206T203000
DTEND;TZID=Europe/Berlin:20241206T233000
SUMMARY:HE NLB Gr. 2 Bremgarten vs Rio-Star Muttenz II (23)
UID:227de10e-dcc7-4400-8f56-5250c290143f
STATUS:CONFIRMED
LAST-MODIFIED:20241211T124407Z
DESCRIPTION:Herren Nationalliga B Gruppe 2\nBegegnungs-Nr: 23\nHeim: Bremgarten\nGast: Rio-Star Muttenz II\n\nAdresse: Badstrasse 3\, 5620 Bremgarten\n
LOCATION:Badstrasse 3\, 5620 Bremgarten
CATEGORIES:Saison 2024/25
END:VEVENT
END:VCALENDAR
