BEGIN:VCALENDAR
PRODID:-//nuDatenautomaten//framework iCal4j //DE
VERSION:2.0
CALSCALE:GREGORIAN
BEGIN:VTIMEZONE
TZID:Europe/Berlin
LAST-MODIFIED:20260306T231828Z
TZURL:https://www.tzurl.org/zoneinfo/Europe/Berlin
X-LIC-LOCATION:Europe/Berlin
X-PROLEPTIC-TZNAME:LMT
BEGIN:STANDARD
TZNAME:CET
TZOFFSETFROM:+005328
TZOFFSETTO:+0100
DTSTART:18930401T000000
END:STANDARD
BEGIN:DAYLIGHT
TZNAME:CEST
TZOFFSETFROM:+0100
TZOFFSETTO:+0200
DTSTART:19160430T230000
RDATE:19400401T020000
RDATE:19430329T020000
RDATE:19460414T020000
RDATE:19470406T030000
RDATE:19480418T020000
RDATE:19490410T020000
RDATE:19800406T020000
END:DAYLIGHT
BEGIN:STANDARD
TZNAME:CET
TZOFFSETFROM:+0200
TZOFFSETTO:+0100
DTSTART:19161001T010000
RDATE:19421102T030000
RDATE:19431004T030000
RDATE:19441002T030000
RDATE:19451118T030000
RDATE:19461007T030000
END:STANDARD
BEGIN:DAYLIGHT
TZNAME:CEST
TZOFFSETFROM:+0100
TZOFFSETTO:+0200
DTSTART:19170416T020000
RRULE:FREQ=YEARLY;UNTIL=19180415T010000Z;BYMONTH=4;BYDAY=3MO
END:DAYLIGHT
BEGIN:STANDARD
TZNAME:CET
TZOFFSETFROM:+0200
TZOFFSETTO:+0100
DTSTART:19170917T030000
RRULE:FREQ=YEARLY;UNTIL=19180916T010000Z;BYMONTH=9;BYDAY=3MO
END:STANDARD
BEGIN:DAYLIGHT
TZNAME:CEST
TZOFFSETFROM:+0100
TZOFFSETTO:+0200
DTSTART:19440403T020000
RRULE:FREQ=YEARLY;UNTIL=19450402T010000Z;BYMONTH=4;BYDAY=1MO
END:DAYLIGHT
BEGIN:DAYLIGHT
TZNAME:CEMT
TZOFFSETFROM:+0200
TZOFFSETTO:+0300
DTSTART:19450524T020000
RDATE:19470511T030000
END:DAYLIGHT
BEGIN:DAYLIGHT
TZNAME:CEST
TZOFFSETFROM:+0300
TZOFFSETTO:+0200
DTSTART:19450924T030000
RDATE:19470629T030000
END:DAYLIGHT
BEGIN:STANDARD
TZNAME:CET
TZOFFSETFROM:+0100
TZOFFSETTO:+0100
DTSTART:19460101T000000
RDATE:19800101T000000
END:STANDARD
BEGIN:STANDARD
TZNAME:CET
TZOFFSETFROM:+0200
TZOFFSETTO:+0100
DTSTART:19471005T030000
RRULE:FREQ=YEARLY;UNTIL=19491002T010000Z;BYMONTH=10;BYDAY=1SU
END:STANDARD
BEGIN:STANDARD
TZNAME:CET
TZOFFSETFROM:+0200
TZOFFSETTO:+0100
DTSTART:19800928T030000
RRULE:FREQ=YEARLY;UNTIL=19950924T010000Z;BYMONTH=9;BYDAY=-1SU
END:STANDARD
BEGIN:DAYLIGHT
TZNAME:CEST
TZOFFSETFROM:+0100
TZOFFSETTO:+0200
DTSTART:19810329T020000
RRULE:FREQ=YEARLY;BYMONTH=3;BYDAY=-1SU
END:DAYLIGHT
BEGIN:STANDARD
TZNAME:CET
TZOFFSETFROM:+0200
TZOFFSETTO:+0100
DTSTART:19961027T030000
RRULE:FREQ=YEARLY;BYMONTH=10;BYDAY=-1SU
END:STANDARD
END:VTIMEZONE
BEGIN:VEVENT
DTSTAMP:20260419T230041Z
DTSTART;TZID=Europe/Berlin:20240920T193000
DTEND;TZID=Europe/Berlin:20240920T223000
SUMMARY:L2P1 La Chaux-de-Fonds II vs Val-de-Ruz II (0)
UID:2e823914-2434-4151-83be-29e792042cc2
STATUS:CONFIRMED
LAST-MODIFIED:20240924T155907Z
DESCRIPTION:2ème ligue phase 1\nBegegnungs-Nr: 0\nHeim: La Chaux-de-Fonds II\nGast: Val-de-Ruz II\n\nAdresse: Rue du Docteur-Kern 14\, 2300 La Chaux-de-Fonds\n
LOCATION:Rue du Docteur-Kern 14\, 2300 La Chaux-de-Fonds
CATEGORIES:Saison 2024/25
END:VEVENT
BEGIN:VEVENT
DTSTAMP:20260419T230041Z
DTSTART;TZID=Europe/Berlin:20241115T193000
DTEND;TZID=Europe/Berlin:20241115T223000
SUMMARY:L2P1 La Chaux-de-Fonds II vs Le Locle (0)
UID:51e827f2-1cdd-4b99-9e3b-ac9351c41624
STATUS:CONFIRMED
LAST-MODIFIED:20241122T115136Z
DESCRIPTION:2ème ligue phase 1\nBegegnungs-Nr: 0\nHeim: La Chaux-de-Fonds II\nGast: Le Locle\n\nAdresse: Rue du Docteur-Kern 14\, 2300 La Chaux-de-Fonds\n
LOCATION:Rue du Docteur-Kern 14\, 2300 La Chaux-de-Fonds
CATEGORIES:Saison 2024/25
END:VEVENT
BEGIN:VEVENT
DTSTAMP:20260419T230041Z
DTSTART;TZID=Europe/Berlin:20241023T200000
DTEND;TZID=Europe/Berlin:20241023T230000
SUMMARY:L2P1 La Chaux-de-Fonds II vs Tramelan II (0)
UID:34883b9c-ad14-4125-9c59-2ca2e8a272ae
STATUS:CONFIRMED
LAST-MODIFIED:20241025T144631Z
DESCRIPTION:2ème ligue phase 1\nBegegnungs-Nr: 0\nHeim: La Chaux-de-Fonds II\nGast: Tramelan II\n\nAdresse: Rue du Docteur-Kern 14\, 2300 La Chaux-de-Fonds\n
LOCATION:Rue du Docteur-Kern 14\, 2300 La Chaux-de-Fonds
CATEGORIES:Saison 2024/25
END:VEVENT
BEGIN:VEVENT
DTSTAMP:20260419T230041Z
DTSTART;TZID=Europe/Berlin:20250131T193000
DTEND;TZID=Europe/Berlin:20250131T223000
SUMMARY:L1P2 La Chaux-de-Fonds II vs Moutier (0)
UID:5692400e-4116-4ced-bbe9-668144385c59
STATUS:CONFIRMED
LAST-MODIFIED:20250214T145107Z
DESCRIPTION:1 ère ligue phase 2\nBegegnungs-Nr: 0\nHeim: La Chaux-de-Fonds II\nGast: Moutier\n\nAdresse: Rue du Docteur-Kern 14\, 2300 La Chaux-de-Fonds\n
LOCATION:Rue du Docteur-Kern 14\, 2300 La Chaux-de-Fonds
CATEGORIES:Saison 2024/25
END:VEVENT
BEGIN:VEVENT
DTSTAMP:20260419T230041Z
DTSTART;TZID=Europe/Berlin:20250307T193000
DTEND;TZID=Europe/Berlin:20250307T223000
SUMMARY:L1P2 La Chaux-de-Fonds II vs Cortaillod II (0)
UID:f59e914b-210b-4ed9-b7b8-0d61291cd975
STATUS:CONFIRMED
LAST-MODIFIED:20250313T074521Z
DESCRIPTION:1 ère ligue phase 2\nBegegnungs-Nr: 0\nHeim: La Chaux-de-Fonds II\nGast: Cortaillod II\n\nAdresse: Rue du Docteur-Kern 14\, 2300 La Chaux-de-Fonds\n
LOCATION:Rue du Docteur-Kern 14\, 2300 La Chaux-de-Fonds
CATEGORIES:Saison 2024/25
END:VEVENT
BEGIN:VEVENT
DTSTAMP:20260419T230041Z
DTSTART;TZID=Europe/Berlin:20250328T193000
DTEND;TZID=Europe/Berlin:20250328T223000
SUMMARY:L1P2 La Chaux-de-Fonds II vs Delémont (0)
UID:2265c06e-5bd2-404e-afef-2a8a089ec53a
STATUS:CONFIRMED
LAST-MODIFIED:20250404T042715Z
DESCRIPTION:1 ère ligue phase 2\nBegegnungs-Nr: 0\nHeim: La Chaux-de-Fonds II\nGast: Delémont\n\nAdresse: Rue du Docteur-Kern 14\, 2300 La Chaux-de-Fonds\n
LOCATION:Rue du Docteur-Kern 14\, 2300 La Chaux-de-Fonds
CATEGORIES:Saison 2024/25
END:VEVENT
BEGIN:VEVENT
DTSTAMP:20260419T230041Z
DTSTART;TZID=Europe/Berlin:20250425T193000
DTEND;TZID=Europe/Berlin:20250425T223000
SUMMARY:L1P2 La Chaux-de-Fonds II vs Porrentruy (0)
UID:4eb4af3a-8566-447f-9623-2e1ed878c9a5
STATUS:CONFIRMED
LAST-MODIFIED:20250512T090941Z
DESCRIPTION:1 ère ligue phase 2\nBegegnungs-Nr: 0\nHeim: La Chaux-de-Fonds II\nGast: Porrentruy\n\nAdresse: Rue du Docteur-Kern 14\, 2300 La Chaux-de-Fonds\n
LOCATION:Rue du Docteur-Kern 14\, 2300 La Chaux-de-Fonds
CATEGORIES:Saison 2024/25
END:VEVENT
BEGIN:VEVENT
DTSTAMP:20260419T230041Z
DTSTART;TZID=Europe/Berlin:20240927T200000
DTEND;TZID=Europe/Berlin:20240927T230000
SUMMARY:L2P1 Moutier vs La Chaux-de-Fonds II (0)
UID:6adb3983-25df-4066-9d1f-c8bb4be6736e
STATUS:CONFIRMED
LAST-MODIFIED:20241003T090050Z
DESCRIPTION:2ème ligue phase 1\nBegegnungs-Nr: 0\nHeim: Moutier\nGast: La Chaux-de-Fonds II\n\nAdresse: Place Beseran\, 2740 Moutier\n
LOCATION:Place Beseran\, 2740 Moutier
CATEGORIES:Saison 2024/25
END:VEVENT
BEGIN:VEVENT
DTSTAMP:20260419T230041Z
DTSTART;TZID=Europe/Berlin:20241213T200000
DTEND;TZID=Europe/Berlin:20241213T230000
SUMMARY:L2P1 Entente Pongiste Neuchâteloise III vs La Chaux-de-Fonds II (0)
UID:92a3be4a-536c-4c60-a099-53f040399af7
STATUS:CONFIRMED
LAST-MODIFIED:20241216T172456Z
DESCRIPTION:2ème ligue phase 1\nBegegnungs-Nr: 0\nHeim: Entente Pongiste Neuchâteloise III\nGast: La Chaux-de-Fonds II\n\nAdresse: Allée du 700e\, 2525 Le Landeron\n
LOCATION:Allée du 700e\, 2525 Le Landeron
CATEGORIES:Saison 2024/25
END:VEVENT
BEGIN:VEVENT
DTSTAMP:20260419T230041Z
DTSTART;TZID=Europe/Berlin:20241129T200000
DTEND;TZID=Europe/Berlin:20241129T230000
SUMMARY:L2P1 Cortaillod III vs La Chaux-de-Fonds II (0)
UID:8432ad3f-9479-4e49-83ba-12ad3acabc02
STATUS:CONFIRMED
LAST-MODIFIED:20241204T081639Z
DESCRIPTION:2ème ligue phase 1\nBegegnungs-Nr: 0\nHeim: Cortaillod III\nGast: La Chaux-de-Fonds II\n\nAdresse: Coteaux 1\, 2016 Cortaillod\n
LOCATION:Coteaux 1\, 2016 Cortaillod
CATEGORIES:Saison 2024/25
END:VEVENT
BEGIN:VEVENT
DTSTAMP:20260419T230041Z
DTSTART;TZID=Europe/Berlin:20241030T200000
DTEND;TZID=Europe/Berlin:20241030T230000
SUMMARY:L2P1 Omega vs La Chaux-de-Fonds II (0)
UID:9473be78-d93e-44cf-9c14-a8176115c7de
STATUS:CONFIRMED
LAST-MODIFIED:20241104T141221Z
DESCRIPTION:2ème ligue phase 1\nBegegnungs-Nr: 0\nHeim: Omega\nGast: La Chaux-de-Fonds II\n\nAdresse: Tennisweg 1\, 2504 Biel-Bienne\n
LOCATION:Tennisweg 1\, 2504 Biel-Bienne
CATEGORIES:Saison 2024/25
END:VEVENT
BEGIN:VEVENT
DTSTAMP:20260419T230041Z
DTSTART;TZID=Europe/Berlin:20250124T193000
DTEND;TZID=Europe/Berlin:20250124T223000
SUMMARY:L1P2 Val-de-Ruz II vs La Chaux-de-Fonds II (0)
UID:79889673-b2e0-4121-98d1-7cfbf21314fa
STATUS:CONFIRMED
LAST-MODIFIED:20250128T151049Z
DESCRIPTION:1 ère ligue phase 2\nBegegnungs-Nr: 0\nHeim: Val-de-Ruz II\nGast: La Chaux-de-Fonds II\n\nAdresse: Rue de Chasseral 3\, 2053 Cernier\n
LOCATION:Rue de Chasseral 3\, 2053 Cernier
CATEGORIES:Saison 2024/25
END:VEVENT
BEGIN:VEVENT
DTSTAMP:20260419T230041Z
DTSTART;TZID=Europe/Berlin:20250221T200000
DTEND;TZID=Europe/Berlin:20250221T230000
SUMMARY:L1P2 Val-de-Ruz vs La Chaux-de-Fonds II (0)
UID:d446d7af-87a6-47a2-a44d-8054dc75f02c
STATUS:CONFIRMED
LAST-MODIFIED:20250224T144336Z
DESCRIPTION:1 ère ligue phase 2\nBegegnungs-Nr: 0\nHeim: Val-de-Ruz\nGast: La Chaux-de-Fonds II\n\nAdresse: Rue du Collège 31\, 2207 Coffrane\n
LOCATION:Rue du Collège 31\, 2207 Coffrane
CATEGORIES:Saison 2024/25
END:VEVENT
BEGIN:VEVENT
DTSTAMP:20260419T230041Z
DTSTART;TZID=Europe/Berlin:20250404T200000
DTEND;TZID=Europe/Berlin:20250404T230000
SUMMARY:L1P2 Entente Pongiste Neuchâteloise vs La Chaux-de-Fonds II (0)
UID:7d3243eb-de13-4796-a640-38c66442eaf3
STATUS:CONFIRMED
LAST-MODIFIED:20250408T125922Z
DESCRIPTION:1 ère ligue phase 2\nBegegnungs-Nr: 0\nHeim: Entente Pongiste Neuchâteloise\nGast: La Chaux-de-Fonds II\n\nAdresse: Allée du 700e\, 2525 Le Landeron\n
LOCATION:Allée du 700e\, 2525 Le Landeron
CATEGORIES:Saison 2024/25
END:VEVENT
END:VCALENDAR
