BEGIN:VCALENDAR
PRODID:-//nuDatenautomaten//framework iCal4j //DE
VERSION:2.0
CALSCALE:GREGORIAN
BEGIN:VTIMEZONE
TZID:Europe/Berlin
LAST-MODIFIED:20260306T231828Z
TZURL:https://www.tzurl.org/zoneinfo/Europe/Berlin
X-LIC-LOCATION:Europe/Berlin
X-PROLEPTIC-TZNAME:LMT
BEGIN:STANDARD
TZNAME:CET
TZOFFSETFROM:+005328
TZOFFSETTO:+0100
DTSTART:18930401T000000
END:STANDARD
BEGIN:DAYLIGHT
TZNAME:CEST
TZOFFSETFROM:+0100
TZOFFSETTO:+0200
DTSTART:19160430T230000
RDATE:19400401T020000
RDATE:19430329T020000
RDATE:19460414T020000
RDATE:19470406T030000
RDATE:19480418T020000
RDATE:19490410T020000
RDATE:19800406T020000
END:DAYLIGHT
BEGIN:STANDARD
TZNAME:CET
TZOFFSETFROM:+0200
TZOFFSETTO:+0100
DTSTART:19161001T010000
RDATE:19421102T030000
RDATE:19431004T030000
RDATE:19441002T030000
RDATE:19451118T030000
RDATE:19461007T030000
END:STANDARD
BEGIN:DAYLIGHT
TZNAME:CEST
TZOFFSETFROM:+0100
TZOFFSETTO:+0200
DTSTART:19170416T020000
RRULE:FREQ=YEARLY;UNTIL=19180415T010000Z;BYMONTH=4;BYDAY=3MO
END:DAYLIGHT
BEGIN:STANDARD
TZNAME:CET
TZOFFSETFROM:+0200
TZOFFSETTO:+0100
DTSTART:19170917T030000
RRULE:FREQ=YEARLY;UNTIL=19180916T010000Z;BYMONTH=9;BYDAY=3MO
END:STANDARD
BEGIN:DAYLIGHT
TZNAME:CEST
TZOFFSETFROM:+0100
TZOFFSETTO:+0200
DTSTART:19440403T020000
RRULE:FREQ=YEARLY;UNTIL=19450402T010000Z;BYMONTH=4;BYDAY=1MO
END:DAYLIGHT
BEGIN:DAYLIGHT
TZNAME:CEMT
TZOFFSETFROM:+0200
TZOFFSETTO:+0300
DTSTART:19450524T020000
RDATE:19470511T030000
END:DAYLIGHT
BEGIN:DAYLIGHT
TZNAME:CEST
TZOFFSETFROM:+0300
TZOFFSETTO:+0200
DTSTART:19450924T030000
RDATE:19470629T030000
END:DAYLIGHT
BEGIN:STANDARD
TZNAME:CET
TZOFFSETFROM:+0100
TZOFFSETTO:+0100
DTSTART:19460101T000000
RDATE:19800101T000000
END:STANDARD
BEGIN:STANDARD
TZNAME:CET
TZOFFSETFROM:+0200
TZOFFSETTO:+0100
DTSTART:19471005T030000
RRULE:FREQ=YEARLY;UNTIL=19491002T010000Z;BYMONTH=10;BYDAY=1SU
END:STANDARD
BEGIN:STANDARD
TZNAME:CET
TZOFFSETFROM:+0200
TZOFFSETTO:+0100
DTSTART:19800928T030000
RRULE:FREQ=YEARLY;UNTIL=19950924T010000Z;BYMONTH=9;BYDAY=-1SU
END:STANDARD
BEGIN:DAYLIGHT
TZNAME:CEST
TZOFFSETFROM:+0100
TZOFFSETTO:+0200
DTSTART:19810329T020000
RRULE:FREQ=YEARLY;BYMONTH=3;BYDAY=-1SU
END:DAYLIGHT
BEGIN:STANDARD
TZNAME:CET
TZOFFSETFROM:+0200
TZOFFSETTO:+0100
DTSTART:19961027T030000
RRULE:FREQ=YEARLY;BYMONTH=10;BYDAY=-1SU
END:STANDARD
END:VTIMEZONE
BEGIN:VEVENT
DTSTAMP:20260425T022334Z
DTSTART;TZID=Europe/Berlin:20240828T201500
DTEND;TZID=Europe/Berlin:20240828T231500
SUMMARY:HE 3. Liga Gr. 5 Zürich-Affoltern IV vs Wädenswil IV (0)
UID:5400aefc-27ea-44f2-9961-4ee562923c02
STATUS:CONFIRMED
LAST-MODIFIED:20240904T095635Z
DESCRIPTION:3. Liga Herren Gruppe 5\nBegegnungs-Nr: 0\nHeim: Zürich-Affoltern IV\nGast: Wädenswil IV\n\nAdresse: Rümlangstr. 89\, 8052 Zürich\n
LOCATION:Rümlangstr. 89\, 8052 Zürich
CATEGORIES:Saison 2024/25
END:VEVENT
BEGIN:VEVENT
DTSTAMP:20260425T022334Z
DTSTART;TZID=Europe/Berlin:20241204T201500
DTEND;TZID=Europe/Berlin:20241204T231500
SUMMARY:HE 3. Liga Gr. 5 Zürich-Affoltern IV vs Horgen III (0)
UID:d4fdb639-c2bd-4bce-bea9-c9551ab52411
STATUS:CONFIRMED
LAST-MODIFIED:20241205T085706Z
DESCRIPTION:3. Liga Herren Gruppe 5\nBegegnungs-Nr: 0\nHeim: Zürich-Affoltern IV\nGast: Horgen III\n\nAdresse: Rümlangstr. 89\, 8052 Zürich\n
LOCATION:Rümlangstr. 89\, 8052 Zürich
CATEGORIES:Saison 2024/25
END:VEVENT
BEGIN:VEVENT
DTSTAMP:20260425T022334Z
DTSTART;TZID=Europe/Berlin:20241106T201500
DTEND;TZID=Europe/Berlin:20241106T231500
SUMMARY:HE 3. Liga Gr. 5 Zürich-Affoltern IV vs Thalwil (0)
UID:4d633c91-59ad-4638-962e-c44b94e4ee19
STATUS:CONFIRMED
LAST-MODIFIED:20241108T134359Z
DESCRIPTION:3. Liga Herren Gruppe 5\nBegegnungs-Nr: 0\nHeim: Zürich-Affoltern IV\nGast: Thalwil\n\nAdresse: Rümlangstr. 89\, 8052 Zürich\n
LOCATION:Rümlangstr. 89\, 8052 Zürich
CATEGORIES:Saison 2024/25
END:VEVENT
BEGIN:VEVENT
DTSTAMP:20260425T022334Z
DTSTART;TZID=Europe/Berlin:20240918T203000
DTEND;TZID=Europe/Berlin:20240918T233000
SUMMARY:HE 3. Liga Gr. 5 Zürich-Affoltern IV vs Niederhasli II (0)
UID:6ebc0286-4fa8-48d4-bb1e-ee1a20f31f6c
STATUS:CONFIRMED
LAST-MODIFIED:20240920T135604Z
DESCRIPTION:3. Liga Herren Gruppe 5\nBegegnungs-Nr: 0\nHeim: Zürich-Affoltern IV\nGast: Niederhasli II\n\nAdresse: Rümlangstr. 89\, 8052 Zürich\n
LOCATION:Rümlangstr. 89\, 8052 Zürich
CATEGORIES:Saison 2024/25
END:VEVENT
BEGIN:VEVENT
DTSTAMP:20260425T022334Z
DTSTART;TZID=Europe/Berlin:20250305T201500
DTEND;TZID=Europe/Berlin:20250305T231500
SUMMARY:HE 3. Liga Gr. 5 Zürich-Affoltern IV vs Affoltern A/A III (0)
UID:e08e548c-243a-4a89-b17a-5407c320561f
STATUS:CONFIRMED
LAST-MODIFIED:20250306T142216Z
DESCRIPTION:3. Liga Herren Gruppe 5\nBegegnungs-Nr: 0\nHeim: Zürich-Affoltern IV\nGast: Affoltern A/A III\n
LOCATION:
CATEGORIES:Saison 2024/25
END:VEVENT
BEGIN:VEVENT
DTSTAMP:20260425T022334Z
DTSTART;TZID=Europe/Berlin:20250122T201500
DTEND;TZID=Europe/Berlin:20250122T231500
SUMMARY:HE 3. Liga Gr. 5 Zürich-Affoltern IV vs Pinguin Zürich II (0)
UID:09b24450-cafc-465d-9bb5-3650a2a42343
STATUS:CONFIRMED
LAST-MODIFIED:20250128T105458Z
DESCRIPTION:3. Liga Herren Gruppe 5\nBegegnungs-Nr: 0\nHeim: Zürich-Affoltern IV\nGast: Pinguin Zürich II\n\nAdresse: Rümlangstr. 89\, 8052 Zürich\n
LOCATION:Rümlangstr. 89\, 8052 Zürich
CATEGORIES:Saison 2024/25
END:VEVENT
BEGIN:VEVENT
DTSTAMP:20260425T022334Z
DTSTART;TZID=Europe/Berlin:20250212T201500
DTEND;TZID=Europe/Berlin:20250212T231500
SUMMARY:HE 3. Liga Gr. 5 Zürich-Affoltern IV vs Young Stars ZH V (0)
UID:7bf72226-cfe2-4334-873f-17df74a5792c
STATUS:CONFIRMED
LAST-MODIFIED:20250213T085754Z
DESCRIPTION:3. Liga Herren Gruppe 5\nBegegnungs-Nr: 0\nHeim: Zürich-Affoltern IV\nGast: Young Stars ZH V\n
LOCATION:
CATEGORIES:Saison 2024/25
END:VEVENT
BEGIN:VEVENT
DTSTAMP:20260425T022334Z
DTSTART;TZID=Europe/Berlin:20240916T193000
DTEND;TZID=Europe/Berlin:20240916T223000
SUMMARY:HE 3. Liga Gr. 5 Pinguin Zürich II vs Zürich-Affoltern IV (0)
UID:fe0a8e73-18f5-42f3-92c6-1eacb1c03eb8
STATUS:CONFIRMED
LAST-MODIFIED:20240920T135519Z
DESCRIPTION:3. Liga Herren Gruppe 5\nBegegnungs-Nr: 0\nHeim: Pinguin Zürich II\nGast: Zürich-Affoltern IV\n\nAdresse: Basteiplatz\, 8001 Zürich\n
LOCATION:Basteiplatz\, 8001 Zürich
CATEGORIES:Saison 2024/25
END:VEVENT
BEGIN:VEVENT
DTSTAMP:20260425T022334Z
DTSTART;TZID=Europe/Berlin:20241031T193000
DTEND;TZID=Europe/Berlin:20241031T223000
SUMMARY:HE 3. Liga Gr. 5 Affoltern A/A III vs Zürich-Affoltern IV (0)
UID:4754a030-2354-4ae8-9b20-07317fd356ca
STATUS:CONFIRMED
LAST-MODIFIED:20241108T134305Z
DESCRIPTION:3. Liga Herren Gruppe 5\nBegegnungs-Nr: 0\nHeim: Affoltern A/A III\nGast: Zürich-Affoltern IV\n\nAdresse: Butzenstrasse 8\, 8910 Affoltern am Albis\n
LOCATION:Butzenstrasse 8\, 8910 Affoltern am Albis
CATEGORIES:Saison 2024/25
END:VEVENT
BEGIN:VEVENT
DTSTAMP:20260425T022334Z
DTSTART;TZID=Europe/Berlin:20240927T200000
DTEND;TZID=Europe/Berlin:20240927T230000
SUMMARY:HE 3. Liga Gr. 5 Young Stars ZH V vs Zürich-Affoltern IV (0)
UID:06e77b8e-5144-493e-9d11-29f29d3b4346
STATUS:CONFIRMED
LAST-MODIFIED:20240930T124458Z
DESCRIPTION:3. Liga Herren Gruppe 5\nBegegnungs-Nr: 0\nHeim: Young Stars ZH V\nGast: Zürich-Affoltern IV\n\nAdresse: Balgriststrasse 55\, 8008 Zürich\n
LOCATION:Balgriststrasse 55\, 8008 Zürich
CATEGORIES:Saison 2024/25
END:VEVENT
BEGIN:VEVENT
DTSTAMP:20260425T022334Z
DTSTART;TZID=Europe/Berlin:20250129T193000
DTEND;TZID=Europe/Berlin:20250129T223000
SUMMARY:HE 3. Liga Gr. 5 Niederhasli II vs Zürich-Affoltern IV (0)
UID:90681051-8a3a-4c34-a1e8-502c16316f7c
STATUS:CONFIRMED
LAST-MODIFIED:20250131T143539Z
DESCRIPTION:3. Liga Herren Gruppe 5\nBegegnungs-Nr: 0\nHeim: Niederhasli II\nGast: Zürich-Affoltern IV\n\nAdresse: Dorfstrasse 22\, 8155 Niederhasli\n
LOCATION:Dorfstrasse 22\, 8155 Niederhasli
CATEGORIES:Saison 2024/25
END:VEVENT
BEGIN:VEVENT
DTSTAMP:20260425T022334Z
DTSTART;TZID=Europe/Berlin:20250326T200000
DTEND;TZID=Europe/Berlin:20250326T230000
SUMMARY:HE 3. Liga Gr. 5 Horgen III vs Zürich-Affoltern IV (0)
UID:d90756c5-6866-441c-9bf9-247ef1117ba5
STATUS:CONFIRMED
LAST-MODIFIED:20250327T133450Z
DESCRIPTION:3. Liga Herren Gruppe 5\nBegegnungs-Nr: 0\nHeim: Horgen III\nGast: Zürich-Affoltern IV\n\nAdresse: Seestrasse 110\, 8810 Horgen\n
LOCATION:Seestrasse 110\, 8810 Horgen
CATEGORIES:Saison 2024/25
END:VEVENT
BEGIN:VEVENT
DTSTAMP:20260425T022334Z
DTSTART;TZID=Europe/Berlin:20250312T201500
DTEND;TZID=Europe/Berlin:20250312T231500
SUMMARY:HE 3. Liga Gr. 5 Thalwil vs Zürich-Affoltern IV (0)
UID:6fb6e94b-d267-4608-90d0-ea5c58243ecf
STATUS:CONFIRMED
LAST-MODIFIED:20250313T102726Z
DESCRIPTION:3. Liga Herren Gruppe 5\nBegegnungs-Nr: 0\nHeim: Thalwil\nGast: Zürich-Affoltern IV\n\nAdresse: Bergstrasse 2\, 8800 Thalwil\n
LOCATION:Bergstrasse 2\, 8800 Thalwil
CATEGORIES:Saison 2024/25
END:VEVENT
BEGIN:VEVENT
DTSTAMP:20260425T022334Z
DTSTART;TZID=Europe/Berlin:20250109T200000
DTEND;TZID=Europe/Berlin:20250109T230000
SUMMARY:HE 3. Liga Gr. 5 Wädenswil IV vs Zürich-Affoltern IV (0)
UID:41f04e23-fa35-46fa-9927-31724afd653b
STATUS:CONFIRMED
LAST-MODIFIED:20250113T114917Z
DESCRIPTION:3. Liga Herren Gruppe 5\nBegegnungs-Nr: 0\nHeim: Wädenswil IV\nGast: Zürich-Affoltern IV\n\nAdresse: Speerstrasse 95\, 8820 Wädenswil\n
LOCATION:Speerstrasse 95\, 8820 Wädenswil
CATEGORIES:Saison 2024/25
END:VEVENT
END:VCALENDAR
