BEGIN:VCALENDAR
PRODID:-//nuDatenautomaten//framework iCal4j //DE
VERSION:2.0
CALSCALE:GREGORIAN
BEGIN:VTIMEZONE
TZID:Europe/Berlin
LAST-MODIFIED:20260306T231828Z
TZURL:https://www.tzurl.org/zoneinfo/Europe/Berlin
X-LIC-LOCATION:Europe/Berlin
X-PROLEPTIC-TZNAME:LMT
BEGIN:STANDARD
TZNAME:CET
TZOFFSETFROM:+005328
TZOFFSETTO:+0100
DTSTART:18930401T000000
END:STANDARD
BEGIN:DAYLIGHT
TZNAME:CEST
TZOFFSETFROM:+0100
TZOFFSETTO:+0200
DTSTART:19160430T230000
RDATE:19400401T020000
RDATE:19430329T020000
RDATE:19460414T020000
RDATE:19470406T030000
RDATE:19480418T020000
RDATE:19490410T020000
RDATE:19800406T020000
END:DAYLIGHT
BEGIN:STANDARD
TZNAME:CET
TZOFFSETFROM:+0200
TZOFFSETTO:+0100
DTSTART:19161001T010000
RDATE:19421102T030000
RDATE:19431004T030000
RDATE:19441002T030000
RDATE:19451118T030000
RDATE:19461007T030000
END:STANDARD
BEGIN:DAYLIGHT
TZNAME:CEST
TZOFFSETFROM:+0100
TZOFFSETTO:+0200
DTSTART:19170416T020000
RRULE:FREQ=YEARLY;UNTIL=19180415T010000Z;BYMONTH=4;BYDAY=3MO
END:DAYLIGHT
BEGIN:STANDARD
TZNAME:CET
TZOFFSETFROM:+0200
TZOFFSETTO:+0100
DTSTART:19170917T030000
RRULE:FREQ=YEARLY;UNTIL=19180916T010000Z;BYMONTH=9;BYDAY=3MO
END:STANDARD
BEGIN:DAYLIGHT
TZNAME:CEST
TZOFFSETFROM:+0100
TZOFFSETTO:+0200
DTSTART:19440403T020000
RRULE:FREQ=YEARLY;UNTIL=19450402T010000Z;BYMONTH=4;BYDAY=1MO
END:DAYLIGHT
BEGIN:DAYLIGHT
TZNAME:CEMT
TZOFFSETFROM:+0200
TZOFFSETTO:+0300
DTSTART:19450524T020000
RDATE:19470511T030000
END:DAYLIGHT
BEGIN:DAYLIGHT
TZNAME:CEST
TZOFFSETFROM:+0300
TZOFFSETTO:+0200
DTSTART:19450924T030000
RDATE:19470629T030000
END:DAYLIGHT
BEGIN:STANDARD
TZNAME:CET
TZOFFSETFROM:+0100
TZOFFSETTO:+0100
DTSTART:19460101T000000
RDATE:19800101T000000
END:STANDARD
BEGIN:STANDARD
TZNAME:CET
TZOFFSETFROM:+0200
TZOFFSETTO:+0100
DTSTART:19471005T030000
RRULE:FREQ=YEARLY;UNTIL=19491002T010000Z;BYMONTH=10;BYDAY=1SU
END:STANDARD
BEGIN:STANDARD
TZNAME:CET
TZOFFSETFROM:+0200
TZOFFSETTO:+0100
DTSTART:19800928T030000
RRULE:FREQ=YEARLY;UNTIL=19950924T010000Z;BYMONTH=9;BYDAY=-1SU
END:STANDARD
BEGIN:DAYLIGHT
TZNAME:CEST
TZOFFSETFROM:+0100
TZOFFSETTO:+0200
DTSTART:19810329T020000
RRULE:FREQ=YEARLY;BYMONTH=3;BYDAY=-1SU
END:DAYLIGHT
BEGIN:STANDARD
TZNAME:CET
TZOFFSETFROM:+0200
TZOFFSETTO:+0100
DTSTART:19961027T030000
RRULE:FREQ=YEARLY;BYMONTH=10;BYDAY=-1SU
END:STANDARD
END:VTIMEZONE
BEGIN:VEVENT
DTSTAMP:20260425T032031Z
DTSTART;TZID=Europe/Berlin:20250203T201500
DTEND;TZID=Europe/Berlin:20250203T231500
SUMMARY:HE 3. Liga Gr. 2 Romanshorn II vs Toggenburg (0)
UID:27ba52a1-1eb9-4883-921c-baaeb837dc5f
STATUS:CONFIRMED
LAST-MODIFIED:20250204T123531Z
DESCRIPTION:3. Liga Herren Gruppe 2\nBegegnungs-Nr: 0\nHeim: Romanshorn II\nGast: Toggenburg\n\nAdresse: Florastrasse\, 8590 Romanshorn\n
LOCATION:Florastrasse\, 8590 Romanshorn
CATEGORIES:Saison 2024/25
END:VEVENT
BEGIN:VEVENT
DTSTAMP:20260425T032031Z
DTSTART;TZID=Europe/Berlin:20250120T201500
DTEND;TZID=Europe/Berlin:20250120T231500
SUMMARY:HE 3. Liga Gr. 2 Romanshorn II vs Herisau (0)
UID:d4f06c74-6e90-4b18-aee0-4689fc8dd98c
STATUS:CONFIRMED
LAST-MODIFIED:20250123T071233Z
DESCRIPTION:3. Liga Herren Gruppe 2\nBegegnungs-Nr: 0\nHeim: Romanshorn II\nGast: Herisau\n\nAdresse: Florastrasse\, 8590 Romanshorn\n
LOCATION:Florastrasse\, 8590 Romanshorn
CATEGORIES:Saison 2024/25
END:VEVENT
BEGIN:VEVENT
DTSTAMP:20260425T032031Z
DTSTART;TZID=Europe/Berlin:20241202T201500
DTEND;TZID=Europe/Berlin:20241202T231500
SUMMARY:HE 3. Liga Gr. 2 Romanshorn II vs Wil SG III (0)
UID:ae959651-97be-4677-8752-84b5aa0e1871
STATUS:CONFIRMED
LAST-MODIFIED:20241205T085539Z
DESCRIPTION:3. Liga Herren Gruppe 2\nBegegnungs-Nr: 0\nHeim: Romanshorn II\nGast: Wil SG III\n\nAdresse: Florastrasse\, 8590 Romanshorn\n
LOCATION:Florastrasse\, 8590 Romanshorn
CATEGORIES:Saison 2024/25
END:VEVENT
BEGIN:VEVENT
DTSTAMP:20260425T032031Z
DTSTART;TZID=Europe/Berlin:20241104T201500
DTEND;TZID=Europe/Berlin:20241104T231500
SUMMARY:HE 3. Liga Gr. 2 Romanshorn II vs St. Gallen IV (0)
UID:415a20c4-4891-4a7c-bdf0-234071dbcf35
STATUS:CONFIRMED
LAST-MODIFIED:20241107T153908Z
DESCRIPTION:3. Liga Herren Gruppe 2\nBegegnungs-Nr: 0\nHeim: Romanshorn II\nGast: St. Gallen IV\n\nAdresse: Florastrasse\, 8590 Romanshorn\n
LOCATION:Florastrasse\, 8590 Romanshorn
CATEGORIES:Saison 2024/25
END:VEVENT
BEGIN:VEVENT
DTSTAMP:20260425T032031Z
DTSTART;TZID=Europe/Berlin:20240923T201500
DTEND;TZID=Europe/Berlin:20240923T231500
SUMMARY:HE 3. Liga Gr. 2 Romanshorn II vs Steckborn-Homburg II (0)
UID:deeac103-cc13-4ff5-9910-af6e6f5c47d0
STATUS:CONFIRMED
LAST-MODIFIED:20240926T113520Z
DESCRIPTION:3. Liga Herren Gruppe 2\nBegegnungs-Nr: 0\nHeim: Romanshorn II\nGast: Steckborn-Homburg II\n\nAdresse: Florastrasse\, 8590 Romanshorn\n
LOCATION:Florastrasse\, 8590 Romanshorn
CATEGORIES:Saison 2024/25
END:VEVENT
BEGIN:VEVENT
DTSTAMP:20260425T032031Z
DTSTART;TZID=Europe/Berlin:20240826T201500
DTEND;TZID=Europe/Berlin:20240826T231500
SUMMARY:HE 3. Liga Gr. 2 Romanshorn II vs Toggenburg (0)
UID:3d2e39ad-fb14-4b05-83ce-27226a1664a2
STATUS:CONFIRMED
LAST-MODIFIED:20240828T081251Z
DESCRIPTION:3. Liga Herren Gruppe 2\nBegegnungs-Nr: 0\nHeim: Romanshorn II\nGast: Toggenburg\n\nAdresse: Florastrasse\, 8590 Romanshorn\n
LOCATION:Florastrasse\, 8590 Romanshorn
CATEGORIES:Saison 2024/25
END:VEVENT
BEGIN:VEVENT
DTSTAMP:20260425T032031Z
DTSTART;TZID=Europe/Berlin:20240902T201500
DTEND;TZID=Europe/Berlin:20240902T231500
SUMMARY:HE 3. Liga Gr. 2 Romanshorn II vs Wallenwil II (0)
UID:66374c12-40f5-4ea4-a901-8b4cb62c66c9
STATUS:CONFIRMED
LAST-MODIFIED:20240904T094008Z
DESCRIPTION:3. Liga Herren Gruppe 2\nBegegnungs-Nr: 0\nHeim: Romanshorn II\nGast: Wallenwil II\n\nAdresse: Florastrasse\, 8590 Romanshorn\n
LOCATION:Florastrasse\, 8590 Romanshorn
CATEGORIES:Saison 2024/25
END:VEVENT
BEGIN:VEVENT
DTSTAMP:20260425T032031Z
DTSTART;TZID=Europe/Berlin:20250303T201500
DTEND;TZID=Europe/Berlin:20250303T231500
SUMMARY:HE 3. Liga Gr. 2 Romanshorn II vs Gaiserwald II (0)
UID:51e47e60-1557-4019-96b3-d456e02c77a9
STATUS:CONFIRMED
LAST-MODIFIED:20250306T142109Z
DESCRIPTION:3. Liga Herren Gruppe 2\nBegegnungs-Nr: 0\nHeim: Romanshorn II\nGast: Gaiserwald II\n\nAdresse: Florastrasse\, 8590 Romanshorn\n
LOCATION:Florastrasse\, 8590 Romanshorn
CATEGORIES:Saison 2024/25
END:VEVENT
BEGIN:VEVENT
DTSTAMP:20260425T032031Z
DTSTART;TZID=Europe/Berlin:20250123T201500
DTEND;TZID=Europe/Berlin:20250123T231500
SUMMARY:HE 3. Liga Gr. 2 Wallenwil II vs Romanshorn II (0)
UID:ce0ef587-f836-4408-b7b6-abc24b3fb1b9
STATUS:CONFIRMED
LAST-MODIFIED:20250128T104951Z
DESCRIPTION:3. Liga Herren Gruppe 2\nBegegnungs-Nr: 0\nHeim: Wallenwil II\nGast: Romanshorn II\n\nAdresse: Stationsstrasse 29\, 8360 Wallenwil\n
LOCATION:Stationsstrasse 29\, 8360 Wallenwil
CATEGORIES:Saison 2024/25
END:VEVENT
BEGIN:VEVENT
DTSTAMP:20260425T032031Z
DTSTART;TZID=Europe/Berlin:20241031T200000
DTEND;TZID=Europe/Berlin:20241031T230000
SUMMARY:HE 3. Liga Gr. 2 Gaiserwald II vs Romanshorn II (0)
UID:52a097a1-79b1-485b-ac50-3f0e7d2db85b
STATUS:CONFIRMED
LAST-MODIFIED:20241107T153821Z
DESCRIPTION:3. Liga Herren Gruppe 2\nBegegnungs-Nr: 0\nHeim: Gaiserwald II\nGast: Romanshorn II\n\nAdresse: Sonnenbergstrasse 15\, 9030 Abtwil\n
LOCATION:Sonnenbergstrasse 15\, 9030 Abtwil
CATEGORIES:Saison 2024/25
END:VEVENT
BEGIN:VEVENT
DTSTAMP:20260425T032031Z
DTSTART;TZID=Europe/Berlin:20240906T200000
DTEND;TZID=Europe/Berlin:20240906T230000
SUMMARY:HE 3. Liga Gr. 2 Herisau vs Romanshorn II (0)
UID:2644948c-9956-473d-9f33-e3ac53b4ff9f
STATUS:CONFIRMED
LAST-MODIFIED:20240912T074406Z
DESCRIPTION:3. Liga Herren Gruppe 2\nBegegnungs-Nr: 0\nHeim: Herisau\nGast: Romanshorn II\n\nAdresse: Schwellbrunnerstrasse 29\, 9100 Herisau\n
LOCATION:Schwellbrunnerstrasse 29\, 9100 Herisau
CATEGORIES:Saison 2024/25
END:VEVENT
BEGIN:VEVENT
DTSTAMP:20260425T032031Z
DTSTART;TZID=Europe/Berlin:20250318T201500
DTEND;TZID=Europe/Berlin:20250318T231500
SUMMARY:HE 3. Liga Gr. 2 Wil SG III vs Romanshorn II (0)
UID:4ba71f95-99f3-437d-b399-c0d387a532c6
STATUS:CONFIRMED
LAST-MODIFIED:20250319T094142Z
DESCRIPTION:3. Liga Herren Gruppe 2\nBegegnungs-Nr: 0\nHeim: Wil SG III\nGast: Romanshorn II\n\nAdresse: Lindenhofstr. 23\, 9500 Wil\n
LOCATION:Lindenhofstr. 23\, 9500 Wil
CATEGORIES:Saison 2024/25
END:VEVENT
BEGIN:VEVENT
DTSTAMP:20260425T032031Z
DTSTART;TZID=Europe/Berlin:20250315T150000
DTEND;TZID=Europe/Berlin:20250315T180000
SUMMARY:HE 3. Liga Gr. 2 St. Gallen IV vs Romanshorn II (0)
UID:076e8431-c01b-4785-99c2-9394a3d51fb2
STATUS:CONFIRMED
LAST-MODIFIED:20250319T094131Z
DESCRIPTION:3. Liga Herren Gruppe 2\nBegegnungs-Nr: 0\nHeim: St. Gallen IV\nGast: Romanshorn II\n\nAdresse: Zilstrasse 61\, 9016 St.Gallen\n
LOCATION:Zilstrasse 61\, 9016 St.Gallen
CATEGORIES:Saison 2024/25
END:VEVENT
BEGIN:VEVENT
DTSTAMP:20260425T032031Z
DTSTART;TZID=Europe/Berlin:20250214T194500
DTEND;TZID=Europe/Berlin:20250214T224500
SUMMARY:HE 3. Liga Gr. 2 Steckborn-Homburg II vs Romanshorn II (0)
UID:746d7911-9a3b-4f22-bb5c-28efdf967331
STATUS:CONFIRMED
LAST-MODIFIED:20250219T112730Z
DESCRIPTION:3. Liga Herren Gruppe 2\nBegegnungs-Nr: 0\nHeim: Steckborn-Homburg II\nGast: Romanshorn II\n\nAdresse: Schulstrasse 4\, 8508 Unterhörstetten\n
LOCATION:Schulstrasse 4\, 8508 Unterhörstetten
CATEGORIES:Saison 2024/25
END:VEVENT
END:VCALENDAR
