BEGIN:VCALENDAR
PRODID:-//nuDatenautomaten//framework iCal4j //DE
VERSION:2.0
CALSCALE:GREGORIAN
BEGIN:VTIMEZONE
TZID:Europe/Berlin
LAST-MODIFIED:20260306T231828Z
TZURL:https://www.tzurl.org/zoneinfo/Europe/Berlin
X-LIC-LOCATION:Europe/Berlin
X-PROLEPTIC-TZNAME:LMT
BEGIN:STANDARD
TZNAME:CET
TZOFFSETFROM:+005328
TZOFFSETTO:+0100
DTSTART:18930401T000000
END:STANDARD
BEGIN:DAYLIGHT
TZNAME:CEST
TZOFFSETFROM:+0100
TZOFFSETTO:+0200
DTSTART:19160430T230000
RDATE:19400401T020000
RDATE:19430329T020000
RDATE:19460414T020000
RDATE:19470406T030000
RDATE:19480418T020000
RDATE:19490410T020000
RDATE:19800406T020000
END:DAYLIGHT
BEGIN:STANDARD
TZNAME:CET
TZOFFSETFROM:+0200
TZOFFSETTO:+0100
DTSTART:19161001T010000
RDATE:19421102T030000
RDATE:19431004T030000
RDATE:19441002T030000
RDATE:19451118T030000
RDATE:19461007T030000
END:STANDARD
BEGIN:DAYLIGHT
TZNAME:CEST
TZOFFSETFROM:+0100
TZOFFSETTO:+0200
DTSTART:19170416T020000
RRULE:FREQ=YEARLY;UNTIL=19180415T010000Z;BYMONTH=4;BYDAY=3MO
END:DAYLIGHT
BEGIN:STANDARD
TZNAME:CET
TZOFFSETFROM:+0200
TZOFFSETTO:+0100
DTSTART:19170917T030000
RRULE:FREQ=YEARLY;UNTIL=19180916T010000Z;BYMONTH=9;BYDAY=3MO
END:STANDARD
BEGIN:DAYLIGHT
TZNAME:CEST
TZOFFSETFROM:+0100
TZOFFSETTO:+0200
DTSTART:19440403T020000
RRULE:FREQ=YEARLY;UNTIL=19450402T010000Z;BYMONTH=4;BYDAY=1MO
END:DAYLIGHT
BEGIN:DAYLIGHT
TZNAME:CEMT
TZOFFSETFROM:+0200
TZOFFSETTO:+0300
DTSTART:19450524T020000
RDATE:19470511T030000
END:DAYLIGHT
BEGIN:DAYLIGHT
TZNAME:CEST
TZOFFSETFROM:+0300
TZOFFSETTO:+0200
DTSTART:19450924T030000
RDATE:19470629T030000
END:DAYLIGHT
BEGIN:STANDARD
TZNAME:CET
TZOFFSETFROM:+0100
TZOFFSETTO:+0100
DTSTART:19460101T000000
RDATE:19800101T000000
END:STANDARD
BEGIN:STANDARD
TZNAME:CET
TZOFFSETFROM:+0200
TZOFFSETTO:+0100
DTSTART:19471005T030000
RRULE:FREQ=YEARLY;UNTIL=19491002T010000Z;BYMONTH=10;BYDAY=1SU
END:STANDARD
BEGIN:STANDARD
TZNAME:CET
TZOFFSETFROM:+0200
TZOFFSETTO:+0100
DTSTART:19800928T030000
RRULE:FREQ=YEARLY;UNTIL=19950924T010000Z;BYMONTH=9;BYDAY=-1SU
END:STANDARD
BEGIN:DAYLIGHT
TZNAME:CEST
TZOFFSETFROM:+0100
TZOFFSETTO:+0200
DTSTART:19810329T020000
RRULE:FREQ=YEARLY;BYMONTH=3;BYDAY=-1SU
END:DAYLIGHT
BEGIN:STANDARD
TZNAME:CET
TZOFFSETFROM:+0200
TZOFFSETTO:+0100
DTSTART:19961027T030000
RRULE:FREQ=YEARLY;BYMONTH=10;BYDAY=-1SU
END:STANDARD
END:VTIMEZONE
BEGIN:VEVENT
DTSTAMP:20260425T005055Z
DTSTART;TZID=Europe/Berlin:20241203T200000
DTEND;TZID=Europe/Berlin:20241203T230000
SUMMARY:HE 6. Liga Gr. 1 Horn III vs Rorschach III (0)
UID:eacb122d-f4dc-47a0-b75c-fc815d40c9fc
STATUS:CONFIRMED
LAST-MODIFIED:20241205T125730Z
DESCRIPTION:6. Liga Herren Gruppe 1\nBegegnungs-Nr: 0\nHeim: Horn III\nGast: Rorschach III\n\nAdresse: Feldstrasse 16\, 9326 Horn\n
LOCATION:Feldstrasse 16\, 9326 Horn
CATEGORIES:Saison 2024/25
END:VEVENT
BEGIN:VEVENT
DTSTAMP:20260425T005055Z
DTSTART;TZID=Europe/Berlin:20241029T200000
DTEND;TZID=Europe/Berlin:20241029T230000
SUMMARY:HE 6. Liga Gr. 1 Horn III vs Oberriet V (0)
UID:268ad7cd-af2f-45e7-a806-b4a523f83c08
STATUS:CONFIRMED
LAST-MODIFIED:20241108T150156Z
DESCRIPTION:6. Liga Herren Gruppe 1\nBegegnungs-Nr: 0\nHeim: Horn III\nGast: Oberriet V\n\nAdresse: Feldstrasse 16\, 9326 Horn\n
LOCATION:Feldstrasse 16\, 9326 Horn
CATEGORIES:Saison 2024/25
END:VEVENT
BEGIN:VEVENT
DTSTAMP:20260425T005055Z
DTSTART;TZID=Europe/Berlin:20240924T200000
DTEND;TZID=Europe/Berlin:20240924T230000
SUMMARY:HE 6. Liga Gr. 1 Horn III vs Muolen IV (0)
UID:5f48b3e5-8c2e-4754-b6aa-d224c2960b3f
STATUS:CONFIRMED
LAST-MODIFIED:20240926T115202Z
DESCRIPTION:6. Liga Herren Gruppe 1\nBegegnungs-Nr: 0\nHeim: Horn III\nGast: Muolen IV\n\nAdresse: Feldstrasse 16\, 9326 Horn\n
LOCATION:Feldstrasse 16\, 9326 Horn
CATEGORIES:Saison 2024/25
END:VEVENT
BEGIN:VEVENT
DTSTAMP:20260425T005055Z
DTSTART;TZID=Europe/Berlin:20240903T200000
DTEND;TZID=Europe/Berlin:20240903T230000
SUMMARY:HE 6. Liga Gr. 1 Horn III vs Wolfhalden III (0)
UID:1871717e-9998-49a6-848c-d009f8db9815
STATUS:CONFIRMED
LAST-MODIFIED:20240904T113818Z
DESCRIPTION:6. Liga Herren Gruppe 1\nBegegnungs-Nr: 0\nHeim: Horn III\nGast: Wolfhalden III\n\nAdresse: Feldstrasse 16\, 9326 Horn\n
LOCATION:Feldstrasse 16\, 9326 Horn
CATEGORIES:Saison 2024/25
END:VEVENT
BEGIN:VEVENT
DTSTAMP:20260425T005055Z
DTSTART;TZID=Europe/Berlin:20250204T200000
DTEND;TZID=Europe/Berlin:20250204T230000
SUMMARY:HE 6. Liga Gr. 1 Horn III vs St. Gallen IX (0)
UID:1247b7cd-bdad-4373-909f-0c15beaf1601
STATUS:CONFIRMED
LAST-MODIFIED:20250219T154607Z
DESCRIPTION:6. Liga Herren Gruppe 1\nBegegnungs-Nr: 0\nHeim: Horn III\nGast: St. Gallen IX\n\nAdresse: Feldstrasse 16\, 9326 Horn\n
LOCATION:Feldstrasse 16\, 9326 Horn
CATEGORIES:Saison 2024/25
END:VEVENT
BEGIN:VEVENT
DTSTAMP:20260425T005055Z
DTSTART;TZID=Europe/Berlin:20250107T200000
DTEND;TZID=Europe/Berlin:20250107T230000
SUMMARY:HE 6. Liga Gr. 1 Horn III vs Ruggell III (0)
UID:dd26aa6f-db95-40e1-965e-9f8ad3d8087f
STATUS:CONFIRMED
LAST-MODIFIED:20250110T151614Z
DESCRIPTION:6. Liga Herren Gruppe 1\nBegegnungs-Nr: 0\nHeim: Horn III\nGast: Ruggell III\n\nAdresse: Feldstrasse 16\, 9326 Horn\n
LOCATION:Feldstrasse 16\, 9326 Horn
CATEGORIES:Saison 2024/25
END:VEVENT
BEGIN:VEVENT
DTSTAMP:20260425T005055Z
DTSTART;TZID=Europe/Berlin:20240920T200000
DTEND;TZID=Europe/Berlin:20240920T230000
SUMMARY:HE 6. Liga Gr. 1 St. Gallen IX vs Horn III (0)
UID:6d387fa1-49c1-4078-a66d-70858175298a
STATUS:CONFIRMED
LAST-MODIFIED:20240926T115137Z
DESCRIPTION:6. Liga Herren Gruppe 1\nBegegnungs-Nr: 0\nHeim: St. Gallen IX\nGast: Horn III\n\nAdresse: Zilstrasse 61\, 9016 St.Gallen\n
LOCATION:Zilstrasse 61\, 9016 St.Gallen
CATEGORIES:Saison 2024/25
END:VEVENT
BEGIN:VEVENT
DTSTAMP:20260425T005055Z
DTSTART;TZID=Europe/Berlin:20240907T140000
DTEND;TZID=Europe/Berlin:20240907T170000
SUMMARY:HE 6. Liga Gr. 1 Ruggell III vs Horn III (0)
UID:0ee94421-35c8-47fb-8a0e-b0104f964e57
STATUS:CONFIRMED
LAST-MODIFIED:20240913T132224Z
DESCRIPTION:6. Liga Herren Gruppe 1\nBegegnungs-Nr: 0\nHeim: Ruggell III\nGast: Horn III\n\nAdresse: Nellengasse 40\, 9491 Ruggell\n
LOCATION:Nellengasse 40\, 9491 Ruggell
CATEGORIES:Saison 2024/25
END:VEVENT
BEGIN:VEVENT
DTSTAMP:20260425T005055Z
DTSTART;TZID=Europe/Berlin:20250305T201500
DTEND;TZID=Europe/Berlin:20250305T231500
SUMMARY:HE 6. Liga Gr. 1 Oberriet V vs Horn III (0)
UID:925897a6-a46e-44fb-a992-4996fd943dff
STATUS:CONFIRMED
LAST-MODIFIED:20250306T142822Z
DESCRIPTION:6. Liga Herren Gruppe 1\nBegegnungs-Nr: 0\nHeim: Oberriet V\nGast: Horn III\n\nAdresse: Neugutstrasse 2\, 9463 Oberriet SG\n
LOCATION:Neugutstrasse 2\, 9463 Oberriet SG
CATEGORIES:Saison 2024/25
END:VEVENT
BEGIN:VEVENT
DTSTAMP:20260425T005055Z
DTSTART;TZID=Europe/Berlin:20250325T200000
DTEND;TZID=Europe/Berlin:20250325T230000
SUMMARY:HE 6. Liga Gr. 1 Rorschach III vs Horn III (0)
UID:8d4fde2d-3ab4-47eb-aef7-4ee744d74b90
STATUS:CONFIRMED
LAST-MODIFIED:20250327T134348Z
DESCRIPTION:6. Liga Herren Gruppe 1\nBegegnungs-Nr: 0\nHeim: Rorschach III\nGast: Horn III\n\nAdresse: Mariabergstrasse 33\, 9400 Rorschach\n
LOCATION:Mariabergstrasse 33\, 9400 Rorschach
CATEGORIES:Saison 2024/25
END:VEVENT
BEGIN:VEVENT
DTSTAMP:20260425T005055Z
DTSTART;TZID=Europe/Berlin:20250212T200000
DTEND;TZID=Europe/Berlin:20250212T230000
SUMMARY:HE 6. Liga Gr. 1 Muolen IV vs Horn III (0)
UID:42b96220-bbc6-4df7-8056-a1a4d0b20a84
STATUS:CONFIRMED
LAST-MODIFIED:20250213T132805Z
DESCRIPTION:6. Liga Herren Gruppe 1\nBegegnungs-Nr: 0\nHeim: Muolen IV\nGast: Horn III\n\nAdresse: Dorfstrasse 31\, 9313 Muolen\n
LOCATION:Dorfstrasse 31\, 9313 Muolen
CATEGORIES:Saison 2024/25
END:VEVENT
BEGIN:VEVENT
DTSTAMP:20260425T005055Z
DTSTART;TZID=Europe/Berlin:20250120T200000
DTEND;TZID=Europe/Berlin:20250120T230000
SUMMARY:HE 6. Liga Gr. 1 Wolfhalden III vs Horn III (0)
UID:34af867a-9876-4783-af8a-0d2ea1d4aec9
STATUS:CONFIRMED
LAST-MODIFIED:20250123T083854Z
DESCRIPTION:6. Liga Herren Gruppe 1\nBegegnungs-Nr: 0\nHeim: Wolfhalden III\nGast: Horn III\n\nAdresse: -\, 9427 Wolfhalden\n
LOCATION:-\, 9427 Wolfhalden
CATEGORIES:Saison 2024/25
END:VEVENT
END:VCALENDAR
