BEGIN:VCALENDAR
PRODID:-//nuDatenautomaten//framework iCal4j //DE
VERSION:2.0
CALSCALE:GREGORIAN
BEGIN:VTIMEZONE
TZID:Europe/Berlin
LAST-MODIFIED:20260306T231828Z
TZURL:https://www.tzurl.org/zoneinfo/Europe/Berlin
X-LIC-LOCATION:Europe/Berlin
X-PROLEPTIC-TZNAME:LMT
BEGIN:STANDARD
TZNAME:CET
TZOFFSETFROM:+005328
TZOFFSETTO:+0100
DTSTART:18930401T000000
END:STANDARD
BEGIN:DAYLIGHT
TZNAME:CEST
TZOFFSETFROM:+0100
TZOFFSETTO:+0200
DTSTART:19160430T230000
RDATE:19400401T020000
RDATE:19430329T020000
RDATE:19460414T020000
RDATE:19470406T030000
RDATE:19480418T020000
RDATE:19490410T020000
RDATE:19800406T020000
END:DAYLIGHT
BEGIN:STANDARD
TZNAME:CET
TZOFFSETFROM:+0200
TZOFFSETTO:+0100
DTSTART:19161001T010000
RDATE:19421102T030000
RDATE:19431004T030000
RDATE:19441002T030000
RDATE:19451118T030000
RDATE:19461007T030000
END:STANDARD
BEGIN:DAYLIGHT
TZNAME:CEST
TZOFFSETFROM:+0100
TZOFFSETTO:+0200
DTSTART:19170416T020000
RRULE:FREQ=YEARLY;UNTIL=19180415T010000Z;BYMONTH=4;BYDAY=3MO
END:DAYLIGHT
BEGIN:STANDARD
TZNAME:CET
TZOFFSETFROM:+0200
TZOFFSETTO:+0100
DTSTART:19170917T030000
RRULE:FREQ=YEARLY;UNTIL=19180916T010000Z;BYMONTH=9;BYDAY=3MO
END:STANDARD
BEGIN:DAYLIGHT
TZNAME:CEST
TZOFFSETFROM:+0100
TZOFFSETTO:+0200
DTSTART:19440403T020000
RRULE:FREQ=YEARLY;UNTIL=19450402T010000Z;BYMONTH=4;BYDAY=1MO
END:DAYLIGHT
BEGIN:DAYLIGHT
TZNAME:CEMT
TZOFFSETFROM:+0200
TZOFFSETTO:+0300
DTSTART:19450524T020000
RDATE:19470511T030000
END:DAYLIGHT
BEGIN:DAYLIGHT
TZNAME:CEST
TZOFFSETFROM:+0300
TZOFFSETTO:+0200
DTSTART:19450924T030000
RDATE:19470629T030000
END:DAYLIGHT
BEGIN:STANDARD
TZNAME:CET
TZOFFSETFROM:+0100
TZOFFSETTO:+0100
DTSTART:19460101T000000
RDATE:19800101T000000
END:STANDARD
BEGIN:STANDARD
TZNAME:CET
TZOFFSETFROM:+0200
TZOFFSETTO:+0100
DTSTART:19471005T030000
RRULE:FREQ=YEARLY;UNTIL=19491002T010000Z;BYMONTH=10;BYDAY=1SU
END:STANDARD
BEGIN:STANDARD
TZNAME:CET
TZOFFSETFROM:+0200
TZOFFSETTO:+0100
DTSTART:19800928T030000
RRULE:FREQ=YEARLY;UNTIL=19950924T010000Z;BYMONTH=9;BYDAY=-1SU
END:STANDARD
BEGIN:DAYLIGHT
TZNAME:CEST
TZOFFSETFROM:+0100
TZOFFSETTO:+0200
DTSTART:19810329T020000
RRULE:FREQ=YEARLY;BYMONTH=3;BYDAY=-1SU
END:DAYLIGHT
BEGIN:STANDARD
TZNAME:CET
TZOFFSETFROM:+0200
TZOFFSETTO:+0100
DTSTART:19961027T030000
RRULE:FREQ=YEARLY;BYMONTH=10;BYDAY=-1SU
END:STANDARD
END:VTIMEZONE
BEGIN:VEVENT
DTSTAMP:20260425T005107Z
DTSTART;TZID=Europe/Berlin:20241205T194500
DTEND;TZID=Europe/Berlin:20241205T224500
SUMMARY:HE 5. Liga Gr. 8 Schaan-Eschen/Mauren II vs Glarus II (0)
UID:73c4cb0f-06a5-4a09-9115-d5b5ab2f4152
STATUS:CONFIRMED
LAST-MODIFIED:20241211T095437Z
DESCRIPTION:5. Liga Herren Gruppe 8\nBegegnungs-Nr: 0\nHeim: Schaan-Eschen/Mauren II\nGast: Glarus II\n\nAdresse: Zur Schule\, 9494 Schaan\n
LOCATION:Zur Schule\, 9494 Schaan
CATEGORIES:Saison 2024/25
END:VEVENT
BEGIN:VEVENT
DTSTAMP:20260425T005107Z
DTSTART;TZID=Europe/Berlin:20240926T194500
DTEND;TZID=Europe/Berlin:20240926T224500
SUMMARY:HE 5. Liga Gr. 8 Schaan-Eschen/Mauren II vs Ruggell II (0)
UID:b010ebbf-72ce-43c5-82cd-29e53d298bcb
STATUS:CONFIRMED
LAST-MODIFIED:20240930T125041Z
DESCRIPTION:5. Liga Herren Gruppe 8\nBegegnungs-Nr: 0\nHeim: Schaan-Eschen/Mauren II\nGast: Ruggell II\n\nAdresse: Zur Schule\, 9494 Schaan\n
LOCATION:Zur Schule\, 9494 Schaan
CATEGORIES:Saison 2024/25
END:VEVENT
BEGIN:VEVENT
DTSTAMP:20260425T005107Z
DTSTART;TZID=Europe/Berlin:20240905T194500
DTEND;TZID=Europe/Berlin:20240905T224500
SUMMARY:HE 5. Liga Gr. 8 Schaan-Eschen/Mauren II vs Glarus III (0)
UID:60fdc8ab-26e6-4bc2-a4ef-849bba4502cb
STATUS:CONFIRMED
LAST-MODIFIED:20240913T132153Z
DESCRIPTION:5. Liga Herren Gruppe 8\nBegegnungs-Nr: 0\nHeim: Schaan-Eschen/Mauren II\nGast: Glarus III\n\nAdresse: Zur Schule\, 9494 Schaan\n
LOCATION:Zur Schule\, 9494 Schaan
CATEGORIES:Saison 2024/25
END:VEVENT
BEGIN:VEVENT
DTSTAMP:20260425T005107Z
DTSTART;TZID=Europe/Berlin:20250220T194500
DTEND;TZID=Europe/Berlin:20250220T224500
SUMMARY:HE 5. Liga Gr. 8 Schaan-Eschen/Mauren II vs Flums V (0)
UID:4ee334cb-9083-4063-aa27-de22ab3bcb4d
STATUS:CONFIRMED
LAST-MODIFIED:20250227T112830Z
DESCRIPTION:5. Liga Herren Gruppe 8\nBegegnungs-Nr: 0\nHeim: Schaan-Eschen/Mauren II\nGast: Flums V\n\nAdresse: Zur Schule\, 9494 Schaan\n
LOCATION:Zur Schule\, 9494 Schaan
CATEGORIES:Saison 2024/25
END:VEVENT
BEGIN:VEVENT
DTSTAMP:20260425T005107Z
DTSTART;TZID=Europe/Berlin:20250130T194500
DTEND;TZID=Europe/Berlin:20250130T224500
SUMMARY:HE 5. Liga Gr. 8 Schaan-Eschen/Mauren II vs Oberriet IV (0)
UID:775c4337-0161-42a9-aa56-17aad72e7325
STATUS:CONFIRMED
LAST-MODIFIED:20250131T144041Z
DESCRIPTION:5. Liga Herren Gruppe 8\nBegegnungs-Nr: 0\nHeim: Schaan-Eschen/Mauren II\nGast: Oberriet IV\n\nAdresse: Zur Schule\, 9494 Schaan\n
LOCATION:Zur Schule\, 9494 Schaan
CATEGORIES:Saison 2024/25
END:VEVENT
BEGIN:VEVENT
DTSTAMP:20260425T005107Z
DTSTART;TZID=Europe/Berlin:20250206T194500
DTEND;TZID=Europe/Berlin:20250206T224500
SUMMARY:HE 5. Liga Gr. 8 Schaan-Eschen/Mauren II vs Balzers (0)
UID:f03fda60-4024-43a2-a73c-ff4f9ef8d5b9
STATUS:CONFIRMED
LAST-MODIFIED:20250207T115439Z
DESCRIPTION:5. Liga Herren Gruppe 8\nBegegnungs-Nr: 0\nHeim: Schaan-Eschen/Mauren II\nGast: Balzers\n\nAdresse: Zur Schule\, 9494 Schaan\n
LOCATION:Zur Schule\, 9494 Schaan
CATEGORIES:Saison 2024/25
END:VEVENT
BEGIN:VEVENT
DTSTAMP:20260425T005107Z
DTSTART;TZID=Europe/Berlin:20241031T194500
DTEND;TZID=Europe/Berlin:20241031T224500
SUMMARY:HE 5. Liga Gr. 8 Schaan-Eschen/Mauren II vs Chur VI (0)
UID:301aadd4-5935-4af6-946d-a2380b6cccbb
STATUS:CONFIRMED
LAST-MODIFIED:20241108T145955Z
DESCRIPTION:5. Liga Herren Gruppe 8\nBegegnungs-Nr: 0\nHeim: Schaan-Eschen/Mauren II\nGast: Chur VI\n\nAdresse: Zur Schule\, 9494 Schaan\n
LOCATION:Zur Schule\, 9494 Schaan
CATEGORIES:Saison 2024/25
END:VEVENT
BEGIN:VEVENT
DTSTAMP:20260425T005107Z
DTSTART;TZID=Europe/Berlin:20241028T201500
DTEND;TZID=Europe/Berlin:20241028T231500
SUMMARY:HE 5. Liga Gr. 8 Flums V vs Schaan-Eschen/Mauren II (0)
UID:ea91e111-d82b-4947-94cc-a68567e631b2
STATUS:CONFIRMED
LAST-MODIFIED:20241030T123645Z
DESCRIPTION:5. Liga Herren Gruppe 8\nBegegnungs-Nr: 0\nHeim: Flums V\nGast: Schaan-Eschen/Mauren II\n\nAdresse: Bergstrasse\, 8890 Flums\n
LOCATION:Bergstrasse\, 8890 Flums
CATEGORIES:Saison 2024/25
END:VEVENT
BEGIN:VEVENT
DTSTAMP:20260425T005107Z
DTSTART;TZID=Europe/Berlin:20240918T201500
DTEND;TZID=Europe/Berlin:20240918T231500
SUMMARY:HE 5. Liga Gr. 8 Oberriet IV vs Schaan-Eschen/Mauren II (0)
UID:7ff8c3e2-a588-43cd-810c-0d228100a0cb
STATUS:CONFIRMED
LAST-MODIFIED:20240919T151731Z
DESCRIPTION:5. Liga Herren Gruppe 8\nBegegnungs-Nr: 0\nHeim: Oberriet IV\nGast: Schaan-Eschen/Mauren II\n\nAdresse: Neugutstrasse 2\, 9463 Oberriet SG\n
LOCATION:Neugutstrasse 2\, 9463 Oberriet SG
CATEGORIES:Saison 2024/25
END:VEVENT
BEGIN:VEVENT
DTSTAMP:20260425T005107Z
DTSTART;TZID=Europe/Berlin:20240826T200000
DTEND;TZID=Europe/Berlin:20240826T230000
SUMMARY:HE 5. Liga Gr. 8 Balzers vs Schaan-Eschen/Mauren II (0)
UID:df861acd-4c31-47b3-a71f-5ed00a93eebc
STATUS:CONFIRMED
LAST-MODIFIED:20240828T084125Z
DESCRIPTION:5. Liga Herren Gruppe 8\nBegegnungs-Nr: 0\nHeim: Balzers\nGast: Schaan-Eschen/Mauren II\n\nAdresse: Gnetsch 41\, 9496 Balzers\n
LOCATION:Gnetsch 41\, 9496 Balzers
CATEGORIES:Saison 2024/25
END:VEVENT
BEGIN:VEVENT
DTSTAMP:20260425T005107Z
DTSTART;TZID=Europe/Berlin:20250328T200000
DTEND;TZID=Europe/Berlin:20250328T230000
SUMMARY:HE 5. Liga Gr. 8 Glarus II vs Schaan-Eschen/Mauren II (0)
UID:0a0fa283-dc97-4528-ba97-f347057147fa
STATUS:CONFIRMED
LAST-MODIFIED:20250408T153621Z
DESCRIPTION:5. Liga Herren Gruppe 8\nBegegnungs-Nr: 0\nHeim: Glarus II\nGast: Schaan-Eschen/Mauren II\n\nAdresse: Schwertgasse 23\, 8750 Glarus\n
LOCATION:Schwertgasse 23\, 8750 Glarus
CATEGORIES:Saison 2024/25
END:VEVENT
BEGIN:VEVENT
DTSTAMP:20260425T005107Z
DTSTART;TZID=Europe/Berlin:20250324T200000
DTEND;TZID=Europe/Berlin:20250324T230000
SUMMARY:HE 5. Liga Gr. 8 Chur VI vs Schaan-Eschen/Mauren II (0)
UID:1762e52e-97e7-4e20-8ef3-0f5d310d6923
STATUS:CONFIRMED
LAST-MODIFIED:20250327T134338Z
DESCRIPTION:5. Liga Herren Gruppe 8\nBegegnungs-Nr: 0\nHeim: Chur VI\nGast: Schaan-Eschen/Mauren II\n\nAdresse: Sandstr. 35\, 7000 Chur\n
LOCATION:Sandstr. 35\, 7000 Chur
CATEGORIES:Saison 2024/25
END:VEVENT
BEGIN:VEVENT
DTSTAMP:20260425T005107Z
DTSTART;TZID=Europe/Berlin:20250213T200000
DTEND;TZID=Europe/Berlin:20250213T230000
SUMMARY:HE 5. Liga Gr. 8 Ruggell II vs Schaan-Eschen/Mauren II (0)
UID:768070c7-f243-4dc5-8e75-c7a60bfbb537
STATUS:CONFIRMED
LAST-MODIFIED:20250219T132954Z
DESCRIPTION:5. Liga Herren Gruppe 8\nBegegnungs-Nr: 0\nHeim: Ruggell II\nGast: Schaan-Eschen/Mauren II\n\nAdresse: Nellengasse 40\, 9491 Ruggell\n
LOCATION:Nellengasse 40\, 9491 Ruggell
CATEGORIES:Saison 2024/25
END:VEVENT
BEGIN:VEVENT
DTSTAMP:20260425T005107Z
DTSTART;TZID=Europe/Berlin:20250124T200000
DTEND;TZID=Europe/Berlin:20250124T230000
SUMMARY:HE 5. Liga Gr. 8 Glarus III vs Schaan-Eschen/Mauren II (0)
UID:7021ec3c-314b-4f75-b22f-9bde43ca3d6c
STATUS:CONFIRMED
LAST-MODIFIED:20250129T125154Z
DESCRIPTION:5. Liga Herren Gruppe 8\nBegegnungs-Nr: 0\nHeim: Glarus III\nGast: Schaan-Eschen/Mauren II\n\nAdresse: Schwertgasse 23\, 8750 Glarus\n
LOCATION:Schwertgasse 23\, 8750 Glarus
CATEGORIES:Saison 2024/25
END:VEVENT
END:VCALENDAR
