BEGIN:VCALENDAR
PRODID:-//nuDatenautomaten//framework iCal4j //DE
VERSION:2.0
CALSCALE:GREGORIAN
BEGIN:VTIMEZONE
TZID:Europe/Berlin
LAST-MODIFIED:20260306T231828Z
TZURL:https://www.tzurl.org/zoneinfo/Europe/Berlin
X-LIC-LOCATION:Europe/Berlin
X-PROLEPTIC-TZNAME:LMT
BEGIN:STANDARD
TZNAME:CET
TZOFFSETFROM:+005328
TZOFFSETTO:+0100
DTSTART:18930401T000000
END:STANDARD
BEGIN:DAYLIGHT
TZNAME:CEST
TZOFFSETFROM:+0100
TZOFFSETTO:+0200
DTSTART:19160430T230000
RDATE:19400401T020000
RDATE:19430329T020000
RDATE:19460414T020000
RDATE:19470406T030000
RDATE:19480418T020000
RDATE:19490410T020000
RDATE:19800406T020000
END:DAYLIGHT
BEGIN:STANDARD
TZNAME:CET
TZOFFSETFROM:+0200
TZOFFSETTO:+0100
DTSTART:19161001T010000
RDATE:19421102T030000
RDATE:19431004T030000
RDATE:19441002T030000
RDATE:19451118T030000
RDATE:19461007T030000
END:STANDARD
BEGIN:DAYLIGHT
TZNAME:CEST
TZOFFSETFROM:+0100
TZOFFSETTO:+0200
DTSTART:19170416T020000
RRULE:FREQ=YEARLY;UNTIL=19180415T010000Z;BYMONTH=4;BYDAY=3MO
END:DAYLIGHT
BEGIN:STANDARD
TZNAME:CET
TZOFFSETFROM:+0200
TZOFFSETTO:+0100
DTSTART:19170917T030000
RRULE:FREQ=YEARLY;UNTIL=19180916T010000Z;BYMONTH=9;BYDAY=3MO
END:STANDARD
BEGIN:DAYLIGHT
TZNAME:CEST
TZOFFSETFROM:+0100
TZOFFSETTO:+0200
DTSTART:19440403T020000
RRULE:FREQ=YEARLY;UNTIL=19450402T010000Z;BYMONTH=4;BYDAY=1MO
END:DAYLIGHT
BEGIN:DAYLIGHT
TZNAME:CEMT
TZOFFSETFROM:+0200
TZOFFSETTO:+0300
DTSTART:19450524T020000
RDATE:19470511T030000
END:DAYLIGHT
BEGIN:DAYLIGHT
TZNAME:CEST
TZOFFSETFROM:+0300
TZOFFSETTO:+0200
DTSTART:19450924T030000
RDATE:19470629T030000
END:DAYLIGHT
BEGIN:STANDARD
TZNAME:CET
TZOFFSETFROM:+0100
TZOFFSETTO:+0100
DTSTART:19460101T000000
RDATE:19800101T000000
END:STANDARD
BEGIN:STANDARD
TZNAME:CET
TZOFFSETFROM:+0200
TZOFFSETTO:+0100
DTSTART:19471005T030000
RRULE:FREQ=YEARLY;UNTIL=19491002T010000Z;BYMONTH=10;BYDAY=1SU
END:STANDARD
BEGIN:STANDARD
TZNAME:CET
TZOFFSETFROM:+0200
TZOFFSETTO:+0100
DTSTART:19800928T030000
RRULE:FREQ=YEARLY;UNTIL=19950924T010000Z;BYMONTH=9;BYDAY=-1SU
END:STANDARD
BEGIN:DAYLIGHT
TZNAME:CEST
TZOFFSETFROM:+0100
TZOFFSETTO:+0200
DTSTART:19810329T020000
RRULE:FREQ=YEARLY;BYMONTH=3;BYDAY=-1SU
END:DAYLIGHT
BEGIN:STANDARD
TZNAME:CET
TZOFFSETFROM:+0200
TZOFFSETTO:+0100
DTSTART:19961027T030000
RRULE:FREQ=YEARLY;BYMONTH=10;BYDAY=-1SU
END:STANDARD
END:VTIMEZONE
BEGIN:VEVENT
DTSTAMP:20260425T004947Z
DTSTART;TZID=Europe/Berlin:20241202T200000
DTEND;TZID=Europe/Berlin:20241202T230000
SUMMARY:HE 4. Liga Gr. 2 Bronschhofen III vs Ettenhausen II (0)
UID:a7d70bd7-2b45-4df8-9a10-0a0fca8fae1e
STATUS:CONFIRMED
LAST-MODIFIED:20241205T124453Z
DESCRIPTION:4. Liga Herren Gruppe 2\nBegegnungs-Nr: 0\nHeim: Bronschhofen III\nGast: Ettenhausen II\n\nAdresse: Schulstrasse 6\, 9552 Bronschhofen\n
LOCATION:Schulstrasse 6\, 9552 Bronschhofen
CATEGORIES:Saison 2024/25
END:VEVENT
BEGIN:VEVENT
DTSTAMP:20260425T004947Z
DTSTART;TZID=Europe/Berlin:20241104T200000
DTEND;TZID=Europe/Berlin:20241104T230000
SUMMARY:HE 4. Liga Gr. 2 Bronschhofen III vs Steckborn-Homburg III (0)
UID:0945d019-82e2-4495-817b-de9467822251
STATUS:CONFIRMED
LAST-MODIFIED:20241108T134529Z
DESCRIPTION:4. Liga Herren Gruppe 2\nBegegnungs-Nr: 0\nHeim: Bronschhofen III\nGast: Steckborn-Homburg III\n\nAdresse: Schulstrasse 6\, 9552 Bronschhofen\n
LOCATION:Schulstrasse 6\, 9552 Bronschhofen
CATEGORIES:Saison 2024/25
END:VEVENT
BEGIN:VEVENT
DTSTAMP:20260425T004947Z
DTSTART;TZID=Europe/Berlin:20240923T200000
DTEND;TZID=Europe/Berlin:20240923T230000
SUMMARY:HE 4. Liga Gr. 2 Bronschhofen III vs Winterthur IV (0)
UID:87fb277e-830f-4855-a75e-6c3541203cc3
STATUS:CONFIRMED
LAST-MODIFIED:20240926T114905Z
DESCRIPTION:4. Liga Herren Gruppe 2\nBegegnungs-Nr: 0\nHeim: Bronschhofen III\nGast: Winterthur IV\n\nAdresse: Schulstrasse 6\, 9552 Bronschhofen\n
LOCATION:Schulstrasse 6\, 9552 Bronschhofen
CATEGORIES:Saison 2024/25
END:VEVENT
BEGIN:VEVENT
DTSTAMP:20260425T004947Z
DTSTART;TZID=Europe/Berlin:20240819T200000
DTEND;TZID=Europe/Berlin:20240819T230000
SUMMARY:HE 4. Liga Gr. 2 Bronschhofen III vs Wuppenau II (0)
UID:816d381b-1952-400b-bfb5-50591b9fd18f
STATUS:CONFIRMED
LAST-MODIFIED:20240828T083133Z
DESCRIPTION:4. Liga Herren Gruppe 2\nBegegnungs-Nr: 0\nHeim: Bronschhofen III\nGast: Wuppenau II\n\nAdresse: Schulstrasse 6\, 9552 Bronschhofen\n
LOCATION:Schulstrasse 6\, 9552 Bronschhofen
CATEGORIES:Saison 2024/25
END:VEVENT
BEGIN:VEVENT
DTSTAMP:20260425T004947Z
DTSTART;TZID=Europe/Berlin:20250303T200000
DTEND;TZID=Europe/Berlin:20250303T230000
SUMMARY:HE 4. Liga Gr. 2 Bronschhofen III vs Gossau St.Gallen (0)
UID:367b51d9-84e5-41a3-9d80-9f922952daef
STATUS:CONFIRMED
LAST-MODIFIED:20250306T142322Z
DESCRIPTION:4. Liga Herren Gruppe 2\nBegegnungs-Nr: 0\nHeim: Bronschhofen III\nGast: Gossau St.Gallen\n\nAdresse: Schulstrasse 6\, 9552 Bronschhofen\n
LOCATION:Schulstrasse 6\, 9552 Bronschhofen
CATEGORIES:Saison 2024/25
END:VEVENT
BEGIN:VEVENT
DTSTAMP:20260425T004947Z
DTSTART;TZID=Europe/Berlin:20250127T200000
DTEND;TZID=Europe/Berlin:20250127T230000
SUMMARY:HE 4. Liga Gr. 2 Bronschhofen III vs Wil SG IV (0)
UID:aaa957e9-6401-4e4e-9899-1bd5b2a3c87b
STATUS:CONFIRMED
LAST-MODIFIED:20250129T111719Z
DESCRIPTION:4. Liga Herren Gruppe 2\nBegegnungs-Nr: 0\nHeim: Bronschhofen III\nGast: Wil SG IV\n\nAdresse: Schulstrasse 6\, 9552 Bronschhofen\n
LOCATION:Schulstrasse 6\, 9552 Bronschhofen
CATEGORIES:Saison 2024/25
END:VEVENT
BEGIN:VEVENT
DTSTAMP:20260425T004947Z
DTSTART;TZID=Europe/Berlin:20250106T200000
DTEND;TZID=Europe/Berlin:20250106T230000
SUMMARY:HE 4. Liga Gr. 2 Bronschhofen III vs Weinfelden II (0)
UID:67fa341f-457c-4703-b394-df08f535485e
STATUS:CONFIRMED
LAST-MODIFIED:20250110T150915Z
DESCRIPTION:4. Liga Herren Gruppe 2\nBegegnungs-Nr: 0\nHeim: Bronschhofen III\nGast: Weinfelden II\n\nAdresse: Schulstrasse 6\, 9552 Bronschhofen\n
LOCATION:Schulstrasse 6\, 9552 Bronschhofen
CATEGORIES:Saison 2024/25
END:VEVENT
BEGIN:VEVENT
DTSTAMP:20260425T004947Z
DTSTART;TZID=Europe/Berlin:20241028T200000
DTEND;TZID=Europe/Berlin:20241028T230000
SUMMARY:HE 4. Liga Gr. 2 Gossau St.Gallen vs Bronschhofen III (0)
UID:3c9bcd42-bff1-4bd1-bfb0-de6ebb95ca26
STATUS:CONFIRMED
LAST-MODIFIED:20241030T103059Z
DESCRIPTION:4. Liga Herren Gruppe 2\nBegegnungs-Nr: 0\nHeim: Gossau St.Gallen\nGast: Bronschhofen III\n\nAdresse: Falkenstrasse 21\, 9200 Gossau\n
LOCATION:Falkenstrasse 21\, 9200 Gossau
CATEGORIES:Saison 2024/25
END:VEVENT
BEGIN:VEVENT
DTSTAMP:20260425T004947Z
DTSTART;TZID=Europe/Berlin:20240917T201500
DTEND;TZID=Europe/Berlin:20240917T231500
SUMMARY:HE 4. Liga Gr. 2 Wil SG IV vs Bronschhofen III (0)
UID:6a10b427-623c-4e75-9cd0-f891d4e0e12c
STATUS:CONFIRMED
LAST-MODIFIED:20240918T101826Z
DESCRIPTION:4. Liga Herren Gruppe 2\nBegegnungs-Nr: 0\nHeim: Wil SG IV\nGast: Bronschhofen III\n\nAdresse: Lindenhofstr. 23\, 9500 Wil\n
LOCATION:Lindenhofstr. 23\, 9500 Wil
CATEGORIES:Saison 2024/25
END:VEVENT
BEGIN:VEVENT
DTSTAMP:20260425T004947Z
DTSTART;TZID=Europe/Berlin:20241003T200000
DTEND;TZID=Europe/Berlin:20241003T230000
SUMMARY:HE 4. Liga Gr. 2 Weinfelden II vs Bronschhofen III (0)
UID:95f2e8df-9ec5-4e78-a95a-0d0bae5902d9
STATUS:CONFIRMED
LAST-MODIFIED:20241004T080440Z
DESCRIPTION:4. Liga Herren Gruppe 2\nBegegnungs-Nr: 0\nHeim: Weinfelden II\nGast: Bronschhofen III\n\nAdresse: Bleichestrasse 3 (neben Hallenbad)\, 8570 Weinfelden\n
LOCATION:Bleichestrasse 3 (neben Hallenbad)\, 8570 Weinfelden
CATEGORIES:Saison 2024/25
END:VEVENT
BEGIN:VEVENT
DTSTAMP:20260425T004947Z
DTSTART;TZID=Europe/Berlin:20250326T201500
DTEND;TZID=Europe/Berlin:20250326T231500
SUMMARY:HE 4. Liga Gr. 2 Ettenhausen II vs Bronschhofen III (0)
UID:577ccf2c-6fc1-48df-9c55-49fdbba87f7b
STATUS:CONFIRMED
LAST-MODIFIED:20250327T133543Z
DESCRIPTION:4. Liga Herren Gruppe 2\nBegegnungs-Nr: 0\nHeim: Ettenhausen II\nGast: Bronschhofen III\n\nAdresse: Weidlistrasse 12\, 8356 Ettenhausen\n
LOCATION:Weidlistrasse 12\, 8356 Ettenhausen
CATEGORIES:Saison 2024/25
END:VEVENT
BEGIN:VEVENT
DTSTAMP:20260425T004947Z
DTSTART;TZID=Europe/Berlin:20250312T200000
DTEND;TZID=Europe/Berlin:20250312T230000
SUMMARY:HE 4. Liga Gr. 2 Steckborn-Homburg III vs Bronschhofen III (0)
UID:b60116e1-b146-4bf2-a83e-11c834f90f0d
STATUS:CONFIRMED
LAST-MODIFIED:20250314T124147Z
DESCRIPTION:4. Liga Herren Gruppe 2\nBegegnungs-Nr: 0\nHeim: Steckborn-Homburg III\nGast: Bronschhofen III\n\nAdresse: Schulstrasse 4\, 8508 Unterhörstetten\n
LOCATION:Schulstrasse 4\, 8508 Unterhörstetten
CATEGORIES:Saison 2024/25
END:VEVENT
BEGIN:VEVENT
DTSTAMP:20260425T004947Z
DTSTART;TZID=Europe/Berlin:20250220T200000
DTEND;TZID=Europe/Berlin:20250220T230000
SUMMARY:HE 4. Liga Gr. 2 Winterthur IV vs Bronschhofen III (0)
UID:612d1f11-7acd-4c86-a0e0-4bc5a714406a
STATUS:CONFIRMED
LAST-MODIFIED:20250227T112539Z
DESCRIPTION:4. Liga Herren Gruppe 2\nBegegnungs-Nr: 0\nHeim: Winterthur IV\nGast: Bronschhofen III\n\nAdresse: Buchackerstrasse 54\, 8400 Winterthur\n
LOCATION:Buchackerstrasse 54\, 8400 Winterthur
CATEGORIES:Saison 2024/25
END:VEVENT
BEGIN:VEVENT
DTSTAMP:20260425T004947Z
DTSTART;TZID=Europe/Berlin:20250124T200000
DTEND;TZID=Europe/Berlin:20250124T230000
SUMMARY:HE 4. Liga Gr. 2 Wuppenau II vs Bronschhofen III (0)
UID:08873e82-9879-4624-9542-2b18804906e5
STATUS:CONFIRMED
LAST-MODIFIED:20250129T111708Z
DESCRIPTION:4. Liga Herren Gruppe 2\nBegegnungs-Nr: 0\nHeim: Wuppenau II\nGast: Bronschhofen III\n\nAdresse: Nollenstrasse\, 9514 Wuppenau\n
LOCATION:Nollenstrasse\, 9514 Wuppenau
CATEGORIES:Saison 2024/25
END:VEVENT
END:VCALENDAR
