BEGIN:VCALENDAR
PRODID:-//nuDatenautomaten//framework iCal4j //DE
VERSION:2.0
CALSCALE:GREGORIAN
BEGIN:VTIMEZONE
TZID:Europe/Berlin
LAST-MODIFIED:20260306T231828Z
TZURL:https://www.tzurl.org/zoneinfo/Europe/Berlin
X-LIC-LOCATION:Europe/Berlin
X-PROLEPTIC-TZNAME:LMT
BEGIN:STANDARD
TZNAME:CET
TZOFFSETFROM:+005328
TZOFFSETTO:+0100
DTSTART:18930401T000000
END:STANDARD
BEGIN:DAYLIGHT
TZNAME:CEST
TZOFFSETFROM:+0100
TZOFFSETTO:+0200
DTSTART:19160430T230000
RDATE:19400401T020000
RDATE:19430329T020000
RDATE:19460414T020000
RDATE:19470406T030000
RDATE:19480418T020000
RDATE:19490410T020000
RDATE:19800406T020000
END:DAYLIGHT
BEGIN:STANDARD
TZNAME:CET
TZOFFSETFROM:+0200
TZOFFSETTO:+0100
DTSTART:19161001T010000
RDATE:19421102T030000
RDATE:19431004T030000
RDATE:19441002T030000
RDATE:19451118T030000
RDATE:19461007T030000
END:STANDARD
BEGIN:DAYLIGHT
TZNAME:CEST
TZOFFSETFROM:+0100
TZOFFSETTO:+0200
DTSTART:19170416T020000
RRULE:FREQ=YEARLY;UNTIL=19180415T010000Z;BYMONTH=4;BYDAY=3MO
END:DAYLIGHT
BEGIN:STANDARD
TZNAME:CET
TZOFFSETFROM:+0200
TZOFFSETTO:+0100
DTSTART:19170917T030000
RRULE:FREQ=YEARLY;UNTIL=19180916T010000Z;BYMONTH=9;BYDAY=3MO
END:STANDARD
BEGIN:DAYLIGHT
TZNAME:CEST
TZOFFSETFROM:+0100
TZOFFSETTO:+0200
DTSTART:19440403T020000
RRULE:FREQ=YEARLY;UNTIL=19450402T010000Z;BYMONTH=4;BYDAY=1MO
END:DAYLIGHT
BEGIN:DAYLIGHT
TZNAME:CEMT
TZOFFSETFROM:+0200
TZOFFSETTO:+0300
DTSTART:19450524T020000
RDATE:19470511T030000
END:DAYLIGHT
BEGIN:DAYLIGHT
TZNAME:CEST
TZOFFSETFROM:+0300
TZOFFSETTO:+0200
DTSTART:19450924T030000
RDATE:19470629T030000
END:DAYLIGHT
BEGIN:STANDARD
TZNAME:CET
TZOFFSETFROM:+0100
TZOFFSETTO:+0100
DTSTART:19460101T000000
RDATE:19800101T000000
END:STANDARD
BEGIN:STANDARD
TZNAME:CET
TZOFFSETFROM:+0200
TZOFFSETTO:+0100
DTSTART:19471005T030000
RRULE:FREQ=YEARLY;UNTIL=19491002T010000Z;BYMONTH=10;BYDAY=1SU
END:STANDARD
BEGIN:STANDARD
TZNAME:CET
TZOFFSETFROM:+0200
TZOFFSETTO:+0100
DTSTART:19800928T030000
RRULE:FREQ=YEARLY;UNTIL=19950924T010000Z;BYMONTH=9;BYDAY=-1SU
END:STANDARD
BEGIN:DAYLIGHT
TZNAME:CEST
TZOFFSETFROM:+0100
TZOFFSETTO:+0200
DTSTART:19810329T020000
RRULE:FREQ=YEARLY;BYMONTH=3;BYDAY=-1SU
END:DAYLIGHT
BEGIN:STANDARD
TZNAME:CET
TZOFFSETFROM:+0200
TZOFFSETTO:+0100
DTSTART:19961027T030000
RRULE:FREQ=YEARLY;BYMONTH=10;BYDAY=-1SU
END:STANDARD
END:VTIMEZONE
BEGIN:VEVENT
DTSTAMP:20260425T004855Z
DTSTART;TZID=Europe/Berlin:20241104T201500
DTEND;TZID=Europe/Berlin:20241104T231500
SUMMARY:HE 3. Liga Gr. 4 Buchs Zürich vs Zürich-Affoltern V (0)
UID:dc0f29cd-aec3-42e6-a500-72e4a10700b8
STATUS:CONFIRMED
LAST-MODIFIED:20241107T154223Z
DESCRIPTION:3. Liga Herren Gruppe 4\nBegegnungs-Nr: 0\nHeim: Buchs Zürich\nGast: Zürich-Affoltern V\n\nAdresse: Schulstrasse 73\, 8105 Regensdorf\n
LOCATION:Schulstrasse 73\, 8105 Regensdorf
CATEGORIES:Saison 2024/25
END:VEVENT
BEGIN:VEVENT
DTSTAMP:20260425T004855Z
DTSTART;TZID=Europe/Berlin:20240923T201500
DTEND;TZID=Europe/Berlin:20240923T231500
SUMMARY:HE 3. Liga Gr. 4 Buchs Zürich vs Niederhasli III (0)
UID:716ea01f-16ff-4e44-858e-4c9b2fa6284d
STATUS:CONFIRMED
LAST-MODIFIED:20240926T114324Z
DESCRIPTION:3. Liga Herren Gruppe 4\nBegegnungs-Nr: 0\nHeim: Buchs Zürich\nGast: Niederhasli III\n\nAdresse: Schulstrasse 73\, 8105 Regensdorf\n
LOCATION:Schulstrasse 73\, 8105 Regensdorf
CATEGORIES:Saison 2024/25
END:VEVENT
BEGIN:VEVENT
DTSTAMP:20260425T004855Z
DTSTART;TZID=Europe/Berlin:20240826T201500
DTEND;TZID=Europe/Berlin:20240826T231500
SUMMARY:HE 3. Liga Gr. 4 Buchs Zürich vs Bülach II (0)
UID:51e5fc51-0a8f-4693-b412-5248b48f0573
STATUS:CONFIRMED
LAST-MODIFIED:20240828T082928Z
DESCRIPTION:3. Liga Herren Gruppe 4\nBegegnungs-Nr: 0\nHeim: Buchs Zürich\nGast: Bülach II\n\nAdresse: Schulstrasse 73\, 8105 Regensdorf\n
LOCATION:Schulstrasse 73\, 8105 Regensdorf
CATEGORIES:Saison 2024/25
END:VEVENT
BEGIN:VEVENT
DTSTAMP:20260425T004855Z
DTSTART;TZID=Europe/Berlin:20250324T201500
DTEND;TZID=Europe/Berlin:20250324T231500
SUMMARY:HE 3. Liga Gr. 4 Buchs Zürich vs Urdorf (0)
UID:96e4256a-dab7-4a94-9c3e-e6199a42fc8e
STATUS:CONFIRMED
LAST-MODIFIED:20250327T133413Z
DESCRIPTION:3. Liga Herren Gruppe 4\nBegegnungs-Nr: 0\nHeim: Buchs Zürich\nGast: Urdorf\n\nAdresse: Schulstrasse 73\, 8105 Regensdorf\n
LOCATION:Schulstrasse 73\, 8105 Regensdorf
CATEGORIES:Saison 2024/25
END:VEVENT
BEGIN:VEVENT
DTSTAMP:20260425T004855Z
DTSTART;TZID=Europe/Berlin:20250331T201500
DTEND;TZID=Europe/Berlin:20250331T231500
SUMMARY:HE 3. Liga Gr. 4 Buchs Zürich vs Young Stars ZH VII (0)
UID:352cc97d-7414-4557-a4ef-a6ec40b330e5
STATUS:CONFIRMED
LAST-MODIFIED:20250402T102046Z
DESCRIPTION:3. Liga Herren Gruppe 4\nBegegnungs-Nr: 0\nHeim: Buchs Zürich\nGast: Young Stars ZH VII\n\nAdresse: Schulstrasse 73\, 8105 Regensdorf\n
LOCATION:Schulstrasse 73\, 8105 Regensdorf
CATEGORIES:Saison 2024/25
END:VEVENT
BEGIN:VEVENT
DTSTAMP:20260425T004855Z
DTSTART;TZID=Europe/Berlin:20250221T201500
DTEND;TZID=Europe/Berlin:20250221T231500
SUMMARY:HE 3. Liga Gr. 4 Buchs Zürich vs Niederhasli III (0)
UID:dcb847a8-6b32-413f-a28c-d948339b5da2
STATUS:CONFIRMED
LAST-MODIFIED:20250227T112452Z
DESCRIPTION:3. Liga Herren Gruppe 4\nBegegnungs-Nr: 0\nHeim: Buchs Zürich\nGast: Niederhasli III\n\nAdresse: Drisglerstrasse 3\, 8107 Buchs ZH\n
LOCATION:Drisglerstrasse 3\, 8107 Buchs ZH
CATEGORIES:Saison 2024/25
END:VEVENT
BEGIN:VEVENT
DTSTAMP:20260425T004855Z
DTSTART;TZID=Europe/Berlin:20250127T201500
DTEND;TZID=Europe/Berlin:20250127T231500
SUMMARY:HE 3. Liga Gr. 4 Buchs Zürich vs Dietikon-Weiningen (0)
UID:c26c1f80-bddb-4925-90e9-df1569abfa4e
STATUS:CONFIRMED
LAST-MODIFIED:20250128T105432Z
DESCRIPTION:3. Liga Herren Gruppe 4\nBegegnungs-Nr: 0\nHeim: Buchs Zürich\nGast: Dietikon-Weiningen\n\nAdresse: Schulstrasse 73\, 8105 Regensdorf\n
LOCATION:Schulstrasse 73\, 8105 Regensdorf
CATEGORIES:Saison 2024/25
END:VEVENT
BEGIN:VEVENT
DTSTAMP:20260425T004855Z
DTSTART;TZID=Europe/Berlin:20250106T201500
DTEND;TZID=Europe/Berlin:20250106T231500
SUMMARY:HE 3. Liga Gr. 4 Buchs Zürich vs Embrachertal II (0)
UID:1ff2e52d-bdc9-41fc-955a-adb07d7346c8
STATUS:CONFIRMED
LAST-MODIFIED:20250110T150735Z
DESCRIPTION:3. Liga Herren Gruppe 4\nBegegnungs-Nr: 0\nHeim: Buchs Zürich\nGast: Embrachertal II\n\nAdresse: Schulstrasse 73\, 8105 Regensdorf\n
LOCATION:Schulstrasse 73\, 8105 Regensdorf
CATEGORIES:Saison 2024/25
END:VEVENT
BEGIN:VEVENT
DTSTAMP:20260425T004855Z
DTSTART;TZID=Europe/Berlin:20241204T201500
DTEND;TZID=Europe/Berlin:20241204T231500
SUMMARY:HE 3. Liga Gr. 4 Urdorf vs Buchs Zürich (0)
UID:32c725d5-0740-4341-b0ee-74caa0fac53d
STATUS:CONFIRMED
LAST-MODIFIED:20241205T085629Z
DESCRIPTION:3. Liga Herren Gruppe 4\nBegegnungs-Nr: 0\nHeim: Urdorf\nGast: Buchs Zürich\n\nAdresse: Weihermattstrasse 50\, 8902 Urdorf\n
LOCATION:Weihermattstrasse 50\, 8902 Urdorf
CATEGORIES:Saison 2024/25
END:VEVENT
BEGIN:VEVENT
DTSTAMP:20260425T004855Z
DTSTART;TZID=Europe/Berlin:20241030T201500
DTEND;TZID=Europe/Berlin:20241030T231500
SUMMARY:HE 3. Liga Gr. 4 Young Stars ZH VII vs Buchs Zürich (0)
UID:336e31d0-1127-4947-8ceb-eb0035d96046
STATUS:CONFIRMED
LAST-MODIFIED:20241107T154117Z
DESCRIPTION:3. Liga Herren Gruppe 4\nBegegnungs-Nr: 0\nHeim: Young Stars ZH VII\nGast: Buchs Zürich\n\nAdresse: Seefeldstrasse 93\, 8008 Zürich\n
LOCATION:Seefeldstrasse 93\, 8008 Zürich
CATEGORIES:Saison 2024/25
END:VEVENT
BEGIN:VEVENT
DTSTAMP:20260425T004855Z
DTSTART;TZID=Europe/Berlin:20240917T200000
DTEND;TZID=Europe/Berlin:20240917T230000
SUMMARY:HE 3. Liga Gr. 4 Dietikon-Weiningen vs Buchs Zürich (0)
UID:fa19c347-36ed-4005-a4e4-14b14b839f83
STATUS:CONFIRMED
LAST-MODIFIED:20240918T101058Z
DESCRIPTION:3. Liga Herren Gruppe 4\nBegegnungs-Nr: 0\nHeim: Dietikon-Weiningen\nGast: Buchs Zürich\n\nAdresse: Bohnackerstrasse 5\, 8953 Dietikon\n
LOCATION:Bohnackerstrasse 5\, 8953 Dietikon
CATEGORIES:Saison 2024/25
END:VEVENT
BEGIN:VEVENT
DTSTAMP:20260425T004855Z
DTSTART;TZID=Europe/Berlin:20240903T193000
DTEND;TZID=Europe/Berlin:20240903T223000
SUMMARY:HE 3. Liga Gr. 4 Embrachertal II vs Buchs Zürich (0)
UID:091806ac-0a2e-42ea-9b27-286c7389bae5
STATUS:CONFIRMED
LAST-MODIFIED:20240904T094120Z
DESCRIPTION:3. Liga Herren Gruppe 4\nBegegnungs-Nr: 0\nHeim: Embrachertal II\nGast: Buchs Zürich\n\nAdresse: Hintermarchlenstrasse 31 + 33\, 8426 Lufingen\n
LOCATION:Hintermarchlenstrasse 31 + 33\, 8426 Lufingen
CATEGORIES:Saison 2024/25
END:VEVENT
BEGIN:VEVENT
DTSTAMP:20260425T004855Z
DTSTART;TZID=Europe/Berlin:20250312T201500
DTEND;TZID=Europe/Berlin:20250312T231500
SUMMARY:HE 3. Liga Gr. 4 Zürich-Affoltern V vs Buchs Zürich (0)
UID:217caf04-228d-44fb-b1c6-a7cc90ae6d1a
STATUS:CONFIRMED
LAST-MODIFIED:20250313T100816Z
DESCRIPTION:3. Liga Herren Gruppe 4\nBegegnungs-Nr: 0\nHeim: Zürich-Affoltern V\nGast: Buchs Zürich\n
LOCATION:
CATEGORIES:Saison 2024/25
END:VEVENT
BEGIN:VEVENT
DTSTAMP:20260425T004855Z
DTSTART;TZID=Europe/Berlin:20250123T201500
DTEND;TZID=Europe/Berlin:20250123T231500
SUMMARY:HE 3. Liga Gr. 4 Bülach II vs Buchs Zürich (0)
UID:07836517-babb-49e4-846c-cd2a1a7009d0
STATUS:CONFIRMED
LAST-MODIFIED:20250128T105420Z
DESCRIPTION:3. Liga Herren Gruppe 4\nBegegnungs-Nr: 0\nHeim: Bülach II\nGast: Buchs Zürich\n\nAdresse: Unterweg 51\, 8180 Bülach\n
LOCATION:Unterweg 51\, 8180 Bülach
CATEGORIES:Saison 2024/25
END:VEVENT
END:VCALENDAR
