BEGIN:VCALENDAR
PRODID:-//nuDatenautomaten//framework iCal4j //DE
VERSION:2.0
CALSCALE:GREGORIAN
BEGIN:VTIMEZONE
TZID:Europe/Berlin
LAST-MODIFIED:20260306T231828Z
TZURL:https://www.tzurl.org/zoneinfo/Europe/Berlin
X-LIC-LOCATION:Europe/Berlin
X-PROLEPTIC-TZNAME:LMT
BEGIN:STANDARD
TZNAME:CET
TZOFFSETFROM:+005328
TZOFFSETTO:+0100
DTSTART:18930401T000000
END:STANDARD
BEGIN:DAYLIGHT
TZNAME:CEST
TZOFFSETFROM:+0100
TZOFFSETTO:+0200
DTSTART:19160430T230000
RDATE:19400401T020000
RDATE:19430329T020000
RDATE:19460414T020000
RDATE:19470406T030000
RDATE:19480418T020000
RDATE:19490410T020000
RDATE:19800406T020000
END:DAYLIGHT
BEGIN:STANDARD
TZNAME:CET
TZOFFSETFROM:+0200
TZOFFSETTO:+0100
DTSTART:19161001T010000
RDATE:19421102T030000
RDATE:19431004T030000
RDATE:19441002T030000
RDATE:19451118T030000
RDATE:19461007T030000
END:STANDARD
BEGIN:DAYLIGHT
TZNAME:CEST
TZOFFSETFROM:+0100
TZOFFSETTO:+0200
DTSTART:19170416T020000
RRULE:FREQ=YEARLY;UNTIL=19180415T010000Z;BYMONTH=4;BYDAY=3MO
END:DAYLIGHT
BEGIN:STANDARD
TZNAME:CET
TZOFFSETFROM:+0200
TZOFFSETTO:+0100
DTSTART:19170917T030000
RRULE:FREQ=YEARLY;UNTIL=19180916T010000Z;BYMONTH=9;BYDAY=3MO
END:STANDARD
BEGIN:DAYLIGHT
TZNAME:CEST
TZOFFSETFROM:+0100
TZOFFSETTO:+0200
DTSTART:19440403T020000
RRULE:FREQ=YEARLY;UNTIL=19450402T010000Z;BYMONTH=4;BYDAY=1MO
END:DAYLIGHT
BEGIN:DAYLIGHT
TZNAME:CEMT
TZOFFSETFROM:+0200
TZOFFSETTO:+0300
DTSTART:19450524T020000
RDATE:19470511T030000
END:DAYLIGHT
BEGIN:DAYLIGHT
TZNAME:CEST
TZOFFSETFROM:+0300
TZOFFSETTO:+0200
DTSTART:19450924T030000
RDATE:19470629T030000
END:DAYLIGHT
BEGIN:STANDARD
TZNAME:CET
TZOFFSETFROM:+0100
TZOFFSETTO:+0100
DTSTART:19460101T000000
RDATE:19800101T000000
END:STANDARD
BEGIN:STANDARD
TZNAME:CET
TZOFFSETFROM:+0200
TZOFFSETTO:+0100
DTSTART:19471005T030000
RRULE:FREQ=YEARLY;UNTIL=19491002T010000Z;BYMONTH=10;BYDAY=1SU
END:STANDARD
BEGIN:STANDARD
TZNAME:CET
TZOFFSETFROM:+0200
TZOFFSETTO:+0100
DTSTART:19800928T030000
RRULE:FREQ=YEARLY;UNTIL=19950924T010000Z;BYMONTH=9;BYDAY=-1SU
END:STANDARD
BEGIN:DAYLIGHT
TZNAME:CEST
TZOFFSETFROM:+0100
TZOFFSETTO:+0200
DTSTART:19810329T020000
RRULE:FREQ=YEARLY;BYMONTH=3;BYDAY=-1SU
END:DAYLIGHT
BEGIN:STANDARD
TZNAME:CET
TZOFFSETFROM:+0200
TZOFFSETTO:+0100
DTSTART:19961027T030000
RRULE:FREQ=YEARLY;BYMONTH=10;BYDAY=-1SU
END:STANDARD
END:VTIMEZONE
BEGIN:VEVENT
DTSTAMP:20260425T004946Z
DTSTART;TZID=Europe/Berlin:20240831T130000
DTEND;TZID=Europe/Berlin:20240831T160000
SUMMARY:JUG\, 3.Liga\, Gr.7\, Vorrunde Horn vs Romanshorn (1)
UID:feccd494-1268-42cd-82ae-0ad50f4f46f1
STATUS:CONFIRMED
LAST-MODIFIED:20240904T133444Z
DESCRIPTION:Jugend\, 3. Liga\,Gruppe 7\, Vorrunde\nBegegnungs-Nr: 1\nHeim: Horn\nGast: Romanshorn\nHalle: Poule in Horn\, TH Feldstrasse\nAdresse: Feldstrasse 16\, 9326 Horn\n
LOCATION:Poule in Horn\, TH Feldstrasse Feldstrasse 16\, 9326 Horn
CATEGORIES:Saison 2024/25
END:VEVENT
BEGIN:VEVENT
DTSTAMP:20260425T004946Z
DTSTART;TZID=Europe/Berlin:20240831T143000
DTEND;TZID=Europe/Berlin:20240831T173000
SUMMARY:JUG\, 3.Liga\, Gr.7\, Vorrunde Horn vs St. Gallen IV (4)
UID:3867a333-083d-487d-a1f2-b373c4a3b7a2
STATUS:CONFIRMED
LAST-MODIFIED:20240904T133512Z
DESCRIPTION:Jugend\, 3. Liga\,Gruppe 7\, Vorrunde\nBegegnungs-Nr: 4\nHeim: Horn\nGast: St. Gallen IV\n\nAdresse: Feldstrasse 16\, 9326 Horn\n
LOCATION:Feldstrasse 16\, 9326 Horn
CATEGORIES:Saison 2024/25
END:VEVENT
BEGIN:VEVENT
DTSTAMP:20260425T004946Z
DTSTART;TZID=Europe/Berlin:20241116T130000
DTEND;TZID=Europe/Berlin:20241116T160000
SUMMARY:JUG\, 3.Liga\, Gr.4\, Zw-Runde Horn vs Weinfelden (1)
UID:eed972d9-c135-4ba2-b98b-0abb48718f23
STATUS:CONFIRMED
LAST-MODIFIED:20241122T153126Z
DESCRIPTION:Jugend\, 3. Liga\, Gruppe 4\, Zw-Runde\nBegegnungs-Nr: 1\nHeim: Horn\nGast: Weinfelden\n
LOCATION:
CATEGORIES:Saison 2024/25
END:VEVENT
BEGIN:VEVENT
DTSTAMP:20260425T004946Z
DTSTART;TZID=Europe/Berlin:20241116T143000
DTEND;TZID=Europe/Berlin:20241116T173000
SUMMARY:JUG\, 3.Liga\, Gr.4\, Zw-Runde Horn vs Wädenswil III (4)
UID:98454a6c-e6ca-48e6-92f5-23c7b63d6425
STATUS:CONFIRMED
LAST-MODIFIED:20241122T153154Z
DESCRIPTION:Jugend\, 3. Liga\, Gruppe 4\, Zw-Runde\nBegegnungs-Nr: 4\nHeim: Horn\nGast: Wädenswil III\n
LOCATION:
CATEGORIES:Saison 2024/25
END:VEVENT
BEGIN:VEVENT
DTSTAMP:20260425T004946Z
DTSTART;TZID=Europe/Berlin:20250329T130000
DTEND;TZID=Europe/Berlin:20250329T160000
SUMMARY:JUG\, 3.Liga\, Gr.3\, Final Horn vs Buchs Zürich (1)
UID:8cf973cd-0a1c-43d7-abe5-be1cb12f8587
STATUS:CONFIRMED
LAST-MODIFIED:20250404T085217Z
DESCRIPTION:Jugend\, 3. Liga\, Gruppe 3\, Final\nBegegnungs-Nr: 1\nHeim: Horn\nGast: Buchs Zürich\nHalle: Poule in Horn\, TH Feldstrasse\nAdresse: Feldstrasse 16\, 9326 Horn\n
LOCATION:Poule in Horn\, TH Feldstrasse Feldstrasse 16\, 9326 Horn
CATEGORIES:Saison 2024/25
END:VEVENT
BEGIN:VEVENT
DTSTAMP:20260425T004946Z
DTSTART;TZID=Europe/Berlin:20250329T143000
DTEND;TZID=Europe/Berlin:20250329T173000
SUMMARY:JUG\, 3.Liga\, Gr.3\, Final Horn vs Zürich-Affoltern III (4)
UID:cad52d42-b576-456a-b675-4d772846e223
STATUS:CONFIRMED
LAST-MODIFIED:20250404T085247Z
DESCRIPTION:Jugend\, 3. Liga\, Gruppe 3\, Final\nBegegnungs-Nr: 4\nHeim: Horn\nGast: Zürich-Affoltern III\n
LOCATION:
CATEGORIES:Saison 2024/25
END:VEVENT
BEGIN:VEVENT
DTSTAMP:20260425T004946Z
DTSTART;TZID=Europe/Berlin:20240831T160000
DTEND;TZID=Europe/Berlin:20240831T190000
SUMMARY:JUG\, 3.Liga\, Gr.7\, Vorrunde Gossau St.Gallen vs Horn (6)
UID:8db5b6d5-3530-456c-8227-2b71410dc868
STATUS:CONFIRMED
LAST-MODIFIED:20240904T133533Z
DESCRIPTION:Jugend\, 3. Liga\,Gruppe 7\, Vorrunde\nBegegnungs-Nr: 6\nHeim: Gossau St.Gallen\nGast: Horn\n\nAdresse: Falkenstrasse 21\, 9200 Gossau\n
LOCATION:Falkenstrasse 21\, 9200 Gossau
CATEGORIES:Saison 2024/25
END:VEVENT
BEGIN:VEVENT
DTSTAMP:20260425T004946Z
DTSTART;TZID=Europe/Berlin:20241116T160000
DTEND;TZID=Europe/Berlin:20241116T190000
SUMMARY:JUG\, 3.Liga\, Gr.4\, Zw-Runde Rapperswil-Jona III vs Horn (6)
UID:15fb3dd0-6244-467b-a0de-8ea78a6e6712
STATUS:CONFIRMED
LAST-MODIFIED:20241122T153212Z
DESCRIPTION:Jugend\, 3. Liga\, Gruppe 4\, Zw-Runde\nBegegnungs-Nr: 6\nHeim: Rapperswil-Jona III\nGast: Horn\n
LOCATION:
CATEGORIES:Saison 2024/25
END:VEVENT
BEGIN:VEVENT
DTSTAMP:20260425T004946Z
DTSTART;TZID=Europe/Berlin:20250329T160000
DTEND;TZID=Europe/Berlin:20250329T190000
SUMMARY:JUG\, 3.Liga\, Gr.3\, Final Zürich-Affoltern IV vs Horn (6)
UID:297a8c4d-aacf-41fa-8bb5-45e00565dceb
STATUS:CONFIRMED
LAST-MODIFIED:20250404T085333Z
DESCRIPTION:Jugend\, 3. Liga\, Gruppe 3\, Final\nBegegnungs-Nr: 6\nHeim: Zürich-Affoltern IV\nGast: Horn\n
LOCATION:
CATEGORIES:Saison 2024/25
END:VEVENT
END:VCALENDAR
