BEGIN:VCALENDAR
PRODID:-//nuDatenautomaten//framework iCal4j //DE
VERSION:2.0
CALSCALE:GREGORIAN
BEGIN:VTIMEZONE
TZID:Europe/Berlin
LAST-MODIFIED:20260306T231828Z
TZURL:https://www.tzurl.org/zoneinfo/Europe/Berlin
X-LIC-LOCATION:Europe/Berlin
X-PROLEPTIC-TZNAME:LMT
BEGIN:STANDARD
TZNAME:CET
TZOFFSETFROM:+005328
TZOFFSETTO:+0100
DTSTART:18930401T000000
END:STANDARD
BEGIN:DAYLIGHT
TZNAME:CEST
TZOFFSETFROM:+0100
TZOFFSETTO:+0200
DTSTART:19160430T230000
RDATE:19400401T020000
RDATE:19430329T020000
RDATE:19460414T020000
RDATE:19470406T030000
RDATE:19480418T020000
RDATE:19490410T020000
RDATE:19800406T020000
END:DAYLIGHT
BEGIN:STANDARD
TZNAME:CET
TZOFFSETFROM:+0200
TZOFFSETTO:+0100
DTSTART:19161001T010000
RDATE:19421102T030000
RDATE:19431004T030000
RDATE:19441002T030000
RDATE:19451118T030000
RDATE:19461007T030000
END:STANDARD
BEGIN:DAYLIGHT
TZNAME:CEST
TZOFFSETFROM:+0100
TZOFFSETTO:+0200
DTSTART:19170416T020000
RRULE:FREQ=YEARLY;UNTIL=19180415T010000Z;BYMONTH=4;BYDAY=3MO
END:DAYLIGHT
BEGIN:STANDARD
TZNAME:CET
TZOFFSETFROM:+0200
TZOFFSETTO:+0100
DTSTART:19170917T030000
RRULE:FREQ=YEARLY;UNTIL=19180916T010000Z;BYMONTH=9;BYDAY=3MO
END:STANDARD
BEGIN:DAYLIGHT
TZNAME:CEST
TZOFFSETFROM:+0100
TZOFFSETTO:+0200
DTSTART:19440403T020000
RRULE:FREQ=YEARLY;UNTIL=19450402T010000Z;BYMONTH=4;BYDAY=1MO
END:DAYLIGHT
BEGIN:DAYLIGHT
TZNAME:CEMT
TZOFFSETFROM:+0200
TZOFFSETTO:+0300
DTSTART:19450524T020000
RDATE:19470511T030000
END:DAYLIGHT
BEGIN:DAYLIGHT
TZNAME:CEST
TZOFFSETFROM:+0300
TZOFFSETTO:+0200
DTSTART:19450924T030000
RDATE:19470629T030000
END:DAYLIGHT
BEGIN:STANDARD
TZNAME:CET
TZOFFSETFROM:+0100
TZOFFSETTO:+0100
DTSTART:19460101T000000
RDATE:19800101T000000
END:STANDARD
BEGIN:STANDARD
TZNAME:CET
TZOFFSETFROM:+0200
TZOFFSETTO:+0100
DTSTART:19471005T030000
RRULE:FREQ=YEARLY;UNTIL=19491002T010000Z;BYMONTH=10;BYDAY=1SU
END:STANDARD
BEGIN:STANDARD
TZNAME:CET
TZOFFSETFROM:+0200
TZOFFSETTO:+0100
DTSTART:19800928T030000
RRULE:FREQ=YEARLY;UNTIL=19950924T010000Z;BYMONTH=9;BYDAY=-1SU
END:STANDARD
BEGIN:DAYLIGHT
TZNAME:CEST
TZOFFSETFROM:+0100
TZOFFSETTO:+0200
DTSTART:19810329T020000
RRULE:FREQ=YEARLY;BYMONTH=3;BYDAY=-1SU
END:DAYLIGHT
BEGIN:STANDARD
TZNAME:CET
TZOFFSETFROM:+0200
TZOFFSETTO:+0100
DTSTART:19961027T030000
RRULE:FREQ=YEARLY;BYMONTH=10;BYDAY=-1SU
END:STANDARD
END:VTIMEZONE
BEGIN:VEVENT
DTSTAMP:20260425T004227Z
DTSTART;TZID=Europe/Berlin:20240925T194500
DTEND;TZID=Europe/Berlin:20240925T224500
SUMMARY:Ligue 3 Gr.1 Ph.A Silver Star V vs Onex III (8)
UID:6f70e44e-4869-47e0-9d45-e290efaa2b38
STATUS:CONFIRMED
LAST-MODIFIED:20240926T050158Z
DESCRIPTION:3ème ligue Hommes Gr.1 Phase A\nBegegnungs-Nr: 8\nHeim: Silver Star V\nGast: Onex III\n
LOCATION:
CATEGORIES:Saison 2024/25
END:VEVENT
BEGIN:VEVENT
DTSTAMP:20260425T004227Z
DTSTART;TZID=Europe/Berlin:20241113T194500
DTEND;TZID=Europe/Berlin:20241113T224500
SUMMARY:Ligue 3 Gr.1 Ph.A Silver Star V vs Versoix III (20)
UID:d428dcea-7acd-491e-aadb-2d2aee186bd4
STATUS:CONFIRMED
LAST-MODIFIED:20241114T073653Z
DESCRIPTION:3ème ligue Hommes Gr.1 Phase A\nBegegnungs-Nr: 20\nHeim: Silver Star V\nGast: Versoix III\n
LOCATION:
CATEGORIES:Saison 2024/25
END:VEVENT
BEGIN:VEVENT
DTSTAMP:20260425T004227Z
DTSTART;TZID=Europe/Berlin:20240911T194500
DTEND;TZID=Europe/Berlin:20240911T224500
SUMMARY:Ligue 3 Gr.1 Ph.A Silver Star V vs Meyrin III (2)
UID:b47bf156-c9f4-41ef-a1c9-3f067ca27e26
STATUS:CONFIRMED
LAST-MODIFIED:20240912T083239Z
DESCRIPTION:3ème ligue Hommes Gr.1 Phase A\nBegegnungs-Nr: 2\nHeim: Silver Star V\nGast: Meyrin III\n
LOCATION:
CATEGORIES:Saison 2024/25
END:VEVENT
BEGIN:VEVENT
DTSTAMP:20260425T004227Z
DTSTART;TZID=Europe/Berlin:20241204T194500
DTEND;TZID=Europe/Berlin:20241204T224500
SUMMARY:Ligue 3 Gr.1 Ph.A Silver Star V vs UGS-Chênois VI (28)
UID:99768422-e57d-46d8-a486-d3f1ac3e789e
STATUS:CONFIRMED
LAST-MODIFIED:20241205T085629Z
DESCRIPTION:3ème ligue Hommes Gr.1 Phase A\nBegegnungs-Nr: 28\nHeim: Silver Star V\nGast: UGS-Chênois VI\n
LOCATION:
CATEGORIES:Saison 2024/25
END:VEVENT
BEGIN:VEVENT
DTSTAMP:20260425T004227Z
DTSTART;TZID=Europe/Berlin:20241127T194500
DTEND;TZID=Europe/Berlin:20241127T224500
SUMMARY:Ligue 3 Gr.1 Ph.A Silver Star V vs Carouge V (27)
UID:433c0cc3-c18c-44ea-ade3-ff162a4b6c2a
STATUS:CONFIRMED
LAST-MODIFIED:20241128T173427Z
DESCRIPTION:3ème ligue Hommes Gr.1 Phase A\nBegegnungs-Nr: 27\nHeim: Silver Star V\nGast: Carouge V\n\nAdresse: Rue de Vermont 33\, 1202 Genève\n
LOCATION:Rue de Vermont 33\, 1202 Genève
CATEGORIES:Saison 2024/25
END:VEVENT
BEGIN:VEVENT
DTSTAMP:20260425T004227Z
DTSTART;TZID=Europe/Berlin:20250416T194500
DTEND;TZID=Europe/Berlin:20250416T224500
SUMMARY:Ligue 3 Gr.2 Ph.B Silver Star V vs ZZ-Lancy V (28)
UID:e619fef7-123b-4ffe-ad6a-5f73cc272ce4
STATUS:CONFIRMED
LAST-MODIFIED:20250417T093543Z
DESCRIPTION:3ème ligue Hommes Gr.2 Phase B\nBegegnungs-Nr: 28\nHeim: Silver Star V\nGast: ZZ-Lancy V\n
LOCATION:
CATEGORIES:Saison 2024/25
END:VEVENT
BEGIN:VEVENT
DTSTAMP:20260425T004227Z
DTSTART;TZID=Europe/Berlin:20250319T194500
DTEND;TZID=Europe/Berlin:20250319T224500
SUMMARY:Ligue 3 Gr.2 Ph.B Silver Star V vs Versoix III (20)
UID:0b4b3bc0-d42d-4788-826e-773e45686b43
STATUS:CONFIRMED
LAST-MODIFIED:20250320T085055Z
DESCRIPTION:3ème ligue Hommes Gr.2 Phase B\nBegegnungs-Nr: 20\nHeim: Silver Star V\nGast: Versoix III\n
LOCATION:
CATEGORIES:Saison 2024/25
END:VEVENT
BEGIN:VEVENT
DTSTAMP:20260425T004227Z
DTSTART;TZID=Europe/Berlin:20250115T194500
DTEND;TZID=Europe/Berlin:20250115T224500
SUMMARY:Ligue 3 Gr.2 Ph.B Silver Star V vs Mandement V (2)
UID:5ba0ec14-e342-4742-b387-253811298f67
STATUS:CONFIRMED
LAST-MODIFIED:20250116T090036Z
DESCRIPTION:3ème ligue Hommes Gr.2 Phase B\nBegegnungs-Nr: 2\nHeim: Silver Star V\nGast: Mandement V\n
LOCATION:
CATEGORIES:Saison 2024/25
END:VEVENT
BEGIN:VEVENT
DTSTAMP:20260425T004227Z
DTSTART;TZID=Europe/Berlin:20250212T194500
DTEND;TZID=Europe/Berlin:20250212T224500
SUMMARY:Ligue 3 Gr.2 Ph.B Silver Star V vs Bernex V (12)
UID:b23773d4-495f-4ac2-b7d1-df7363f9075b
STATUS:CONFIRMED
LAST-MODIFIED:20250213T074425Z
DESCRIPTION:3ème ligue Hommes Gr.2 Phase B\nBegegnungs-Nr: 12\nHeim: Silver Star V\nGast: Bernex V\n
LOCATION:
CATEGORIES:Saison 2024/25
END:VEVENT
BEGIN:VEVENT
DTSTAMP:20260425T004227Z
DTSTART;TZID=Europe/Berlin:20250129T194500
DTEND;TZID=Europe/Berlin:20250129T224500
SUMMARY:Ligue 3 Gr.2 Ph.B Silver Star V vs UGS-Chênois VIII (8)
UID:9f89efad-c016-4fe4-980c-4172ab53b072
STATUS:CONFIRMED
LAST-MODIFIED:20250130T091454Z
DESCRIPTION:3ème ligue Hommes Gr.2 Phase B\nBegegnungs-Nr: 8\nHeim: Silver Star V\nGast: UGS-Chênois VIII\n
LOCATION:
CATEGORIES:Saison 2024/25
END:VEVENT
BEGIN:VEVENT
DTSTAMP:20260425T004227Z
DTSTART;TZID=Europe/Berlin:20241120T194500
DTEND;TZID=Europe/Berlin:20241120T224500
SUMMARY:Ligue 3 Gr.1 Ph.A Onex III vs Silver Star V (23)
UID:773dae6b-9dfe-415a-a47a-b4e89a355a31
STATUS:CONFIRMED
LAST-MODIFIED:20241121T111404Z
DESCRIPTION:3ème ligue Hommes Gr.1 Phase A\nBegegnungs-Nr: 23\nHeim: Onex III\nGast: Silver Star V\n
LOCATION:
CATEGORIES:Saison 2024/25
END:VEVENT
BEGIN:VEVENT
DTSTAMP:20260425T004227Z
DTSTART;TZID=Europe/Berlin:20241016T194500
DTEND;TZID=Europe/Berlin:20241016T224500
SUMMARY:Ligue 3 Gr.1 Ph.A UGS-Chênois VI vs Silver Star V (13)
UID:15eb18b1-ddad-417a-943f-ce0993607584
STATUS:CONFIRMED
LAST-MODIFIED:20241018T190850Z
DESCRIPTION:3ème ligue Hommes Gr.1 Phase A\nBegegnungs-Nr: 13\nHeim: UGS-Chênois VI\nGast: Silver Star V\n
LOCATION:
CATEGORIES:Saison 2024/25
END:VEVENT
BEGIN:VEVENT
DTSTAMP:20260425T004227Z
DTSTART;TZID=Europe/Berlin:20241009T194500
DTEND;TZID=Europe/Berlin:20241009T224500
SUMMARY:Ligue 3 Gr.1 Ph.A Carouge V vs Silver Star V (12)
UID:9de3a0b1-ef7d-42d4-bada-cefe3ec893ae
STATUS:CONFIRMED
LAST-MODIFIED:20241010T074920Z
DESCRIPTION:3ème ligue Hommes Gr.1 Phase A\nBegegnungs-Nr: 12\nHeim: Carouge V\nGast: Silver Star V\n\nAdresse: Route de Veyrier 44\, 1227 Carouge GE\n
LOCATION:Route de Veyrier 44\, 1227 Carouge GE
CATEGORIES:Saison 2024/25
END:VEVENT
BEGIN:VEVENT
DTSTAMP:20260425T004227Z
DTSTART;TZID=Europe/Berlin:20240918T194500
DTEND;TZID=Europe/Berlin:20240918T224500
SUMMARY:Ligue 3 Gr.1 Ph.A Versoix III vs Silver Star V (5)
UID:1a4131e6-5848-45c2-a3e5-3b30be434ee0
STATUS:CONFIRMED
LAST-MODIFIED:20240919T085622Z
DESCRIPTION:3ème ligue Hommes Gr.1 Phase A\nBegegnungs-Nr: 5\nHeim: Versoix III\nGast: Silver Star V\n
LOCATION:
CATEGORIES:Saison 2024/25
END:VEVENT
BEGIN:VEVENT
DTSTAMP:20260425T004227Z
DTSTART;TZID=Europe/Berlin:20241030T194500
DTEND;TZID=Europe/Berlin:20241030T224500
SUMMARY:Ligue 3 Gr.1 Ph.A Meyrin III vs Silver Star V (17)
UID:b28b50d1-e425-4dc4-8587-a0426ee066b1
STATUS:CONFIRMED
LAST-MODIFIED:20241031T202728Z
DESCRIPTION:3ème ligue Hommes Gr.1 Phase A\nBegegnungs-Nr: 17\nHeim: Meyrin III\nGast: Silver Star V\n
LOCATION:
CATEGORIES:Saison 2024/25
END:VEVENT
BEGIN:VEVENT
DTSTAMP:20260425T004227Z
DTSTART;TZID=Europe/Berlin:20250514T194500
DTEND;TZID=Europe/Berlin:20250514T224500
SUMMARY:Ligue 3 barrage 1 maintien ZZ-Lancy VIII vs Silver Star V (1)
UID:14768206-8cd8-4e1d-87f0-b1b3d42f8953
STATUS:CONFIRMED
LAST-MODIFIED:20250515T164532Z
DESCRIPTION:3ème ligue Hommes barrage 1 maintien\nBegegnungs-Nr: 1\nHeim: ZZ-Lancy VIII\nGast: Silver Star V\n
LOCATION:
CATEGORIES:Saison 2024/25
END:VEVENT
BEGIN:VEVENT
DTSTAMP:20260425T004227Z
DTSTART;TZID=Europe/Berlin:20250409T194500
DTEND;TZID=Europe/Berlin:20250409T224500
SUMMARY:Ligue 3 Gr.2 Ph.B Bernex V vs Silver Star V (27)
UID:0d406673-63e2-4fd3-8ba0-3f98a270f6bc
STATUS:CONFIRMED
LAST-MODIFIED:20250410T213924Z
DESCRIPTION:3ème ligue Hommes Gr.2 Phase B\nBegegnungs-Nr: 27\nHeim: Bernex V\nGast: Silver Star V\n
LOCATION:
CATEGORIES:Saison 2024/25
END:VEVENT
BEGIN:VEVENT
DTSTAMP:20260425T004227Z
DTSTART;TZID=Europe/Berlin:20250402T194500
DTEND;TZID=Europe/Berlin:20250402T224500
SUMMARY:Ligue 3 Gr.2 Ph.B UGS-Chênois VIII vs Silver Star V (23)
UID:c7161e8a-1ab6-4725-9272-33ef3fee1907
STATUS:CONFIRMED
LAST-MODIFIED:20250403T080516Z
DESCRIPTION:3ème ligue Hommes Gr.2 Phase B\nBegegnungs-Nr: 23\nHeim: UGS-Chênois VIII\nGast: Silver Star V\n
LOCATION:
CATEGORIES:Saison 2024/25
END:VEVENT
BEGIN:VEVENT
DTSTAMP:20260425T004227Z
DTSTART;TZID=Europe/Berlin:20250312T194500
DTEND;TZID=Europe/Berlin:20250312T224500
SUMMARY:Ligue 3 Gr.2 Ph.B Mandement V vs Silver Star V (17)
UID:83797747-668f-4842-b7c0-1848d0ad3522
STATUS:CONFIRMED
LAST-MODIFIED:20250313T202855Z
DESCRIPTION:3ème ligue Hommes Gr.2 Phase B\nBegegnungs-Nr: 17\nHeim: Mandement V\nGast: Silver Star V\n\nAdresse: Route de la Gare de Satigny 27A\, 1242 Satigny\n
LOCATION:Route de la Gare de Satigny 27A\, 1242 Satigny
CATEGORIES:Saison 2024/25
END:VEVENT
BEGIN:VEVENT
DTSTAMP:20260425T004227Z
DTSTART;TZID=Europe/Berlin:20250219T201500
DTEND;TZID=Europe/Berlin:20250219T231500
SUMMARY:Ligue 3 Gr.2 Ph.B ZZ-Lancy V vs Silver Star V (13)
UID:217fb211-4622-48bd-85e6-f600aed54a88
STATUS:CONFIRMED
LAST-MODIFIED:20250220T090126Z
DESCRIPTION:3ème ligue Hommes Gr.2 Phase B\nBegegnungs-Nr: 13\nHeim: ZZ-Lancy V\nGast: Silver Star V\n
LOCATION:
CATEGORIES:Saison 2024/25
END:VEVENT
BEGIN:VEVENT
DTSTAMP:20260425T004227Z
DTSTART;TZID=Europe/Berlin:20250122T194500
DTEND;TZID=Europe/Berlin:20250122T224500
SUMMARY:Ligue 3 Gr.2 Ph.B Versoix III vs Silver Star V (5)
UID:5a5ee61f-0f4c-48c2-8959-658cdf89f30b
STATUS:CONFIRMED
LAST-MODIFIED:20250123T085116Z
DESCRIPTION:3ème ligue Hommes Gr.2 Phase B\nBegegnungs-Nr: 5\nHeim: Versoix III\nGast: Silver Star V\n
LOCATION:
CATEGORIES:Saison 2024/25
END:VEVENT
END:VCALENDAR
