BEGIN:VCALENDAR
PRODID:-//nuDatenautomaten//framework iCal4j //DE
VERSION:2.0
CALSCALE:GREGORIAN
BEGIN:VTIMEZONE
TZID:Europe/Berlin
LAST-MODIFIED:20260306T231828Z
TZURL:https://www.tzurl.org/zoneinfo/Europe/Berlin
X-LIC-LOCATION:Europe/Berlin
X-PROLEPTIC-TZNAME:LMT
BEGIN:STANDARD
TZNAME:CET
TZOFFSETFROM:+005328
TZOFFSETTO:+0100
DTSTART:18930401T000000
END:STANDARD
BEGIN:DAYLIGHT
TZNAME:CEST
TZOFFSETFROM:+0100
TZOFFSETTO:+0200
DTSTART:19160430T230000
RDATE:19400401T020000
RDATE:19430329T020000
RDATE:19460414T020000
RDATE:19470406T030000
RDATE:19480418T020000
RDATE:19490410T020000
RDATE:19800406T020000
END:DAYLIGHT
BEGIN:STANDARD
TZNAME:CET
TZOFFSETFROM:+0200
TZOFFSETTO:+0100
DTSTART:19161001T010000
RDATE:19421102T030000
RDATE:19431004T030000
RDATE:19441002T030000
RDATE:19451118T030000
RDATE:19461007T030000
END:STANDARD
BEGIN:DAYLIGHT
TZNAME:CEST
TZOFFSETFROM:+0100
TZOFFSETTO:+0200
DTSTART:19170416T020000
RRULE:FREQ=YEARLY;UNTIL=19180415T010000Z;BYMONTH=4;BYDAY=3MO
END:DAYLIGHT
BEGIN:STANDARD
TZNAME:CET
TZOFFSETFROM:+0200
TZOFFSETTO:+0100
DTSTART:19170917T030000
RRULE:FREQ=YEARLY;UNTIL=19180916T010000Z;BYMONTH=9;BYDAY=3MO
END:STANDARD
BEGIN:DAYLIGHT
TZNAME:CEST
TZOFFSETFROM:+0100
TZOFFSETTO:+0200
DTSTART:19440403T020000
RRULE:FREQ=YEARLY;UNTIL=19450402T010000Z;BYMONTH=4;BYDAY=1MO
END:DAYLIGHT
BEGIN:DAYLIGHT
TZNAME:CEMT
TZOFFSETFROM:+0200
TZOFFSETTO:+0300
DTSTART:19450524T020000
RDATE:19470511T030000
END:DAYLIGHT
BEGIN:DAYLIGHT
TZNAME:CEST
TZOFFSETFROM:+0300
TZOFFSETTO:+0200
DTSTART:19450924T030000
RDATE:19470629T030000
END:DAYLIGHT
BEGIN:STANDARD
TZNAME:CET
TZOFFSETFROM:+0100
TZOFFSETTO:+0100
DTSTART:19460101T000000
RDATE:19800101T000000
END:STANDARD
BEGIN:STANDARD
TZNAME:CET
TZOFFSETFROM:+0200
TZOFFSETTO:+0100
DTSTART:19471005T030000
RRULE:FREQ=YEARLY;UNTIL=19491002T010000Z;BYMONTH=10;BYDAY=1SU
END:STANDARD
BEGIN:STANDARD
TZNAME:CET
TZOFFSETFROM:+0200
TZOFFSETTO:+0100
DTSTART:19800928T030000
RRULE:FREQ=YEARLY;UNTIL=19950924T010000Z;BYMONTH=9;BYDAY=-1SU
END:STANDARD
BEGIN:DAYLIGHT
TZNAME:CEST
TZOFFSETFROM:+0100
TZOFFSETTO:+0200
DTSTART:19810329T020000
RRULE:FREQ=YEARLY;BYMONTH=3;BYDAY=-1SU
END:DAYLIGHT
BEGIN:STANDARD
TZNAME:CET
TZOFFSETFROM:+0200
TZOFFSETTO:+0100
DTSTART:19961027T030000
RRULE:FREQ=YEARLY;BYMONTH=10;BYDAY=-1SU
END:STANDARD
END:VTIMEZONE
BEGIN:VEVENT
DTSTAMP:20260419T231537Z
DTSTART;TZID=Europe/Berlin:20241209T200000
DTEND;TZID=Europe/Berlin:20241209T230000
SUMMARY:L4P1 Centre Portugais vs Tramelan III (0)
UID:19712be8-6fd7-456e-b79a-98fa2b9289d4
STATUS:CONFIRMED
LAST-MODIFIED:20241212T063712Z
DESCRIPTION:4ème ligue phase 1\nBegegnungs-Nr: 0\nHeim: Centre Portugais\nGast: Tramelan III\n\nAdresse: -\, 2008 Neuchâtel 8\n
LOCATION:-\, 2008 Neuchâtel 8
CATEGORIES:Saison 2024/25
END:VEVENT
BEGIN:VEVENT
DTSTAMP:20260419T231537Z
DTSTART;TZID=Europe/Berlin:20241104T200000
DTEND;TZID=Europe/Berlin:20241104T230000
SUMMARY:L4P1 Centre Portugais vs Moutier II (0)
UID:058fe441-ace5-4a74-819f-466c43053d77
STATUS:CONFIRMED
LAST-MODIFIED:20241106T170538Z
DESCRIPTION:4ème ligue phase 1\nBegegnungs-Nr: 0\nHeim: Centre Portugais\nGast: Moutier II\n\nAdresse: -\, 2008 Neuchâtel 8\n
LOCATION:-\, 2008 Neuchâtel 8
CATEGORIES:Saison 2024/25
END:VEVENT
BEGIN:VEVENT
DTSTAMP:20260419T231537Z
DTSTART;TZID=Europe/Berlin:20241007T200000
DTEND;TZID=Europe/Berlin:20241007T230000
SUMMARY:L4P1 Centre Portugais vs Omega III (0)
UID:14a92a10-e40a-42e0-98bd-651641f1133e
STATUS:CONFIRMED
LAST-MODIFIED:20241010T112137Z
DESCRIPTION:4ème ligue phase 1\nBegegnungs-Nr: 0\nHeim: Centre Portugais\nGast: Omega III\n\nAdresse: -\, 2008 Neuchâtel 8\n
LOCATION:-\, 2008 Neuchâtel 8
CATEGORIES:Saison 2024/25
END:VEVENT
BEGIN:VEVENT
DTSTAMP:20260419T231537Z
DTSTART;TZID=Europe/Berlin:20240909T200000
DTEND;TZID=Europe/Berlin:20240909T230000
SUMMARY:L4P1 Centre Portugais vs Val-de-Ruz IV (0)
UID:4c809c42-420b-4ae2-85b9-7a185ac56352
STATUS:CONFIRMED
LAST-MODIFIED:20240924T160435Z
DESCRIPTION:4ème ligue phase 1\nBegegnungs-Nr: 0\nHeim: Centre Portugais\nGast: Val-de-Ruz IV\n\nAdresse: -\, 2008 Neuchâtel 8\n
LOCATION:-\, 2008 Neuchâtel 8
CATEGORIES:Saison 2024/25
END:VEVENT
BEGIN:VEVENT
DTSTAMP:20260419T231537Z
DTSTART;TZID=Europe/Berlin:20250113T200000
DTEND;TZID=Europe/Berlin:20250113T230000
SUMMARY:L5P2 Centre Portugais vs Tramelan IV (0)
UID:fdd4bc70-f230-43d3-ade3-d9640f8b77c8
STATUS:CONFIRMED
LAST-MODIFIED:20250121T142643Z
DESCRIPTION:5ème ligue phase 2\nBegegnungs-Nr: 0\nHeim: Centre Portugais\nGast: Tramelan IV\n\nAdresse: -\, 2008 Neuchâtel 8\n
LOCATION:-\, 2008 Neuchâtel 8
CATEGORIES:Saison 2024/25
END:VEVENT
BEGIN:VEVENT
DTSTAMP:20260419T231537Z
DTSTART;TZID=Europe/Berlin:20250127T200000
DTEND;TZID=Europe/Berlin:20250127T230000
SUMMARY:L5P2 Centre Portugais vs Delémont V (0)
UID:e389878c-d877-449a-895c-214b5538dc0b
STATUS:CONFIRMED
LAST-MODIFIED:20250128T152205Z
DESCRIPTION:5ème ligue phase 2\nBegegnungs-Nr: 0\nHeim: Centre Portugais\nGast: Delémont V\n\nAdresse: -\, 2008 Neuchâtel 8\n
LOCATION:-\, 2008 Neuchâtel 8
CATEGORIES:Saison 2024/25
END:VEVENT
BEGIN:VEVENT
DTSTAMP:20260419T231537Z
DTSTART;TZID=Europe/Berlin:20250224T200000
DTEND;TZID=Europe/Berlin:20250224T230000
SUMMARY:L5P2 Centre Portugais vs Omega IV (0)
UID:f74197c1-8d9d-4e1a-bde8-a6eb729e807d
STATUS:CONFIRMED
LAST-MODIFIED:20250228T065228Z
DESCRIPTION:5ème ligue phase 2\nBegegnungs-Nr: 0\nHeim: Centre Portugais\nGast: Omega IV\n\nAdresse: -\, 2008 Neuchâtel 8\n
LOCATION:-\, 2008 Neuchâtel 8
CATEGORIES:Saison 2024/25
END:VEVENT
BEGIN:VEVENT
DTSTAMP:20260419T231537Z
DTSTART;TZID=Europe/Berlin:20250407T200000
DTEND;TZID=Europe/Berlin:20250407T230000
SUMMARY:L5P2 Centre Portugais vs Porrentruy II (0)
UID:1ed835b3-9fb3-451e-a353-6e6b0a7abe9e
STATUS:CONFIRMED
LAST-MODIFIED:20250408T131634Z
DESCRIPTION:5ème ligue phase 2\nBegegnungs-Nr: 0\nHeim: Centre Portugais\nGast: Porrentruy II\n\nAdresse: -\, 2008 Neuchâtel 8\n
LOCATION:-\, 2008 Neuchâtel 8
CATEGORIES:Saison 2024/25
END:VEVENT
BEGIN:VEVENT
DTSTAMP:20260419T231537Z
DTSTART;TZID=Europe/Berlin:20241129T193000
DTEND;TZID=Europe/Berlin:20241129T223000
SUMMARY:L4P1 La Chaux-de-Fonds IV vs Centre Portugais (0)
UID:8169f3c5-e832-40e9-b24e-4ffd8580111f
STATUS:CONFIRMED
LAST-MODIFIED:20241204T081833Z
DESCRIPTION:4ème ligue phase 1\nBegegnungs-Nr: 0\nHeim: La Chaux-de-Fonds IV\nGast: Centre Portugais\n\nAdresse: Rue du Docteur-Kern 14\, 2300 La Chaux-de-Fonds\n
LOCATION:Rue du Docteur-Kern 14\, 2300 La Chaux-de-Fonds
CATEGORIES:Saison 2024/25
END:VEVENT
BEGIN:VEVENT
DTSTAMP:20260419T231537Z
DTSTART;TZID=Europe/Berlin:20241029T193000
DTEND;TZID=Europe/Berlin:20241029T223000
SUMMARY:L4P1 Delémont IV vs Centre Portugais (0)
UID:fda5345b-9ac0-4fb6-aee2-6318ff98189a
STATUS:CONFIRMED
LAST-MODIFIED:20241104T143649Z
DESCRIPTION:4ème ligue phase 1\nBegegnungs-Nr: 0\nHeim: Delémont IV\nGast: Centre Portugais\n\nAdresse: Rue de la Blancherie 4\, 2800 Delémont\n
LOCATION:Rue de la Blancherie 4\, 2800 Delémont
CATEGORIES:Saison 2024/25
END:VEVENT
BEGIN:VEVENT
DTSTAMP:20260419T231537Z
DTSTART;TZID=Europe/Berlin:20240926T201500
DTEND;TZID=Europe/Berlin:20240926T231500
SUMMARY:L4P1 Porrentruy II vs Centre Portugais (0)
UID:4b528463-7bc6-4bfc-861e-eba8c581d019
STATUS:CONFIRMED
LAST-MODIFIED:20241003T090135Z
DESCRIPTION:4ème ligue phase 1\nBegegnungs-Nr: 0\nHeim: Porrentruy II\nGast: Centre Portugais\n\nAdresse: Rue du Banné 14\, 2900 Porrentruy\n
LOCATION:Rue du Banné 14\, 2900 Porrentruy
CATEGORIES:Saison 2024/25
END:VEVENT
BEGIN:VEVENT
DTSTAMP:20260419T231537Z
DTSTART;TZID=Europe/Berlin:20250507T193000
DTEND;TZID=Europe/Berlin:20250507T223000
SUMMARY:L5P2 Hauterive II vs Centre Portugais (0)
UID:cf518952-5fd4-475f-b885-84e700262f3e
STATUS:CONFIRMED
LAST-MODIFIED:20250512T090713Z
DESCRIPTION:5ème ligue phase 2\nBegegnungs-Nr: 0\nHeim: Hauterive II\nGast: Centre Portugais\n\nAdresse: Rue des Longschamps 10\, 2068 Hauterive NE\n
LOCATION:Rue des Longschamps 10\, 2068 Hauterive NE
CATEGORIES:Saison 2024/25
END:VEVENT
BEGIN:VEVENT
DTSTAMP:20260419T231537Z
DTSTART;TZID=Europe/Berlin:20250314T200000
DTEND;TZID=Europe/Berlin:20250314T230000
SUMMARY:L5P2 Omega V vs Centre Portugais (0)
UID:39b60e76-023c-4f29-9178-aec13fadfd69
STATUS:CONFIRMED
LAST-MODIFIED:20250317T071617Z
DESCRIPTION:5ème ligue phase 2\nBegegnungs-Nr: 0\nHeim: Omega V\nGast: Centre Portugais\n\nAdresse: Tennisweg 1\, 2504 Biel-Bienne\n
LOCATION:Tennisweg 1\, 2504 Biel-Bienne
CATEGORIES:Saison 2024/25
END:VEVENT
BEGIN:VEVENT
DTSTAMP:20260419T231537Z
DTSTART;TZID=Europe/Berlin:20250328T200000
DTEND;TZID=Europe/Berlin:20250328T230000
SUMMARY:L5P2 Moutier III vs Centre Portugais (0)
UID:50480409-aae5-4f5e-82e7-277a303e466a
STATUS:CONFIRMED
LAST-MODIFIED:20250404T051041Z
DESCRIPTION:5ème ligue phase 2\nBegegnungs-Nr: 0\nHeim: Moutier III\nGast: Centre Portugais\n\nAdresse: Place Beseran\, 2740 Moutier\n
LOCATION:Place Beseran\, 2740 Moutier
CATEGORIES:Saison 2024/25
END:VEVENT
BEGIN:VEVENT
DTSTAMP:20260419T231537Z
DTSTART;TZID=Europe/Berlin:20250502T193000
DTEND;TZID=Europe/Berlin:20250502T223000
SUMMARY:L5P2 La Chaux-de-Fonds IV vs Centre Portugais (0)
UID:270b3747-c6ce-46da-8d20-0315ccef16a4
STATUS:CONFIRMED
LAST-MODIFIED:20250512T090639Z
DESCRIPTION:5ème ligue phase 2\nBegegnungs-Nr: 0\nHeim: La Chaux-de-Fonds IV\nGast: Centre Portugais\n\nAdresse: Rue du Docteur-Kern 14\, 2300 La Chaux-de-Fonds\n
LOCATION:Rue du Docteur-Kern 14\, 2300 La Chaux-de-Fonds
CATEGORIES:Saison 2024/25
END:VEVENT
END:VCALENDAR
