BEGIN:VCALENDAR
PRODID:-//nuDatenautomaten//framework iCal4j //DE
VERSION:2.0
CALSCALE:GREGORIAN
BEGIN:VTIMEZONE
TZID:Europe/Berlin
LAST-MODIFIED:20260306T231828Z
TZURL:https://www.tzurl.org/zoneinfo/Europe/Berlin
X-LIC-LOCATION:Europe/Berlin
X-PROLEPTIC-TZNAME:LMT
BEGIN:STANDARD
TZNAME:CET
TZOFFSETFROM:+005328
TZOFFSETTO:+0100
DTSTART:18930401T000000
END:STANDARD
BEGIN:DAYLIGHT
TZNAME:CEST
TZOFFSETFROM:+0100
TZOFFSETTO:+0200
DTSTART:19160430T230000
RDATE:19400401T020000
RDATE:19430329T020000
RDATE:19460414T020000
RDATE:19470406T030000
RDATE:19480418T020000
RDATE:19490410T020000
RDATE:19800406T020000
END:DAYLIGHT
BEGIN:STANDARD
TZNAME:CET
TZOFFSETFROM:+0200
TZOFFSETTO:+0100
DTSTART:19161001T010000
RDATE:19421102T030000
RDATE:19431004T030000
RDATE:19441002T030000
RDATE:19451118T030000
RDATE:19461007T030000
END:STANDARD
BEGIN:DAYLIGHT
TZNAME:CEST
TZOFFSETFROM:+0100
TZOFFSETTO:+0200
DTSTART:19170416T020000
RRULE:FREQ=YEARLY;UNTIL=19180415T010000Z;BYMONTH=4;BYDAY=3MO
END:DAYLIGHT
BEGIN:STANDARD
TZNAME:CET
TZOFFSETFROM:+0200
TZOFFSETTO:+0100
DTSTART:19170917T030000
RRULE:FREQ=YEARLY;UNTIL=19180916T010000Z;BYMONTH=9;BYDAY=3MO
END:STANDARD
BEGIN:DAYLIGHT
TZNAME:CEST
TZOFFSETFROM:+0100
TZOFFSETTO:+0200
DTSTART:19440403T020000
RRULE:FREQ=YEARLY;UNTIL=19450402T010000Z;BYMONTH=4;BYDAY=1MO
END:DAYLIGHT
BEGIN:DAYLIGHT
TZNAME:CEMT
TZOFFSETFROM:+0200
TZOFFSETTO:+0300
DTSTART:19450524T020000
RDATE:19470511T030000
END:DAYLIGHT
BEGIN:DAYLIGHT
TZNAME:CEST
TZOFFSETFROM:+0300
TZOFFSETTO:+0200
DTSTART:19450924T030000
RDATE:19470629T030000
END:DAYLIGHT
BEGIN:STANDARD
TZNAME:CET
TZOFFSETFROM:+0100
TZOFFSETTO:+0100
DTSTART:19460101T000000
RDATE:19800101T000000
END:STANDARD
BEGIN:STANDARD
TZNAME:CET
TZOFFSETFROM:+0200
TZOFFSETTO:+0100
DTSTART:19471005T030000
RRULE:FREQ=YEARLY;UNTIL=19491002T010000Z;BYMONTH=10;BYDAY=1SU
END:STANDARD
BEGIN:STANDARD
TZNAME:CET
TZOFFSETFROM:+0200
TZOFFSETTO:+0100
DTSTART:19800928T030000
RRULE:FREQ=YEARLY;UNTIL=19950924T010000Z;BYMONTH=9;BYDAY=-1SU
END:STANDARD
BEGIN:DAYLIGHT
TZNAME:CEST
TZOFFSETFROM:+0100
TZOFFSETTO:+0200
DTSTART:19810329T020000
RRULE:FREQ=YEARLY;BYMONTH=3;BYDAY=-1SU
END:DAYLIGHT
BEGIN:STANDARD
TZNAME:CET
TZOFFSETFROM:+0200
TZOFFSETTO:+0100
DTSTART:19961027T030000
RRULE:FREQ=YEARLY;BYMONTH=10;BYDAY=-1SU
END:STANDARD
END:VTIMEZONE
BEGIN:VEVENT
DTSTAMP:20260425T004230Z
DTSTART;TZID=Europe/Berlin:20250120T194500
DTEND;TZID=Europe/Berlin:20250120T224500
SUMMARY:Ligue 5 Gr.1 Ph.B Veyrier V vs Grand-Saconnex V (3)
UID:2d3ece8e-f7de-4f84-99d5-510f1c924b06
STATUS:CONFIRMED
LAST-MODIFIED:20250121T080912Z
DESCRIPTION:5ème ligue Hommes Gr.1 Phase B\nBegegnungs-Nr: 3\nHeim: Veyrier V\nGast: Grand-Saconnex V\n\nAdresse: -\, 1255 Veyrier\n
LOCATION:-\, 1255 Veyrier
CATEGORIES:Saison 2024/25
END:VEVENT
BEGIN:VEVENT
DTSTAMP:20260425T004230Z
DTSTART;TZID=Europe/Berlin:20250407T194500
DTEND;TZID=Europe/Berlin:20250407T224500
SUMMARY:Ligue 5 Gr.1 Ph.B Veyrier V vs Rapid-Genève III (18)
UID:d5b97f92-3a80-447c-baae-acdc87e9a821
STATUS:CONFIRMED
LAST-MODIFIED:20250408T071927Z
DESCRIPTION:5ème ligue Hommes Gr.1 Phase B\nBegegnungs-Nr: 18\nHeim: Veyrier V\nGast: Rapid-Genève III\n\nAdresse: -\, 1255 Veyrier\n
LOCATION:-\, 1255 Veyrier
CATEGORIES:Saison 2024/25
END:VEVENT
BEGIN:VEVENT
DTSTAMP:20260425T004230Z
DTSTART;TZID=Europe/Berlin:20250331T194500
DTEND;TZID=Europe/Berlin:20250331T224500
SUMMARY:Ligue 5 Gr.1 Ph.B Veyrier V vs Châtelaine VIII (15)
UID:4c742a4f-ddae-49a2-bc95-33b08266de0b
STATUS:CONFIRMED
LAST-MODIFIED:20250401T072846Z
DESCRIPTION:5ème ligue Hommes Gr.1 Phase B\nBegegnungs-Nr: 15\nHeim: Veyrier V\nGast: Châtelaine VIII\n\nAdresse: -\, 1255 Veyrier\n
LOCATION:-\, 1255 Veyrier
CATEGORIES:Saison 2024/25
END:VEVENT
BEGIN:VEVENT
DTSTAMP:20260425T004230Z
DTSTART;TZID=Europe/Berlin:20250310T194500
DTEND;TZID=Europe/Berlin:20250310T224500
SUMMARY:Ligue 5 Gr.1 Ph.B Veyrier V vs UGS-Chênois X (12)
UID:c3564b2b-13bd-4dc4-add7-848feb61ac04
STATUS:CONFIRMED
LAST-MODIFIED:20250311T082954Z
DESCRIPTION:5ème ligue Hommes Gr.1 Phase B\nBegegnungs-Nr: 12\nHeim: Veyrier V\nGast: UGS-Chênois X\n\nAdresse: -\, 1255 Veyrier\n
LOCATION:-\, 1255 Veyrier
CATEGORIES:Saison 2024/25
END:VEVENT
BEGIN:VEVENT
DTSTAMP:20260425T004230Z
DTSTART;TZID=Europe/Berlin:20241125T194500
DTEND;TZID=Europe/Berlin:20241125T224500
SUMMARY:Ligue 5 Gr.2 Ph.A Veyrier V vs Meyrin VII (26)
UID:f8a28aaa-3bb7-4674-a647-05fed5a666a0
STATUS:CONFIRMED
LAST-MODIFIED:20241126T080137Z
DESCRIPTION:5ème ligue Hommes Gr.2 Phase A\nBegegnungs-Nr: 26\nHeim: Veyrier V\nGast: Meyrin VII\n\nAdresse: -\, 1255 Veyrier\n
LOCATION:-\, 1255 Veyrier
CATEGORIES:Saison 2024/25
END:VEVENT
BEGIN:VEVENT
DTSTAMP:20260425T004230Z
DTSTART;TZID=Europe/Berlin:20241118T194500
DTEND;TZID=Europe/Berlin:20241118T224500
SUMMARY:Ligue 5 Gr.2 Ph.A Veyrier V vs UGS-Chênois X (22)
UID:844b99fe-941a-4221-bd97-5abda99d6bc5
STATUS:CONFIRMED
LAST-MODIFIED:20241119T101031Z
DESCRIPTION:5ème ligue Hommes Gr.2 Phase A\nBegegnungs-Nr: 22\nHeim: Veyrier V\nGast: UGS-Chênois X\n\nAdresse: -\, 1255 Veyrier\n
LOCATION:-\, 1255 Veyrier
CATEGORIES:Saison 2024/25
END:VEVENT
BEGIN:VEVENT
DTSTAMP:20260425T004230Z
DTSTART;TZID=Europe/Berlin:20241028T194500
DTEND;TZID=Europe/Berlin:20241028T224500
SUMMARY:Ligue 5 Gr.2 Ph.A Veyrier V vs Puplinge III (17)
UID:875ec751-24c0-4b1c-b25a-c6b6335d7ffa
STATUS:CONFIRMED
LAST-MODIFIED:20241030T112037Z
DESCRIPTION:5ème ligue Hommes Gr.2 Phase A\nBegegnungs-Nr: 17\nHeim: Veyrier V\nGast: Puplinge III\n\nAdresse: -\, 1255 Veyrier\n
LOCATION:-\, 1255 Veyrier
CATEGORIES:Saison 2024/25
END:VEVENT
BEGIN:VEVENT
DTSTAMP:20260425T004230Z
DTSTART;TZID=Europe/Berlin:20241014T194500
DTEND;TZID=Europe/Berlin:20241014T224500
SUMMARY:Ligue 5 Gr.2 Ph.A Veyrier V vs Grand-Saconnex III (15)
UID:e970a829-999a-47cc-96de-a5b4471b943f
STATUS:CONFIRMED
LAST-MODIFIED:20241015T122311Z
DESCRIPTION:5ème ligue Hommes Gr.2 Phase A\nBegegnungs-Nr: 15\nHeim: Veyrier V\nGast: Grand-Saconnex III\n\nAdresse: -\, 1255 Veyrier\n
LOCATION:-\, 1255 Veyrier
CATEGORIES:Saison 2024/25
END:VEVENT
BEGIN:VEVENT
DTSTAMP:20260425T004230Z
DTSTART;TZID=Europe/Berlin:20250129T194500
DTEND;TZID=Europe/Berlin:20250129T224500
SUMMARY:Ligue 5 Gr.1 Ph.B Châtelaine VIII vs Veyrier V (5)
UID:5a30c78a-e817-4426-888f-e3a3007ae7c9
STATUS:CONFIRMED
LAST-MODIFIED:20250130T091835Z
DESCRIPTION:5ème ligue Hommes Gr.1 Phase B\nBegegnungs-Nr: 5\nHeim: Châtelaine VIII\nGast: Veyrier V\n
LOCATION:
CATEGORIES:Saison 2024/25
END:VEVENT
BEGIN:VEVENT
DTSTAMP:20260425T004230Z
DTSTART;TZID=Europe/Berlin:20250115T194500
DTEND;TZID=Europe/Berlin:20250115T224500
SUMMARY:Ligue 5 Gr.1 Ph.B UGS-Chênois X vs Veyrier V (2)
UID:89582fc2-8e1c-448d-932b-26658284aeb6
STATUS:CONFIRMED
LAST-MODIFIED:20250116T090803Z
DESCRIPTION:5ème ligue Hommes Gr.1 Phase B\nBegegnungs-Nr: 2\nHeim: UGS-Chênois X\nGast: Veyrier V\n
LOCATION:
CATEGORIES:Saison 2024/25
END:VEVENT
BEGIN:VEVENT
DTSTAMP:20260425T004230Z
DTSTART;TZID=Europe/Berlin:20250317T194500
DTEND;TZID=Europe/Berlin:20250317T224500
SUMMARY:Ligue 5 Gr.1 Ph.B Grand-Saconnex V vs Veyrier V (13)
UID:c340fe52-a3cf-4c36-939b-e37ade3f4fe6
STATUS:CONFIRMED
LAST-MODIFIED:20250318T124647Z
DESCRIPTION:5ème ligue Hommes Gr.1 Phase B\nBegegnungs-Nr: 13\nHeim: Grand-Saconnex V\nGast: Veyrier V\n
LOCATION:
CATEGORIES:Saison 2024/25
END:VEVENT
BEGIN:VEVENT
DTSTAMP:20260425T004230Z
DTSTART;TZID=Europe/Berlin:20250210T194500
DTEND;TZID=Europe/Berlin:20250210T224500
SUMMARY:Ligue 5 Gr.1 Ph.B Rapid-Genève III vs Veyrier V (8)
UID:4fbd5480-0407-429d-8939-91a80d341567
STATUS:CONFIRMED
LAST-MODIFIED:20250211T085621Z
DESCRIPTION:5ème ligue Hommes Gr.1 Phase B\nBegegnungs-Nr: 8\nHeim: Rapid-Genève III\nGast: Veyrier V\n
LOCATION:
CATEGORIES:Saison 2024/25
END:VEVENT
BEGIN:VEVENT
DTSTAMP:20260425T004230Z
DTSTART;TZID=Europe/Berlin:20240925T194500
DTEND;TZID=Europe/Berlin:20240925T224500
SUMMARY:Ligue 5 Gr.2 Ph.A UGS-Chênois X vs Veyrier V (7)
UID:9d9eadc8-bde6-413c-b225-7d59cfd67b4f
STATUS:CONFIRMED
LAST-MODIFIED:20240926T051232Z
DESCRIPTION:5ème ligue Hommes Gr.2 Phase A\nBegegnungs-Nr: 7\nHeim: UGS-Chênois X\nGast: Veyrier V\n
LOCATION:
CATEGORIES:Saison 2024/25
END:VEVENT
BEGIN:VEVENT
DTSTAMP:20260425T004230Z
DTSTART;TZID=Europe/Berlin:20240909T201500
DTEND;TZID=Europe/Berlin:20240909T231500
SUMMARY:Ligue 5 Gr.2 Ph.A Puplinge III vs Veyrier V (2)
UID:37c15b46-969d-4c42-87a4-ecb24e14647c
STATUS:CONFIRMED
LAST-MODIFIED:20240910T072849Z
DESCRIPTION:5ème ligue Hommes Gr.2 Phase A\nBegegnungs-Nr: 2\nHeim: Puplinge III\nGast: Veyrier V\n\nAdresse: Chemin de la Brenaz\,  15\, 1241 Puplinge\n
LOCATION:Chemin de la Brenaz\,  15\, 1241 Puplinge
CATEGORIES:Saison 2024/25
END:VEVENT
BEGIN:VEVENT
DTSTAMP:20260425T004230Z
DTSTART;TZID=Europe/Berlin:20241202T194500
DTEND;TZID=Europe/Berlin:20241202T224500
SUMMARY:Ligue 5 Gr.2 Ph.A Grand-Saconnex III vs Veyrier V (30)
UID:0c2d435e-6dca-46da-98df-072867c64e10
STATUS:CONFIRMED
LAST-MODIFIED:20241203T165640Z
DESCRIPTION:5ème ligue Hommes Gr.2 Phase A\nBegegnungs-Nr: 30\nHeim: Grand-Saconnex III\nGast: Veyrier V\n
LOCATION:
CATEGORIES:Saison 2024/25
END:VEVENT
BEGIN:VEVENT
DTSTAMP:20260425T004230Z
DTSTART;TZID=Europe/Berlin:20241007T194500
DTEND;TZID=Europe/Berlin:20241007T224500
SUMMARY:Ligue 5 Gr.2 Ph.A Meyrin VII vs Veyrier V (11)
UID:3ef26d6b-3269-4e5d-8051-ebabe1c92898
STATUS:CONFIRMED
LAST-MODIFIED:20241008T071120Z
DESCRIPTION:5ème ligue Hommes Gr.2 Phase A\nBegegnungs-Nr: 11\nHeim: Meyrin VII\nGast: Veyrier V\n
LOCATION:
CATEGORIES:Saison 2024/25
END:VEVENT
END:VCALENDAR
