BEGIN:VCALENDAR
PRODID:-//nuDatenautomaten//framework iCal4j //DE
VERSION:2.0
CALSCALE:GREGORIAN
BEGIN:VTIMEZONE
TZID:Europe/Berlin
LAST-MODIFIED:20260306T231828Z
TZURL:https://www.tzurl.org/zoneinfo/Europe/Berlin
X-LIC-LOCATION:Europe/Berlin
X-PROLEPTIC-TZNAME:LMT
BEGIN:STANDARD
TZNAME:CET
TZOFFSETFROM:+005328
TZOFFSETTO:+0100
DTSTART:18930401T000000
END:STANDARD
BEGIN:DAYLIGHT
TZNAME:CEST
TZOFFSETFROM:+0100
TZOFFSETTO:+0200
DTSTART:19160430T230000
RDATE:19400401T020000
RDATE:19430329T020000
RDATE:19460414T020000
RDATE:19470406T030000
RDATE:19480418T020000
RDATE:19490410T020000
RDATE:19800406T020000
END:DAYLIGHT
BEGIN:STANDARD
TZNAME:CET
TZOFFSETFROM:+0200
TZOFFSETTO:+0100
DTSTART:19161001T010000
RDATE:19421102T030000
RDATE:19431004T030000
RDATE:19441002T030000
RDATE:19451118T030000
RDATE:19461007T030000
END:STANDARD
BEGIN:DAYLIGHT
TZNAME:CEST
TZOFFSETFROM:+0100
TZOFFSETTO:+0200
DTSTART:19170416T020000
RRULE:FREQ=YEARLY;UNTIL=19180415T010000Z;BYMONTH=4;BYDAY=3MO
END:DAYLIGHT
BEGIN:STANDARD
TZNAME:CET
TZOFFSETFROM:+0200
TZOFFSETTO:+0100
DTSTART:19170917T030000
RRULE:FREQ=YEARLY;UNTIL=19180916T010000Z;BYMONTH=9;BYDAY=3MO
END:STANDARD
BEGIN:DAYLIGHT
TZNAME:CEST
TZOFFSETFROM:+0100
TZOFFSETTO:+0200
DTSTART:19440403T020000
RRULE:FREQ=YEARLY;UNTIL=19450402T010000Z;BYMONTH=4;BYDAY=1MO
END:DAYLIGHT
BEGIN:DAYLIGHT
TZNAME:CEMT
TZOFFSETFROM:+0200
TZOFFSETTO:+0300
DTSTART:19450524T020000
RDATE:19470511T030000
END:DAYLIGHT
BEGIN:DAYLIGHT
TZNAME:CEST
TZOFFSETFROM:+0300
TZOFFSETTO:+0200
DTSTART:19450924T030000
RDATE:19470629T030000
END:DAYLIGHT
BEGIN:STANDARD
TZNAME:CET
TZOFFSETFROM:+0100
TZOFFSETTO:+0100
DTSTART:19460101T000000
RDATE:19800101T000000
END:STANDARD
BEGIN:STANDARD
TZNAME:CET
TZOFFSETFROM:+0200
TZOFFSETTO:+0100
DTSTART:19471005T030000
RRULE:FREQ=YEARLY;UNTIL=19491002T010000Z;BYMONTH=10;BYDAY=1SU
END:STANDARD
BEGIN:STANDARD
TZNAME:CET
TZOFFSETFROM:+0200
TZOFFSETTO:+0100
DTSTART:19800928T030000
RRULE:FREQ=YEARLY;UNTIL=19950924T010000Z;BYMONTH=9;BYDAY=-1SU
END:STANDARD
BEGIN:DAYLIGHT
TZNAME:CEST
TZOFFSETFROM:+0100
TZOFFSETTO:+0200
DTSTART:19810329T020000
RRULE:FREQ=YEARLY;BYMONTH=3;BYDAY=-1SU
END:DAYLIGHT
BEGIN:STANDARD
TZNAME:CET
TZOFFSETFROM:+0200
TZOFFSETTO:+0100
DTSTART:19961027T030000
RRULE:FREQ=YEARLY;BYMONTH=10;BYDAY=-1SU
END:STANDARD
END:VTIMEZONE
BEGIN:VEVENT
DTSTAMP:20260425T022337Z
DTSTART;TZID=Europe/Berlin:20240925T201500
DTEND;TZID=Europe/Berlin:20240925T231500
SUMMARY:HE 3. Liga Gr. 5 Thalwil vs Wädenswil IV (0)
UID:4250d8f2-18e8-4d5b-a02f-99c93f209a72
STATUS:CONFIRMED
LAST-MODIFIED:20240926T114411Z
DESCRIPTION:3. Liga Herren Gruppe 5\nBegegnungs-Nr: 0\nHeim: Thalwil\nGast: Wädenswil IV\n\nAdresse: Bergstrasse 2\, 8800 Thalwil\n
LOCATION:Bergstrasse 2\, 8800 Thalwil
CATEGORIES:Saison 2024/25
END:VEVENT
BEGIN:VEVENT
DTSTAMP:20260425T022337Z
DTSTART;TZID=Europe/Berlin:20240828T201500
DTEND;TZID=Europe/Berlin:20240828T231500
SUMMARY:HE 3. Liga Gr. 5 Thalwil vs Niederhasli II (0)
UID:c8f12035-5adb-42a2-adf4-545b6967606d
STATUS:CONFIRMED
LAST-MODIFIED:20240904T095620Z
DESCRIPTION:3. Liga Herren Gruppe 5\nBegegnungs-Nr: 0\nHeim: Thalwil\nGast: Niederhasli II\n\nAdresse: Bergstrasse 2\, 8800 Thalwil\n
LOCATION:Bergstrasse 2\, 8800 Thalwil
CATEGORIES:Saison 2024/25
END:VEVENT
BEGIN:VEVENT
DTSTAMP:20260425T022337Z
DTSTART;TZID=Europe/Berlin:20241120T201500
DTEND;TZID=Europe/Berlin:20241120T231500
SUMMARY:HE 3. Liga Gr. 5 Thalwil vs Affoltern A/A III (0)
UID:a911893a-9172-490b-91f7-223cbf0ffec3
STATUS:CONFIRMED
LAST-MODIFIED:20241122T150755Z
DESCRIPTION:3. Liga Herren Gruppe 5\nBegegnungs-Nr: 0\nHeim: Thalwil\nGast: Affoltern A/A III\n\nAdresse: Bergstrasse 2\, 8800 Thalwil\n
LOCATION:Bergstrasse 2\, 8800 Thalwil
CATEGORIES:Saison 2024/25
END:VEVENT
BEGIN:VEVENT
DTSTAMP:20260425T022337Z
DTSTART;TZID=Europe/Berlin:20241030T201500
DTEND;TZID=Europe/Berlin:20241030T231500
SUMMARY:HE 3. Liga Gr. 5 Thalwil vs Horgen III (0)
UID:286470db-f1cd-4c04-bf98-afb8be3e5639
STATUS:CONFIRMED
LAST-MODIFIED:20241108T134220Z
DESCRIPTION:3. Liga Herren Gruppe 5\nBegegnungs-Nr: 0\nHeim: Thalwil\nGast: Horgen III\n\nAdresse: Bergstrasse 2\, 8800 Thalwil\n
LOCATION:Bergstrasse 2\, 8800 Thalwil
CATEGORIES:Saison 2024/25
END:VEVENT
BEGIN:VEVENT
DTSTAMP:20260425T022337Z
DTSTART;TZID=Europe/Berlin:20250312T201500
DTEND;TZID=Europe/Berlin:20250312T231500
SUMMARY:HE 3. Liga Gr. 5 Thalwil vs Zürich-Affoltern IV (0)
UID:6fb6e94b-d267-4608-90d0-ea5c58243ecf
STATUS:CONFIRMED
LAST-MODIFIED:20250313T102726Z
DESCRIPTION:3. Liga Herren Gruppe 5\nBegegnungs-Nr: 0\nHeim: Thalwil\nGast: Zürich-Affoltern IV\n\nAdresse: Bergstrasse 2\, 8800 Thalwil\n
LOCATION:Bergstrasse 2\, 8800 Thalwil
CATEGORIES:Saison 2024/25
END:VEVENT
BEGIN:VEVENT
DTSTAMP:20260425T022337Z
DTSTART;TZID=Europe/Berlin:20250122T201500
DTEND;TZID=Europe/Berlin:20250122T231500
SUMMARY:HE 3. Liga Gr. 5 Thalwil vs Young Stars ZH V (0)
UID:5db3ad2b-d7bf-4f8b-a748-bc66a4e3c083
STATUS:CONFIRMED
LAST-MODIFIED:20250123T071351Z
DESCRIPTION:3. Liga Herren Gruppe 5\nBegegnungs-Nr: 0\nHeim: Thalwil\nGast: Young Stars ZH V\n\nAdresse: Bergstrasse 2\, 8800 Thalwil\n
LOCATION:Bergstrasse 2\, 8800 Thalwil
CATEGORIES:Saison 2024/25
END:VEVENT
BEGIN:VEVENT
DTSTAMP:20260425T022337Z
DTSTART;TZID=Europe/Berlin:20250319T193000
DTEND;TZID=Europe/Berlin:20250319T223000
SUMMARY:HE 3. Liga Gr. 5 Thalwil vs Pinguin Zürich II (0)
UID:893e883f-b3c6-488e-b9db-1beeb8f4420c
STATUS:CONFIRMED
LAST-MODIFIED:20250320T075733Z
DESCRIPTION:3. Liga Herren Gruppe 5\nBegegnungs-Nr: 0\nHeim: Thalwil\nGast: Pinguin Zürich II\n\nAdresse: Bergstrasse 2\, 8800 Thalwil\n
LOCATION:Bergstrasse 2\, 8800 Thalwil
CATEGORIES:Saison 2024/25
END:VEVENT
BEGIN:VEVENT
DTSTAMP:20260425T022337Z
DTSTART;TZID=Europe/Berlin:20240906T200000
DTEND;TZID=Europe/Berlin:20240906T230000
SUMMARY:HE 3. Liga Gr. 5 Young Stars ZH V vs Thalwil (0)
UID:712d0616-e539-46fe-98b6-0694f6e20fed
STATUS:CONFIRMED
LAST-MODIFIED:20240912T075528Z
DESCRIPTION:3. Liga Herren Gruppe 5\nBegegnungs-Nr: 0\nHeim: Young Stars ZH V\nGast: Thalwil\n\nAdresse: Balgriststrasse 55\, 8008 Zürich\n
LOCATION:Balgriststrasse 55\, 8008 Zürich
CATEGORIES:Saison 2024/25
END:VEVENT
BEGIN:VEVENT
DTSTAMP:20260425T022337Z
DTSTART;TZID=Europe/Berlin:20241106T201500
DTEND;TZID=Europe/Berlin:20241106T231500
SUMMARY:HE 3. Liga Gr. 5 Zürich-Affoltern IV vs Thalwil (0)
UID:4d633c91-59ad-4638-962e-c44b94e4ee19
STATUS:CONFIRMED
LAST-MODIFIED:20241108T134359Z
DESCRIPTION:3. Liga Herren Gruppe 5\nBegegnungs-Nr: 0\nHeim: Zürich-Affoltern IV\nGast: Thalwil\n\nAdresse: Rümlangstr. 89\, 8052 Zürich\n
LOCATION:Rümlangstr. 89\, 8052 Zürich
CATEGORIES:Saison 2024/25
END:VEVENT
BEGIN:VEVENT
DTSTAMP:20260425T022337Z
DTSTART;TZID=Europe/Berlin:20240923T193000
DTEND;TZID=Europe/Berlin:20240923T223000
SUMMARY:HE 3. Liga Gr. 5 Pinguin Zürich II vs Thalwil (0)
UID:ace4d665-2d42-405e-b9b8-c42fc20f592e
STATUS:CONFIRMED
LAST-MODIFIED:20240926T114353Z
DESCRIPTION:3. Liga Herren Gruppe 5\nBegegnungs-Nr: 0\nHeim: Pinguin Zürich II\nGast: Thalwil\n\nAdresse: Basteiplatz\, 8001 Zürich\n
LOCATION:Basteiplatz\, 8001 Zürich
CATEGORIES:Saison 2024/25
END:VEVENT
BEGIN:VEVENT
DTSTAMP:20260425T022337Z
DTSTART;TZID=Europe/Berlin:20250130T200000
DTEND;TZID=Europe/Berlin:20250130T230000
SUMMARY:HE 3. Liga Gr. 5 Wädenswil IV vs Thalwil (0)
UID:081720c7-e90a-4558-8c91-44bc80994d2e
STATUS:CONFIRMED
LAST-MODIFIED:20250131T143551Z
DESCRIPTION:3. Liga Herren Gruppe 5\nBegegnungs-Nr: 0\nHeim: Wädenswil IV\nGast: Thalwil\n\nAdresse: Speerstrasse 95\, 8820 Wädenswil\n
LOCATION:Speerstrasse 95\, 8820 Wädenswil
CATEGORIES:Saison 2024/25
END:VEVENT
BEGIN:VEVENT
DTSTAMP:20260425T022337Z
DTSTART;TZID=Europe/Berlin:20250327T193000
DTEND;TZID=Europe/Berlin:20250327T223000
SUMMARY:HE 3. Liga Gr. 5 Affoltern A/A III vs Thalwil (0)
UID:c95b7003-8c37-4c6e-9e53-70a95fe98808
STATUS:CONFIRMED
LAST-MODIFIED:20250402T102759Z
DESCRIPTION:3. Liga Herren Gruppe 5\nBegegnungs-Nr: 0\nHeim: Affoltern A/A III\nGast: Thalwil\n\nAdresse: Butzenstrasse 8\, 8910 Affoltern am Albis\n
LOCATION:Butzenstrasse 8\, 8910 Affoltern am Albis
CATEGORIES:Saison 2024/25
END:VEVENT
BEGIN:VEVENT
DTSTAMP:20260425T022337Z
DTSTART;TZID=Europe/Berlin:20250108T193000
DTEND;TZID=Europe/Berlin:20250108T223000
SUMMARY:HE 3. Liga Gr. 5 Niederhasli II vs Thalwil (0)
UID:7891032b-bd96-4b80-8f83-ef32524b1896
STATUS:CONFIRMED
LAST-MODIFIED:20250110T150814Z
DESCRIPTION:3. Liga Herren Gruppe 5\nBegegnungs-Nr: 0\nHeim: Niederhasli II\nGast: Thalwil\n\nAdresse: Dorfstrasse 22\, 8155 Niederhasli\n
LOCATION:Dorfstrasse 22\, 8155 Niederhasli
CATEGORIES:Saison 2024/25
END:VEVENT
BEGIN:VEVENT
DTSTAMP:20260425T022337Z
DTSTART;TZID=Europe/Berlin:20250305T200000
DTEND;TZID=Europe/Berlin:20250305T230000
SUMMARY:HE 3. Liga Gr. 5 Horgen III vs Thalwil (0)
UID:252efb92-238c-4947-ac17-24e3228dfe67
STATUS:CONFIRMED
LAST-MODIFIED:20250306T142205Z
DESCRIPTION:3. Liga Herren Gruppe 5\nBegegnungs-Nr: 0\nHeim: Horgen III\nGast: Thalwil\n\nAdresse: Seestrasse 110\, 8810 Horgen\n
LOCATION:Seestrasse 110\, 8810 Horgen
CATEGORIES:Saison 2024/25
END:VEVENT
END:VCALENDAR
