BEGIN:VCALENDAR
PRODID:-//nuDatenautomaten//framework iCal4j //DE
VERSION:2.0
CALSCALE:GREGORIAN
BEGIN:VTIMEZONE
TZID:Europe/Berlin
LAST-MODIFIED:20260306T231828Z
TZURL:https://www.tzurl.org/zoneinfo/Europe/Berlin
X-LIC-LOCATION:Europe/Berlin
X-PROLEPTIC-TZNAME:LMT
BEGIN:STANDARD
TZNAME:CET
TZOFFSETFROM:+005328
TZOFFSETTO:+0100
DTSTART:18930401T000000
END:STANDARD
BEGIN:DAYLIGHT
TZNAME:CEST
TZOFFSETFROM:+0100
TZOFFSETTO:+0200
DTSTART:19160430T230000
RDATE:19400401T020000
RDATE:19430329T020000
RDATE:19460414T020000
RDATE:19470406T030000
RDATE:19480418T020000
RDATE:19490410T020000
RDATE:19800406T020000
END:DAYLIGHT
BEGIN:STANDARD
TZNAME:CET
TZOFFSETFROM:+0200
TZOFFSETTO:+0100
DTSTART:19161001T010000
RDATE:19421102T030000
RDATE:19431004T030000
RDATE:19441002T030000
RDATE:19451118T030000
RDATE:19461007T030000
END:STANDARD
BEGIN:DAYLIGHT
TZNAME:CEST
TZOFFSETFROM:+0100
TZOFFSETTO:+0200
DTSTART:19170416T020000
RRULE:FREQ=YEARLY;UNTIL=19180415T010000Z;BYMONTH=4;BYDAY=3MO
END:DAYLIGHT
BEGIN:STANDARD
TZNAME:CET
TZOFFSETFROM:+0200
TZOFFSETTO:+0100
DTSTART:19170917T030000
RRULE:FREQ=YEARLY;UNTIL=19180916T010000Z;BYMONTH=9;BYDAY=3MO
END:STANDARD
BEGIN:DAYLIGHT
TZNAME:CEST
TZOFFSETFROM:+0100
TZOFFSETTO:+0200
DTSTART:19440403T020000
RRULE:FREQ=YEARLY;UNTIL=19450402T010000Z;BYMONTH=4;BYDAY=1MO
END:DAYLIGHT
BEGIN:DAYLIGHT
TZNAME:CEMT
TZOFFSETFROM:+0200
TZOFFSETTO:+0300
DTSTART:19450524T020000
RDATE:19470511T030000
END:DAYLIGHT
BEGIN:DAYLIGHT
TZNAME:CEST
TZOFFSETFROM:+0300
TZOFFSETTO:+0200
DTSTART:19450924T030000
RDATE:19470629T030000
END:DAYLIGHT
BEGIN:STANDARD
TZNAME:CET
TZOFFSETFROM:+0100
TZOFFSETTO:+0100
DTSTART:19460101T000000
RDATE:19800101T000000
END:STANDARD
BEGIN:STANDARD
TZNAME:CET
TZOFFSETFROM:+0200
TZOFFSETTO:+0100
DTSTART:19471005T030000
RRULE:FREQ=YEARLY;UNTIL=19491002T010000Z;BYMONTH=10;BYDAY=1SU
END:STANDARD
BEGIN:STANDARD
TZNAME:CET
TZOFFSETFROM:+0200
TZOFFSETTO:+0100
DTSTART:19800928T030000
RRULE:FREQ=YEARLY;UNTIL=19950924T010000Z;BYMONTH=9;BYDAY=-1SU
END:STANDARD
BEGIN:DAYLIGHT
TZNAME:CEST
TZOFFSETFROM:+0100
TZOFFSETTO:+0200
DTSTART:19810329T020000
RRULE:FREQ=YEARLY;BYMONTH=3;BYDAY=-1SU
END:DAYLIGHT
BEGIN:STANDARD
TZNAME:CET
TZOFFSETFROM:+0200
TZOFFSETTO:+0100
DTSTART:19961027T030000
RRULE:FREQ=YEARLY;BYMONTH=10;BYDAY=-1SU
END:STANDARD
END:VTIMEZONE
BEGIN:VEVENT
DTSTAMP:20260425T005046Z
DTSTART;TZID=Europe/Berlin:20250512T194500
DTEND;TZID=Europe/Berlin:20250512T224500
SUMMARY:HE 2. Liga Aufstieg Wetzikon III vs St. Gallen III (212)
UID:30273995-b9ee-4944-96b0-67947a2bf9da
STATUS:CONFIRMED
LAST-MODIFIED:20250514T094417Z
DESCRIPTION:2. Liga Herren Aufstieg\nBegegnungs-Nr: 212\nHeim: Wetzikon III\nGast: St. Gallen III\n\nAdresse: Usterstrasse 37\, 8620 Wetzikon\n
LOCATION:Usterstrasse 37\, 8620 Wetzikon
CATEGORIES:Saison 2024/25
END:VEVENT
BEGIN:VEVENT
DTSTAMP:20260425T005046Z
DTSTART;TZID=Europe/Berlin:20250404T194500
DTEND;TZID=Europe/Berlin:20250404T224500
SUMMARY:HE 2. Liga Gr. 2 Wetzikon III vs Steckborn-Homburg (0)
UID:490465aa-ee23-4bd3-901a-c81878ac0267
STATUS:CONFIRMED
LAST-MODIFIED:20250407T114405Z
DESCRIPTION:2. Liga Herren Gruppe 2\nBegegnungs-Nr: 0\nHeim: Wetzikon III\nGast: Steckborn-Homburg\n\nAdresse: Usterstrasse 37\, 8620 Wetzikon\n
LOCATION:Usterstrasse 37\, 8620 Wetzikon
CATEGORIES:Saison 2024/25
END:VEVENT
BEGIN:VEVENT
DTSTAMP:20260425T005046Z
DTSTART;TZID=Europe/Berlin:20241202T194500
DTEND;TZID=Europe/Berlin:20241202T224500
SUMMARY:HE 2. Liga Gr. 2 Wetzikon III vs Uster (0)
UID:6d4bc844-065f-4c4e-a102-fdc91c6b738f
STATUS:CONFIRMED
LAST-MODIFIED:20241205T085443Z
DESCRIPTION:2. Liga Herren Gruppe 2\nBegegnungs-Nr: 0\nHeim: Wetzikon III\nGast: Uster\n\nAdresse: Usterstrasse 37\, 8620 Wetzikon\n
LOCATION:Usterstrasse 37\, 8620 Wetzikon
CATEGORIES:Saison 2024/25
END:VEVENT
BEGIN:VEVENT
DTSTAMP:20260425T005046Z
DTSTART;TZID=Europe/Berlin:20241028T194500
DTEND;TZID=Europe/Berlin:20241028T224500
SUMMARY:HE 2. Liga Gr. 2 Wetzikon III vs Neuhausen III (0)
UID:0f395b49-6656-427f-b52a-ca086e7b4de8
STATUS:CONFIRMED
LAST-MODIFIED:20241030T102427Z
DESCRIPTION:2. Liga Herren Gruppe 2\nBegegnungs-Nr: 0\nHeim: Wetzikon III\nGast: Neuhausen III\n\nAdresse: Usterstrasse 37\, 8620 Wetzikon\n
LOCATION:Usterstrasse 37\, 8620 Wetzikon
CATEGORIES:Saison 2024/25
END:VEVENT
BEGIN:VEVENT
DTSTAMP:20260425T005046Z
DTSTART;TZID=Europe/Berlin:20240909T194500
DTEND;TZID=Europe/Berlin:20240909T224500
SUMMARY:HE 2. Liga Gr. 2 Wetzikon III vs Bronschhofen II (0)
UID:1a8bc2b5-bf5c-4060-a0a1-108bed6ee4eb
STATUS:CONFIRMED
LAST-MODIFIED:20240912T072617Z
DESCRIPTION:2. Liga Herren Gruppe 2\nBegegnungs-Nr: 0\nHeim: Wetzikon III\nGast: Bronschhofen II\n\nAdresse: Usterstrasse 37\, 8620 Wetzikon\n
LOCATION:Usterstrasse 37\, 8620 Wetzikon
CATEGORIES:Saison 2024/25
END:VEVENT
BEGIN:VEVENT
DTSTAMP:20260425T005046Z
DTSTART;TZID=Europe/Berlin:20240826T194500
DTEND;TZID=Europe/Berlin:20240826T224500
SUMMARY:HE 2. Liga Gr. 2 Wetzikon III vs Winterthur (0)
UID:3472fa80-8b95-402b-b769-c27a447f66c8
STATUS:CONFIRMED
LAST-MODIFIED:20240828T080550Z
DESCRIPTION:2. Liga Herren Gruppe 2\nBegegnungs-Nr: 0\nHeim: Wetzikon III\nGast: Winterthur\n\nAdresse: Usterstrasse 37\, 8620 Wetzikon\n
LOCATION:Usterstrasse 37\, 8620 Wetzikon
CATEGORIES:Saison 2024/25
END:VEVENT
BEGIN:VEVENT
DTSTAMP:20260425T005046Z
DTSTART;TZID=Europe/Berlin:20250324T194500
DTEND;TZID=Europe/Berlin:20250324T224500
SUMMARY:HE 2. Liga Gr. 2 Wetzikon III vs Niederhasli (0)
UID:95ca4ca4-b959-4e0e-bcb1-bb87d62e1a51
STATUS:CONFIRMED
LAST-MODIFIED:20250327T080241Z
DESCRIPTION:2. Liga Herren Gruppe 2\nBegegnungs-Nr: 0\nHeim: Wetzikon III\nGast: Niederhasli\n\nAdresse: Usterstrasse 37\, 8620 Wetzikon\n
LOCATION:Usterstrasse 37\, 8620 Wetzikon
CATEGORIES:Saison 2024/25
END:VEVENT
BEGIN:VEVENT
DTSTAMP:20260425T005046Z
DTSTART;TZID=Europe/Berlin:20250120T194500
DTEND;TZID=Europe/Berlin:20250120T224500
SUMMARY:HE 2. Liga Gr. 2 Wetzikon III vs Ettenhausen (0)
UID:4499df2e-872b-4018-b714-4760003422a9
STATUS:CONFIRMED
LAST-MODIFIED:20250123T070719Z
DESCRIPTION:2. Liga Herren Gruppe 2\nBegegnungs-Nr: 0\nHeim: Wetzikon III\nGast: Ettenhausen\n\nAdresse: Usterstrasse 37\, 8620 Wetzikon\n
LOCATION:Usterstrasse 37\, 8620 Wetzikon
CATEGORIES:Saison 2024/25
END:VEVENT
BEGIN:VEVENT
DTSTAMP:20260425T005046Z
DTSTART;TZID=Europe/Berlin:20250506T194500
DTEND;TZID=Europe/Berlin:20250506T224500
SUMMARY:HE 2. Liga Aufstieg Triesen vs Wetzikon III (211)
UID:283c392c-6654-435c-924b-9abe560b0ae1
STATUS:CONFIRMED
LAST-MODIFIED:20250508T082216Z
DESCRIPTION:2. Liga Herren Aufstieg\nBegegnungs-Nr: 211\nHeim: Triesen\nGast: Wetzikon III\n\nAdresse: Gässle 12\, 9495 Triesen\n
LOCATION:Gässle 12\, 9495 Triesen
CATEGORIES:Saison 2024/25
END:VEVENT
BEGIN:VEVENT
DTSTAMP:20260425T005046Z
DTSTART;TZID=Europe/Berlin:20241105T193000
DTEND;TZID=Europe/Berlin:20241105T223000
SUMMARY:HE 2. Liga Gr. 2 Niederhasli vs Wetzikon III (0)
UID:ec364c0f-ca76-41b1-97ae-16d8dd1df90e
STATUS:CONFIRMED
LAST-MODIFIED:20241106T080854Z
DESCRIPTION:2. Liga Herren Gruppe 2\nBegegnungs-Nr: 0\nHeim: Niederhasli\nGast: Wetzikon III\n\nAdresse: Dorfstrasse 22\, 8155 Niederhasli\n
LOCATION:Dorfstrasse 22\, 8155 Niederhasli
CATEGORIES:Saison 2024/25
END:VEVENT
BEGIN:VEVENT
DTSTAMP:20260425T005046Z
DTSTART;TZID=Europe/Berlin:20240923T194500
DTEND;TZID=Europe/Berlin:20240923T224500
SUMMARY:HE 2. Liga Gr. 2 Steckborn-Homburg vs Wetzikon III (0)
UID:cfdeb30f-84d8-4c23-957f-ec9dd8409ca7
STATUS:CONFIRMED
LAST-MODIFIED:20240926T113154Z
DESCRIPTION:2. Liga Herren Gruppe 2\nBegegnungs-Nr: 0\nHeim: Steckborn-Homburg\nGast: Wetzikon III\n\nAdresse: Feldbach\, 8266 Steckborn\n
LOCATION:Feldbach\, 8266 Steckborn
CATEGORIES:Saison 2024/25
END:VEVENT
BEGIN:VEVENT
DTSTAMP:20260425T005046Z
DTSTART;TZID=Europe/Berlin:20240914T140000
DTEND;TZID=Europe/Berlin:20240914T170000
SUMMARY:HE 2. Liga Gr. 2 Ettenhausen vs Wetzikon III (0)
UID:8e4052cc-820e-42cb-951c-b111b58b7fc6
STATUS:CONFIRMED
LAST-MODIFIED:20240916T060257Z
DESCRIPTION:2. Liga Herren Gruppe 2\nBegegnungs-Nr: 0\nHeim: Ettenhausen\nGast: Wetzikon III\n\nAdresse: Weidlistrasse 12\, 8356 Ettenhausen\n
LOCATION:Weidlistrasse 12\, 8356 Ettenhausen
CATEGORIES:Saison 2024/25
END:VEVENT
BEGIN:VEVENT
DTSTAMP:20260425T005046Z
DTSTART;TZID=Europe/Berlin:20250328T201500
DTEND;TZID=Europe/Berlin:20250328T231500
SUMMARY:HE 2. Liga Gr. 2 Uster vs Wetzikon III (0)
UID:a250c9d0-7751-46cc-b0d0-61bea1ed45dc
STATUS:CONFIRMED
LAST-MODIFIED:20250402T095713Z
DESCRIPTION:2. Liga Herren Gruppe 2\nBegegnungs-Nr: 0\nHeim: Uster\nGast: Wetzikon III\n\nAdresse: Wilstrasse 30 / Zürcherstrasse\, 8610 Uster\n
LOCATION:Wilstrasse 30 / Zürcherstrasse\, 8610 Uster
CATEGORIES:Saison 2024/25
END:VEVENT
BEGIN:VEVENT
DTSTAMP:20260425T005046Z
DTSTART;TZID=Europe/Berlin:20250305T200000
DTEND;TZID=Europe/Berlin:20250305T230000
SUMMARY:HE 2. Liga Gr. 2 Neuhausen III vs Wetzikon III (0)
UID:89388e2e-1f6c-42f1-b93b-53d9c8460aaf
STATUS:CONFIRMED
LAST-MODIFIED:20250306T142031Z
DESCRIPTION:2. Liga Herren Gruppe 2\nBegegnungs-Nr: 0\nHeim: Neuhausen III\nGast: Wetzikon III\n\nAdresse: Ebnatstrasse 35\, 8200 Schaffhausen\n
LOCATION:Ebnatstrasse 35\, 8200 Schaffhausen
CATEGORIES:Saison 2024/25
END:VEVENT
BEGIN:VEVENT
DTSTAMP:20260425T005046Z
DTSTART;TZID=Europe/Berlin:20250205T200000
DTEND;TZID=Europe/Berlin:20250205T230000
SUMMARY:HE 2. Liga Gr. 2 Bronschhofen II vs Wetzikon III (0)
UID:e054ad37-bb17-4b9f-b7ec-ce035ceac301
STATUS:CONFIRMED
LAST-MODIFIED:20250206T140146Z
DESCRIPTION:2. Liga Herren Gruppe 2\nBegegnungs-Nr: 0\nHeim: Bronschhofen II\nGast: Wetzikon III\n\nAdresse: Industriestrasse 4\, 9552 Bronschhofen\n
LOCATION:Industriestrasse 4\, 9552 Bronschhofen
CATEGORIES:Saison 2024/25
END:VEVENT
BEGIN:VEVENT
DTSTAMP:20260425T005046Z
DTSTART;TZID=Europe/Berlin:20250110T201500
DTEND;TZID=Europe/Berlin:20250110T231500
SUMMARY:HE 2. Liga Gr. 2 Winterthur vs Wetzikon III (0)
UID:7ecfc2df-e616-497b-b0e2-f8424804814e
STATUS:CONFIRMED
LAST-MODIFIED:20250113T113733Z
DESCRIPTION:2. Liga Herren Gruppe 2\nBegegnungs-Nr: 0\nHeim: Winterthur\nGast: Wetzikon III\n\nAdresse: Buchackerstrasse 54\, 8400 Winterthur\n
LOCATION:Buchackerstrasse 54\, 8400 Winterthur
CATEGORIES:Saison 2024/25
END:VEVENT
END:VCALENDAR
