BEGIN:VCALENDAR
PRODID:-//nuDatenautomaten//framework iCal4j //DE
VERSION:2.0
CALSCALE:GREGORIAN
BEGIN:VTIMEZONE
TZID:Europe/Berlin
LAST-MODIFIED:20260306T231828Z
TZURL:https://www.tzurl.org/zoneinfo/Europe/Berlin
X-LIC-LOCATION:Europe/Berlin
X-PROLEPTIC-TZNAME:LMT
BEGIN:STANDARD
TZNAME:CET
TZOFFSETFROM:+005328
TZOFFSETTO:+0100
DTSTART:18930401T000000
END:STANDARD
BEGIN:DAYLIGHT
TZNAME:CEST
TZOFFSETFROM:+0100
TZOFFSETTO:+0200
DTSTART:19160430T230000
RDATE:19400401T020000
RDATE:19430329T020000
RDATE:19460414T020000
RDATE:19470406T030000
RDATE:19480418T020000
RDATE:19490410T020000
RDATE:19800406T020000
END:DAYLIGHT
BEGIN:STANDARD
TZNAME:CET
TZOFFSETFROM:+0200
TZOFFSETTO:+0100
DTSTART:19161001T010000
RDATE:19421102T030000
RDATE:19431004T030000
RDATE:19441002T030000
RDATE:19451118T030000
RDATE:19461007T030000
END:STANDARD
BEGIN:DAYLIGHT
TZNAME:CEST
TZOFFSETFROM:+0100
TZOFFSETTO:+0200
DTSTART:19170416T020000
RRULE:FREQ=YEARLY;UNTIL=19180415T010000Z;BYMONTH=4;BYDAY=3MO
END:DAYLIGHT
BEGIN:STANDARD
TZNAME:CET
TZOFFSETFROM:+0200
TZOFFSETTO:+0100
DTSTART:19170917T030000
RRULE:FREQ=YEARLY;UNTIL=19180916T010000Z;BYMONTH=9;BYDAY=3MO
END:STANDARD
BEGIN:DAYLIGHT
TZNAME:CEST
TZOFFSETFROM:+0100
TZOFFSETTO:+0200
DTSTART:19440403T020000
RRULE:FREQ=YEARLY;UNTIL=19450402T010000Z;BYMONTH=4;BYDAY=1MO
END:DAYLIGHT
BEGIN:DAYLIGHT
TZNAME:CEMT
TZOFFSETFROM:+0200
TZOFFSETTO:+0300
DTSTART:19450524T020000
RDATE:19470511T030000
END:DAYLIGHT
BEGIN:DAYLIGHT
TZNAME:CEST
TZOFFSETFROM:+0300
TZOFFSETTO:+0200
DTSTART:19450924T030000
RDATE:19470629T030000
END:DAYLIGHT
BEGIN:STANDARD
TZNAME:CET
TZOFFSETFROM:+0100
TZOFFSETTO:+0100
DTSTART:19460101T000000
RDATE:19800101T000000
END:STANDARD
BEGIN:STANDARD
TZNAME:CET
TZOFFSETFROM:+0200
TZOFFSETTO:+0100
DTSTART:19471005T030000
RRULE:FREQ=YEARLY;UNTIL=19491002T010000Z;BYMONTH=10;BYDAY=1SU
END:STANDARD
BEGIN:STANDARD
TZNAME:CET
TZOFFSETFROM:+0200
TZOFFSETTO:+0100
DTSTART:19800928T030000
RRULE:FREQ=YEARLY;UNTIL=19950924T010000Z;BYMONTH=9;BYDAY=-1SU
END:STANDARD
BEGIN:DAYLIGHT
TZNAME:CEST
TZOFFSETFROM:+0100
TZOFFSETTO:+0200
DTSTART:19810329T020000
RRULE:FREQ=YEARLY;BYMONTH=3;BYDAY=-1SU
END:DAYLIGHT
BEGIN:STANDARD
TZNAME:CET
TZOFFSETFROM:+0200
TZOFFSETTO:+0100
DTSTART:19961027T030000
RRULE:FREQ=YEARLY;BYMONTH=10;BYDAY=-1SU
END:STANDARD
END:VTIMEZONE
BEGIN:VEVENT
DTSTAMP:20260425T004927Z
DTSTART;TZID=Europe/Berlin:20250225T194500
DTEND;TZID=Europe/Berlin:20250225T224500
SUMMARY:HE 5. Liga Gr. 6 Meilen-Männedorf IV vs Wetzikon VIII (0)
UID:5e443e17-4e72-4ef9-8296-c0dfbb1c055b
STATUS:CONFIRMED
LAST-MODIFIED:20250227T112814Z
DESCRIPTION:5. Liga Herren Gruppe 6\nBegegnungs-Nr: 0\nHeim: Meilen-Männedorf IV\nGast: Wetzikon VIII\n\nAdresse: Schulhausstr. 27\, 8706 Meilen\n
LOCATION:Schulhausstr. 27\, 8706 Meilen
CATEGORIES:Saison 2024/25
END:VEVENT
BEGIN:VEVENT
DTSTAMP:20260425T004927Z
DTSTART;TZID=Europe/Berlin:20241205T194500
DTEND;TZID=Europe/Berlin:20241205T224500
SUMMARY:HE 5. Liga Gr. 6 Meilen-Männedorf IV vs Eschenbach (0)
UID:6c00bcf1-32b1-40d0-83e5-0fe21c5ed867
STATUS:CONFIRMED
LAST-MODIFIED:20241211T093845Z
DESCRIPTION:5. Liga Herren Gruppe 6\nBegegnungs-Nr: 0\nHeim: Meilen-Männedorf IV\nGast: Eschenbach\n\nAdresse: Schulhausstr. 27\, 8706 Meilen\n
LOCATION:Schulhausstr. 27\, 8706 Meilen
CATEGORIES:Saison 2024/25
END:VEVENT
BEGIN:VEVENT
DTSTAMP:20260425T004927Z
DTSTART;TZID=Europe/Berlin:20241107T194500
DTEND;TZID=Europe/Berlin:20241107T224500
SUMMARY:HE 5. Liga Gr. 6 Meilen-Männedorf IV vs Wädenswil IX (0)
UID:d2ad21a9-4b96-4a8c-a586-2fec30cbe64c
STATUS:CONFIRMED
LAST-MODIFIED:20241108T145830Z
DESCRIPTION:5. Liga Herren Gruppe 6\nBegegnungs-Nr: 0\nHeim: Meilen-Männedorf IV\nGast: Wädenswil IX\n\nAdresse: Schulhausstr. 27\, 8706 Meilen\n
LOCATION:Schulhausstr. 27\, 8706 Meilen
CATEGORIES:Saison 2024/25
END:VEVENT
BEGIN:VEVENT
DTSTAMP:20260425T004927Z
DTSTART;TZID=Europe/Berlin:20240926T194500
DTEND;TZID=Europe/Berlin:20240926T224500
SUMMARY:HE 5. Liga Gr. 6 Meilen-Männedorf IV vs Greifensee (0)
UID:6d6ab426-077f-4721-b368-2f92ddac327f
STATUS:CONFIRMED
LAST-MODIFIED:20240930T124836Z
DESCRIPTION:5. Liga Herren Gruppe 6\nBegegnungs-Nr: 0\nHeim: Meilen-Männedorf IV\nGast: Greifensee\n\nAdresse: Schulhausstr. 27\, 8706 Meilen\n
LOCATION:Schulhausstr. 27\, 8706 Meilen
CATEGORIES:Saison 2024/25
END:VEVENT
BEGIN:VEVENT
DTSTAMP:20260425T004927Z
DTSTART;TZID=Europe/Berlin:20241114T194500
DTEND;TZID=Europe/Berlin:20241114T224500
SUMMARY:HE 5. Liga Gr. 6 Meilen-Männedorf IV vs Dübendorf-Volketswil IV (0)
UID:a77163b8-8fc0-4bb4-9d5c-ad7d40e19c3f
STATUS:CONFIRMED
LAST-MODIFIED:20241115T150934Z
DESCRIPTION:5. Liga Herren Gruppe 6\nBegegnungs-Nr: 0\nHeim: Meilen-Männedorf IV\nGast: Dübendorf-Volketswil IV\n\nAdresse: Schulhausstr. 27\, 8706 Meilen\n
LOCATION:Schulhausstr. 27\, 8706 Meilen
CATEGORIES:Saison 2024/25
END:VEVENT
BEGIN:VEVENT
DTSTAMP:20260425T004927Z
DTSTART;TZID=Europe/Berlin:20250320T194500
DTEND;TZID=Europe/Berlin:20250320T224500
SUMMARY:HE 5. Liga Gr. 6 Meilen-Männedorf IV vs Young Stars ZH X (0)
UID:9aec3a55-3b4b-4ef7-bc99-94b13e23b5d0
STATUS:CONFIRMED
LAST-MODIFIED:20250321T124118Z
DESCRIPTION:5. Liga Herren Gruppe 6\nBegegnungs-Nr: 0\nHeim: Meilen-Männedorf IV\nGast: Young Stars ZH X\n\nAdresse: Schulhausstr. 27\, 8706 Meilen\n
LOCATION:Schulhausstr. 27\, 8706 Meilen
CATEGORIES:Saison 2024/25
END:VEVENT
BEGIN:VEVENT
DTSTAMP:20260425T004927Z
DTSTART;TZID=Europe/Berlin:20250227T194500
DTEND;TZID=Europe/Berlin:20250227T224500
SUMMARY:HE 5. Liga Gr. 6 Meilen-Männedorf IV vs Gossau Zuerich II (0)
UID:fb31c7fe-bac8-477d-b1e0-6358561109be
STATUS:CONFIRMED
LAST-MODIFIED:20250228T143723Z
DESCRIPTION:5. Liga Herren Gruppe 6\nBegegnungs-Nr: 0\nHeim: Meilen-Männedorf IV\nGast: Gossau Zuerich II\n\nAdresse: Schulhausstr. 27\, 8706 Meilen\n
LOCATION:Schulhausstr. 27\, 8706 Meilen
CATEGORIES:Saison 2024/25
END:VEVENT
BEGIN:VEVENT
DTSTAMP:20260425T004927Z
DTSTART;TZID=Europe/Berlin:20250123T194500
DTEND;TZID=Europe/Berlin:20250123T224500
SUMMARY:HE 5. Liga Gr. 6 Dübendorf-Volketswil IV vs Meilen-Männedorf IV (0)
UID:a141d805-9b15-4d31-8055-a07b38ff40b4
STATUS:CONFIRMED
LAST-MODIFIED:20250129T124128Z
DESCRIPTION:5. Liga Herren Gruppe 6\nBegegnungs-Nr: 0\nHeim: Dübendorf-Volketswil IV\nGast: Meilen-Männedorf IV\n\nAdresse: Wasserfurrenstrasse 7\, 8600 Dübendorf\n
LOCATION:Wasserfurrenstrasse 7\, 8600 Dübendorf
CATEGORIES:Saison 2024/25
END:VEVENT
BEGIN:VEVENT
DTSTAMP:20260425T004927Z
DTSTART;TZID=Europe/Berlin:20241101T200000
DTEND;TZID=Europe/Berlin:20241101T230000
SUMMARY:HE 5. Liga Gr. 6 Young Stars ZH X vs Meilen-Männedorf IV (0)
UID:405e2628-a38a-4799-ae66-5833fc8b1cf8
STATUS:CONFIRMED
LAST-MODIFIED:20241108T143135Z
DESCRIPTION:5. Liga Herren Gruppe 6\nBegegnungs-Nr: 0\nHeim: Young Stars ZH X\nGast: Meilen-Männedorf IV\n\nAdresse: Balgriststrasse 55\, 8008 Zürich\n
LOCATION:Balgriststrasse 55\, 8008 Zürich
CATEGORIES:Saison 2024/25
END:VEVENT
BEGIN:VEVENT
DTSTAMP:20260425T004927Z
DTSTART;TZID=Europe/Berlin:20240916T201500
DTEND;TZID=Europe/Berlin:20240916T231500
SUMMARY:HE 5. Liga Gr. 6 Gossau Zuerich II vs Meilen-Männedorf IV (0)
UID:0f7fbdd4-d18a-4ee1-b717-04c887c2e0cd
STATUS:CONFIRMED
LAST-MODIFIED:20240917T072352Z
DESCRIPTION:5. Liga Herren Gruppe 6\nBegegnungs-Nr: 0\nHeim: Gossau Zuerich II\nGast: Meilen-Männedorf IV\n\nAdresse: Schulstrasse\, 8624 Grüt-Gossau\n
LOCATION:Schulstrasse\, 8624 Grüt-Gossau
CATEGORIES:Saison 2024/25
END:VEVENT
BEGIN:VEVENT
DTSTAMP:20260425T004927Z
DTSTART;TZID=Europe/Berlin:20240830T194500
DTEND;TZID=Europe/Berlin:20240830T224500
SUMMARY:HE 5. Liga Gr. 6 Wetzikon VIII vs Meilen-Männedorf IV (0)
UID:762b99d0-d954-487b-adac-9118fcad3de2
STATUS:CONFIRMED
LAST-MODIFIED:20240904T113658Z
DESCRIPTION:5. Liga Herren Gruppe 6\nBegegnungs-Nr: 0\nHeim: Wetzikon VIII\nGast: Meilen-Männedorf IV\n\nAdresse: Usterstrasse 37\, 8620 Wetzikon\n
LOCATION:Usterstrasse 37\, 8620 Wetzikon
CATEGORIES:Saison 2024/25
END:VEVENT
BEGIN:VEVENT
DTSTAMP:20260425T004927Z
DTSTART;TZID=Europe/Berlin:20250124T200000
DTEND;TZID=Europe/Berlin:20250124T230000
SUMMARY:HE 5. Liga Gr. 6 Eschenbach vs Meilen-Männedorf IV (0)
UID:1bcadcc9-a6b7-4c52-b3a0-9206627a5c89
STATUS:CONFIRMED
LAST-MODIFIED:20250129T124157Z
DESCRIPTION:5. Liga Herren Gruppe 6\nBegegnungs-Nr: 0\nHeim: Eschenbach\nGast: Meilen-Männedorf IV\n\nAdresse: Bildstöcklistrasse 2\, 8733 Eschenbach\n
LOCATION:Bildstöcklistrasse 2\, 8733 Eschenbach
CATEGORIES:Saison 2024/25
END:VEVENT
BEGIN:VEVENT
DTSTAMP:20260425T004927Z
DTSTART;TZID=Europe/Berlin:20250313T200000
DTEND;TZID=Europe/Berlin:20250313T230000
SUMMARY:HE 5. Liga Gr. 6 Wädenswil IX vs Meilen-Männedorf IV (0)
UID:5cd5715f-514c-40fa-b8e6-bf587ccfb315
STATUS:CONFIRMED
LAST-MODIFIED:20250314T124954Z
DESCRIPTION:5. Liga Herren Gruppe 6\nBegegnungs-Nr: 0\nHeim: Wädenswil IX\nGast: Meilen-Männedorf IV\n\nAdresse: Speerstrasse 95\, 8820 Wädenswil\n
LOCATION:Speerstrasse 95\, 8820 Wädenswil
CATEGORIES:Saison 2024/25
END:VEVENT
BEGIN:VEVENT
DTSTAMP:20260425T004927Z
DTSTART;TZID=Europe/Berlin:20250211T200000
DTEND;TZID=Europe/Berlin:20250211T230000
SUMMARY:HE 5. Liga Gr. 6 Greifensee vs Meilen-Männedorf IV (0)
UID:43dd4250-b9f4-4da4-8125-515dfb9f205b
STATUS:CONFIRMED
LAST-MODIFIED:20250213T132648Z
DESCRIPTION:5. Liga Herren Gruppe 6\nBegegnungs-Nr: 0\nHeim: Greifensee\nGast: Meilen-Männedorf IV\n\nAdresse: Stationsstrasse\, 8606 Nänikon\n
LOCATION:Stationsstrasse\, 8606 Nänikon
CATEGORIES:Saison 2024/25
END:VEVENT
END:VCALENDAR
