BEGIN:VCALENDAR
PRODID:-//nuDatenautomaten//framework iCal4j //DE
VERSION:2.0
CALSCALE:GREGORIAN
BEGIN:VTIMEZONE
TZID:Europe/Berlin
LAST-MODIFIED:20260306T231828Z
TZURL:https://www.tzurl.org/zoneinfo/Europe/Berlin
X-LIC-LOCATION:Europe/Berlin
X-PROLEPTIC-TZNAME:LMT
BEGIN:STANDARD
TZNAME:CET
TZOFFSETFROM:+005328
TZOFFSETTO:+0100
DTSTART:18930401T000000
END:STANDARD
BEGIN:DAYLIGHT
TZNAME:CEST
TZOFFSETFROM:+0100
TZOFFSETTO:+0200
DTSTART:19160430T230000
RDATE:19400401T020000
RDATE:19430329T020000
RDATE:19460414T020000
RDATE:19470406T030000
RDATE:19480418T020000
RDATE:19490410T020000
RDATE:19800406T020000
END:DAYLIGHT
BEGIN:STANDARD
TZNAME:CET
TZOFFSETFROM:+0200
TZOFFSETTO:+0100
DTSTART:19161001T010000
RDATE:19421102T030000
RDATE:19431004T030000
RDATE:19441002T030000
RDATE:19451118T030000
RDATE:19461007T030000
END:STANDARD
BEGIN:DAYLIGHT
TZNAME:CEST
TZOFFSETFROM:+0100
TZOFFSETTO:+0200
DTSTART:19170416T020000
RRULE:FREQ=YEARLY;UNTIL=19180415T010000Z;BYMONTH=4;BYDAY=3MO
END:DAYLIGHT
BEGIN:STANDARD
TZNAME:CET
TZOFFSETFROM:+0200
TZOFFSETTO:+0100
DTSTART:19170917T030000
RRULE:FREQ=YEARLY;UNTIL=19180916T010000Z;BYMONTH=9;BYDAY=3MO
END:STANDARD
BEGIN:DAYLIGHT
TZNAME:CEST
TZOFFSETFROM:+0100
TZOFFSETTO:+0200
DTSTART:19440403T020000
RRULE:FREQ=YEARLY;UNTIL=19450402T010000Z;BYMONTH=4;BYDAY=1MO
END:DAYLIGHT
BEGIN:DAYLIGHT
TZNAME:CEMT
TZOFFSETFROM:+0200
TZOFFSETTO:+0300
DTSTART:19450524T020000
RDATE:19470511T030000
END:DAYLIGHT
BEGIN:DAYLIGHT
TZNAME:CEST
TZOFFSETFROM:+0300
TZOFFSETTO:+0200
DTSTART:19450924T030000
RDATE:19470629T030000
END:DAYLIGHT
BEGIN:STANDARD
TZNAME:CET
TZOFFSETFROM:+0100
TZOFFSETTO:+0100
DTSTART:19460101T000000
RDATE:19800101T000000
END:STANDARD
BEGIN:STANDARD
TZNAME:CET
TZOFFSETFROM:+0200
TZOFFSETTO:+0100
DTSTART:19471005T030000
RRULE:FREQ=YEARLY;UNTIL=19491002T010000Z;BYMONTH=10;BYDAY=1SU
END:STANDARD
BEGIN:STANDARD
TZNAME:CET
TZOFFSETFROM:+0200
TZOFFSETTO:+0100
DTSTART:19800928T030000
RRULE:FREQ=YEARLY;UNTIL=19950924T010000Z;BYMONTH=9;BYDAY=-1SU
END:STANDARD
BEGIN:DAYLIGHT
TZNAME:CEST
TZOFFSETFROM:+0100
TZOFFSETTO:+0200
DTSTART:19810329T020000
RRULE:FREQ=YEARLY;BYMONTH=3;BYDAY=-1SU
END:DAYLIGHT
BEGIN:STANDARD
TZNAME:CET
TZOFFSETFROM:+0200
TZOFFSETTO:+0100
DTSTART:19961027T030000
RRULE:FREQ=YEARLY;BYMONTH=10;BYDAY=-1SU
END:STANDARD
END:VTIMEZONE
BEGIN:VEVENT
DTSTAMP:20260424T220524Z
DTSTART;TZID=Europe/Berlin:20241211T201500
DTEND;TZID=Europe/Berlin:20241211T231500
SUMMARY:ME L5 Gr 6\, Tours 1&2 Yverdon VI vs Yverdon V (0)
UID:d35b35b1-11bb-4e2c-b530-ee3a13d0dc32
STATUS:CONFIRMED
LAST-MODIFIED:20241212T011154Z
DESCRIPTION:5ème ligue Hommes Groupe 6\, Tours 1&2\nBegegnungs-Nr: 0\nHeim: Yverdon VI\nGast: Yverdon V\n\nAdresse: Avenue des Quatre Marroniers 1\, 1400 Yverdon-les-Bains\n
LOCATION:Avenue des Quatre Marroniers 1\, 1400 Yverdon-les-Bains
CATEGORIES:Saison 2024/25
END:VEVENT
BEGIN:VEVENT
DTSTAMP:20260424T220524Z
DTSTART;TZID=Europe/Berlin:20241127T201500
DTEND;TZID=Europe/Berlin:20241127T231500
SUMMARY:ME L5 Gr 6\, Tours 1&2 Yverdon VI vs Orbe II (0)
UID:a2e125f4-e98c-4698-9374-5216c1eab1a8
STATUS:CONFIRMED
LAST-MODIFIED:20241128T003326Z
DESCRIPTION:5ème ligue Hommes Groupe 6\, Tours 1&2\nBegegnungs-Nr: 0\nHeim: Yverdon VI\nGast: Orbe II\n\nAdresse: Avenue des Quatre Marroniers 1\, 1400 Yverdon-les-Bains\n
LOCATION:Avenue des Quatre Marroniers 1\, 1400 Yverdon-les-Bains
CATEGORIES:Saison 2024/25
END:VEVENT
BEGIN:VEVENT
DTSTAMP:20260424T220524Z
DTSTART;TZID=Europe/Berlin:20241204T201500
DTEND;TZID=Europe/Berlin:20241204T231500
SUMMARY:ME L5 Gr 6\, Tours 1&2 Yverdon VI vs Orbe (0)
UID:b555e65c-a0cc-4239-bdfc-8a603a237720
STATUS:CONFIRMED
LAST-MODIFIED:20241205T225435Z
DESCRIPTION:5ème ligue Hommes Groupe 6\, Tours 1&2\nBegegnungs-Nr: 0\nHeim: Yverdon VI\nGast: Orbe\n\nAdresse: Avenue des Quatre Marroniers 1\, 1400 Yverdon-les-Bains\n
LOCATION:Avenue des Quatre Marroniers 1\, 1400 Yverdon-les-Bains
CATEGORIES:Saison 2024/25
END:VEVENT
BEGIN:VEVENT
DTSTAMP:20260424T220524Z
DTSTART;TZID=Europe/Berlin:20240918T201500
DTEND;TZID=Europe/Berlin:20240918T231500
SUMMARY:ME L5 Gr 6\, Tours 1&2 Yverdon VI vs Sainte-Croix (0)
UID:d02421ac-2a8b-4aef-988e-1177180e5572
STATUS:CONFIRMED
LAST-MODIFIED:20240922T135919Z
DESCRIPTION:5ème ligue Hommes Groupe 6\, Tours 1&2\nBegegnungs-Nr: 0\nHeim: Yverdon VI\nGast: Sainte-Croix\n\nAdresse: Avenue des Quatre Marroniers 1\, 1400 Yverdon-les-Bains\n
LOCATION:Avenue des Quatre Marroniers 1\, 1400 Yverdon-les-Bains
CATEGORIES:Saison 2024/25
END:VEVENT
BEGIN:VEVENT
DTSTAMP:20260424T220524Z
DTSTART;TZID=Europe/Berlin:20241016T201500
DTEND;TZID=Europe/Berlin:20241016T231500
SUMMARY:ME L5 Gr 6\, Tours 1&2 Yverdon VI vs Crissier VI (0)
UID:0e2a37e1-cca1-422e-9110-93518c133874
STATUS:CONFIRMED
LAST-MODIFIED:20241018T002025Z
DESCRIPTION:5ème ligue Hommes Groupe 6\, Tours 1&2\nBegegnungs-Nr: 0\nHeim: Yverdon VI\nGast: Crissier VI\n\nAdresse: Avenue des Quatre Marroniers 1\, 1400 Yverdon-les-Bains\n
LOCATION:Avenue des Quatre Marroniers 1\, 1400 Yverdon-les-Bains
CATEGORIES:Saison 2024/25
END:VEVENT
BEGIN:VEVENT
DTSTAMP:20260424T220524Z
DTSTART;TZID=Europe/Berlin:20250312T201500
DTEND;TZID=Europe/Berlin:20250312T231500
SUMMARY:ME L6 Gr 9\, Tours 3&4 Yverdon VI vs Penthalaz (0)
UID:612781a1-447a-4fdc-b33a-db561a10838f
STATUS:CONFIRMED
LAST-MODIFIED:20250313T110341Z
DESCRIPTION:6ème ligue Hommes Groupe 9\,Tours 3&4\nBegegnungs-Nr: 0\nHeim: Yverdon VI\nGast: Penthalaz\n\nAdresse: Avenue des Quatre Marroniers 1\, 1400 Yverdon-les-Bains\n
LOCATION:Avenue des Quatre Marroniers 1\, 1400 Yverdon-les-Bains
CATEGORIES:Saison 2024/25
END:VEVENT
BEGIN:VEVENT
DTSTAMP:20260424T220524Z
DTSTART;TZID=Europe/Berlin:20250305T201500
DTEND;TZID=Europe/Berlin:20250305T231500
SUMMARY:ME L6 Gr 9\, Tours 3&4 Yverdon VI vs Sainte-Croix II (0)
UID:b269566b-bc23-4dd4-aa81-84109e0f5e35
STATUS:CONFIRMED
LAST-MODIFIED:20250306T230551Z
DESCRIPTION:6ème ligue Hommes Groupe 9\,Tours 3&4\nBegegnungs-Nr: 0\nHeim: Yverdon VI\nGast: Sainte-Croix II\n\nAdresse: Avenue des Quatre Marroniers 1\, 1400 Yverdon-les-Bains\n
LOCATION:Avenue des Quatre Marroniers 1\, 1400 Yverdon-les-Bains
CATEGORIES:Saison 2024/25
END:VEVENT
BEGIN:VEVENT
DTSTAMP:20260424T220524Z
DTSTART;TZID=Europe/Berlin:20250507T201500
DTEND;TZID=Europe/Berlin:20250507T231500
SUMMARY:ME L6 Gr 9\, Tours 3&4 Yverdon VI vs Yvonand (0)
UID:19c51425-640b-4c87-8e77-e65d3355ad82
STATUS:CONFIRMED
LAST-MODIFIED:20250508T231523Z
DESCRIPTION:6ème ligue Hommes Groupe 9\,Tours 3&4\nBegegnungs-Nr: 0\nHeim: Yverdon VI\nGast: Yvonand\n\nAdresse: Avenue des Quatre Marroniers 1\, 1400 Yverdon-les-Bains\n
LOCATION:Avenue des Quatre Marroniers 1\, 1400 Yverdon-les-Bains
CATEGORIES:Saison 2024/25
END:VEVENT
BEGIN:VEVENT
DTSTAMP:20260424T220524Z
DTSTART;TZID=Europe/Berlin:20250319T201500
DTEND;TZID=Europe/Berlin:20250319T231500
SUMMARY:ME L6 Gr 9\, Tours 3&4 Yverdon VI vs Yverdon VIII (0)
UID:a71888fb-d0c2-4dd4-809f-f150780f18d5
STATUS:CONFIRMED
LAST-MODIFIED:20250320T085524Z
DESCRIPTION:6ème ligue Hommes Groupe 9\,Tours 3&4\nBegegnungs-Nr: 0\nHeim: Yverdon VI\nGast: Yverdon VIII\n\nAdresse: Avenue des Quatre Marroniers 1\, 1400 Yverdon-les-Bains\n
LOCATION:Avenue des Quatre Marroniers 1\, 1400 Yverdon-les-Bains
CATEGORIES:Saison 2024/25
END:VEVENT
BEGIN:VEVENT
DTSTAMP:20260424T220524Z
DTSTART;TZID=Europe/Berlin:20250521T200000
DTEND;TZID=Europe/Berlin:20250521T230000
SUMMARY:ME L6 Finales Yverdon VI vs Dorénaz (2)
UID:dad7113b-4291-41e3-ac8f-ff9ecad596c9
STATUS:CONFIRMED
LAST-MODIFIED:20250521T224206Z
DESCRIPTION:6ème ligue Hommes Finales\nBegegnungs-Nr: 2\nHeim: Yverdon VI\nGast: Dorénaz\n\nAdresse: Avenue des Quatre Marroniers 1\, 1400 Yverdon-les-Bains\n
LOCATION:Avenue des Quatre Marroniers 1\, 1400 Yverdon-les-Bains
CATEGORIES:Saison 2024/25
END:VEVENT
BEGIN:VEVENT
DTSTAMP:20260424T220524Z
DTSTART;TZID=Europe/Berlin:20250605T193000
DTEND;TZID=Europe/Berlin:20250605T223000
SUMMARY:ME L6 Finales Crissier VIII vs Yverdon VI (1)
UID:8ab154bc-bf17-42d5-b619-d92ceda93211
STATUS:CONFIRMED
LAST-MODIFIED:20250606T160626Z
DESCRIPTION:6ème ligue Hommes Finales\nBegegnungs-Nr: 1\nHeim: Crissier VIII\nGast: Yverdon VI\n\nAdresse: ch. des Oches du Mur\, 1023 Crissier\n
LOCATION:ch. des Oches du Mur\, 1023 Crissier
CATEGORIES:Saison 2024/25
END:VEVENT
BEGIN:VEVENT
DTSTAMP:20260424T220524Z
DTSTART;TZID=Europe/Berlin:20241118T194500
DTEND;TZID=Europe/Berlin:20241118T224500
SUMMARY:ME L5 Gr 6\, Tours 1&2 Sainte-Croix vs Yverdon VI (0)
UID:d648e94a-0933-4d4e-8cc4-75510824229b
STATUS:CONFIRMED
LAST-MODIFIED:20241119T184039Z
DESCRIPTION:5ème ligue Hommes Groupe 6\, Tours 1&2\nBegegnungs-Nr: 0\nHeim: Sainte-Croix\nGast: Yverdon VI\n\nAdresse: Av. de la Gare 23\, 1450 Sainte-Croix\n
LOCATION:Av. de la Gare 23\, 1450 Sainte-Croix
CATEGORIES:Saison 2024/25
END:VEVENT
BEGIN:VEVENT
DTSTAMP:20260424T220524Z
DTSTART;TZID=Europe/Berlin:20241112T193000
DTEND;TZID=Europe/Berlin:20241112T223000
SUMMARY:ME L5 Gr 6\, Tours 1&2 Crissier VI vs Yverdon VI (0)
UID:cf062556-75c1-4932-bde5-835a2204d939
STATUS:CONFIRMED
LAST-MODIFIED:20241114T121341Z
DESCRIPTION:5ème ligue Hommes Groupe 6\, Tours 1&2\nBegegnungs-Nr: 0\nHeim: Crissier VI\nGast: Yverdon VI\n\nAdresse: Ch. de Roséaz\, 1030 Bussigny\n
LOCATION:Ch. de Roséaz\, 1030 Bussigny
CATEGORIES:Saison 2024/25
END:VEVENT
BEGIN:VEVENT
DTSTAMP:20260424T220524Z
DTSTART;TZID=Europe/Berlin:20241009T201500
DTEND;TZID=Europe/Berlin:20241009T231500
SUMMARY:ME L5 Gr 6\, Tours 1&2 Yverdon V vs Yverdon VI (0)
UID:6c7161e4-9fa8-452a-b3bc-ef78980da4df
STATUS:CONFIRMED
LAST-MODIFIED:20241010T231740Z
DESCRIPTION:5ème ligue Hommes Groupe 6\, Tours 1&2\nBegegnungs-Nr: 0\nHeim: Yverdon V\nGast: Yverdon VI\n\nAdresse: Avenue des Quatre Marroniers 1\, 1400 Yverdon-les-Bains\n
LOCATION:Avenue des Quatre Marroniers 1\, 1400 Yverdon-les-Bains
CATEGORIES:Saison 2024/25
END:VEVENT
BEGIN:VEVENT
DTSTAMP:20260424T220524Z
DTSTART;TZID=Europe/Berlin:20241001T201500
DTEND;TZID=Europe/Berlin:20241001T231500
SUMMARY:ME L5 Gr 6\, Tours 1&2 Orbe II vs Yverdon VI (0)
UID:b5f6dbee-e4c2-443e-8f29-e7f1ec55331a
STATUS:CONFIRMED
LAST-MODIFIED:20241007T065022Z
DESCRIPTION:5ème ligue Hommes Groupe 6\, Tours 1&2\nBegegnungs-Nr: 0\nHeim: Orbe II\nGast: Yverdon VI\n\nAdresse: Rue du Suchet\, 1350 Orbe\n
LOCATION:Rue du Suchet\, 1350 Orbe
CATEGORIES:Saison 2024/25
END:VEVENT
BEGIN:VEVENT
DTSTAMP:20260424T220524Z
DTSTART;TZID=Europe/Berlin:20240924T201500
DTEND;TZID=Europe/Berlin:20240924T231500
SUMMARY:ME L5 Gr 6\, Tours 1&2 Orbe vs Yverdon VI (0)
UID:e0c53afd-00aa-4f4a-b7ea-21930b25b5ab
STATUS:CONFIRMED
LAST-MODIFIED:20240926T112603Z
DESCRIPTION:5ème ligue Hommes Groupe 6\, Tours 1&2\nBegegnungs-Nr: 0\nHeim: Orbe\nGast: Yverdon VI\n\nAdresse: Rue du Suchet\, 1350 Orbe\n
LOCATION:Rue du Suchet\, 1350 Orbe
CATEGORIES:Saison 2024/25
END:VEVENT
BEGIN:VEVENT
DTSTAMP:20260424T220524Z
DTSTART;TZID=Europe/Berlin:20250226T191500
DTEND;TZID=Europe/Berlin:20250226T221500
SUMMARY:ME L6 Gr 9\, Tours 3&4 Yvonand vs Yverdon VI (0)
UID:c1812941-05d4-4348-a6f6-41d007b98e28
STATUS:CONFIRMED
LAST-MODIFIED:20250305T211546Z
DESCRIPTION:6ème ligue Hommes Groupe 9\,Tours 3&4\nBegegnungs-Nr: 0\nHeim: Yvonand\nGast: Yverdon VI\n\nAdresse: Salle de rythmique\, 1462 Yvonand\n
LOCATION:Salle de rythmique\, 1462 Yvonand
CATEGORIES:Saison 2024/25
END:VEVENT
BEGIN:VEVENT
DTSTAMP:20260424T220524Z
DTSTART;TZID=Europe/Berlin:20250117T201500
DTEND;TZID=Europe/Berlin:20250117T231500
SUMMARY:ME L6 Gr 9\, Tours 3&4 Yverdon VIII vs Yverdon VI (0)
UID:c78d948a-3160-4490-9228-8218c8b8ee89
STATUS:CONFIRMED
LAST-MODIFIED:20250119T144749Z
DESCRIPTION:6ème ligue Hommes Groupe 9\,Tours 3&4\nBegegnungs-Nr: 0\nHeim: Yverdon VIII\nGast: Yverdon VI\n\nAdresse: Avenue des Quatre Marroniers 1\, 1400 Yverdon-les-Bains\n
LOCATION:Avenue des Quatre Marroniers 1\, 1400 Yverdon-les-Bains
CATEGORIES:Saison 2024/25
END:VEVENT
BEGIN:VEVENT
DTSTAMP:20260424T220524Z
DTSTART;TZID=Europe/Berlin:20250124T200000
DTEND;TZID=Europe/Berlin:20250124T230000
SUMMARY:ME L6 Gr 9\, Tours 3&4 Penthalaz vs Yverdon VI (0)
UID:2801ac4f-5216-48e7-93ef-9a4ccadcd9db
STATUS:CONFIRMED
LAST-MODIFIED:20250127T011747Z
DESCRIPTION:6ème ligue Hommes Groupe 9\,Tours 3&4\nBegegnungs-Nr: 0\nHeim: Penthalaz\nGast: Yverdon VI\n\nAdresse: Chemin du Collège 1\, 1305 Penthalaz\n
LOCATION:Chemin du Collège 1\, 1305 Penthalaz
CATEGORIES:Saison 2024/25
END:VEVENT
BEGIN:VEVENT
DTSTAMP:20260424T220524Z
DTSTART;TZID=Europe/Berlin:20250324T194500
DTEND;TZID=Europe/Berlin:20250324T224500
SUMMARY:ME L6 Gr 9\, Tours 3&4 Sainte-Croix II vs Yverdon VI (0)
UID:430f0470-63fe-45c2-81bd-da3f97d17140
STATUS:CONFIRMED
LAST-MODIFIED:20250325T125227Z
DESCRIPTION:6ème ligue Hommes Groupe 9\,Tours 3&4\nBegegnungs-Nr: 0\nHeim: Sainte-Croix II\nGast: Yverdon VI\n\nAdresse: Av. de la Gare 23\, 1450 Sainte-Croix\n
LOCATION:Av. de la Gare 23\, 1450 Sainte-Croix
CATEGORIES:Saison 2024/25
END:VEVENT
END:VCALENDAR
