BEGIN:VCALENDAR
PRODID:-//nuDatenautomaten//framework iCal4j //DE
VERSION:2.0
CALSCALE:GREGORIAN
BEGIN:VTIMEZONE
TZID:Europe/Berlin
LAST-MODIFIED:20260306T231828Z
TZURL:https://www.tzurl.org/zoneinfo/Europe/Berlin
X-LIC-LOCATION:Europe/Berlin
X-PROLEPTIC-TZNAME:LMT
BEGIN:STANDARD
TZNAME:CET
TZOFFSETFROM:+005328
TZOFFSETTO:+0100
DTSTART:18930401T000000
END:STANDARD
BEGIN:DAYLIGHT
TZNAME:CEST
TZOFFSETFROM:+0100
TZOFFSETTO:+0200
DTSTART:19160430T230000
RDATE:19400401T020000
RDATE:19430329T020000
RDATE:19460414T020000
RDATE:19470406T030000
RDATE:19480418T020000
RDATE:19490410T020000
RDATE:19800406T020000
END:DAYLIGHT
BEGIN:STANDARD
TZNAME:CET
TZOFFSETFROM:+0200
TZOFFSETTO:+0100
DTSTART:19161001T010000
RDATE:19421102T030000
RDATE:19431004T030000
RDATE:19441002T030000
RDATE:19451118T030000
RDATE:19461007T030000
END:STANDARD
BEGIN:DAYLIGHT
TZNAME:CEST
TZOFFSETFROM:+0100
TZOFFSETTO:+0200
DTSTART:19170416T020000
RRULE:FREQ=YEARLY;UNTIL=19180415T010000Z;BYMONTH=4;BYDAY=3MO
END:DAYLIGHT
BEGIN:STANDARD
TZNAME:CET
TZOFFSETFROM:+0200
TZOFFSETTO:+0100
DTSTART:19170917T030000
RRULE:FREQ=YEARLY;UNTIL=19180916T010000Z;BYMONTH=9;BYDAY=3MO
END:STANDARD
BEGIN:DAYLIGHT
TZNAME:CEST
TZOFFSETFROM:+0100
TZOFFSETTO:+0200
DTSTART:19440403T020000
RRULE:FREQ=YEARLY;UNTIL=19450402T010000Z;BYMONTH=4;BYDAY=1MO
END:DAYLIGHT
BEGIN:DAYLIGHT
TZNAME:CEMT
TZOFFSETFROM:+0200
TZOFFSETTO:+0300
DTSTART:19450524T020000
RDATE:19470511T030000
END:DAYLIGHT
BEGIN:DAYLIGHT
TZNAME:CEST
TZOFFSETFROM:+0300
TZOFFSETTO:+0200
DTSTART:19450924T030000
RDATE:19470629T030000
END:DAYLIGHT
BEGIN:STANDARD
TZNAME:CET
TZOFFSETFROM:+0100
TZOFFSETTO:+0100
DTSTART:19460101T000000
RDATE:19800101T000000
END:STANDARD
BEGIN:STANDARD
TZNAME:CET
TZOFFSETFROM:+0200
TZOFFSETTO:+0100
DTSTART:19471005T030000
RRULE:FREQ=YEARLY;UNTIL=19491002T010000Z;BYMONTH=10;BYDAY=1SU
END:STANDARD
BEGIN:STANDARD
TZNAME:CET
TZOFFSETFROM:+0200
TZOFFSETTO:+0100
DTSTART:19800928T030000
RRULE:FREQ=YEARLY;UNTIL=19950924T010000Z;BYMONTH=9;BYDAY=-1SU
END:STANDARD
BEGIN:DAYLIGHT
TZNAME:CEST
TZOFFSETFROM:+0100
TZOFFSETTO:+0200
DTSTART:19810329T020000
RRULE:FREQ=YEARLY;BYMONTH=3;BYDAY=-1SU
END:DAYLIGHT
BEGIN:STANDARD
TZNAME:CET
TZOFFSETFROM:+0200
TZOFFSETTO:+0100
DTSTART:19961027T030000
RRULE:FREQ=YEARLY;BYMONTH=10;BYDAY=-1SU
END:STANDARD
END:VTIMEZONE
BEGIN:VEVENT
DTSTAMP:20260425T005109Z
DTSTART;TZID=Europe/Berlin:20250603T200000
DTEND;TZID=Europe/Berlin:20250603T230000
SUMMARY:HE 4. Liga Abstieg 2.Rde. Seebach-Kügeliloo vs Oberriet II (415)
UID:f654b059-6037-4423-bd95-0895fcf5ad13
STATUS:CONFIRMED
LAST-MODIFIED:20250604T084918Z
DESCRIPTION:4. Liga Herren Abstieg 2. Runde\nBegegnungs-Nr: 415\nHeim: Seebach-Kügeliloo\nGast: Oberriet II\n
LOCATION:
CATEGORIES:Saison 2024/25
END:VEVENT
BEGIN:VEVENT
DTSTAMP:20260425T005109Z
DTSTART;TZID=Europe/Berlin:20250305T193000
DTEND;TZID=Europe/Berlin:20250305T223000
SUMMARY:HE 4. Liga Gr. 4 Seebach-Kügeliloo vs Höngg II (0)
UID:c489b7c5-ddbc-4748-8b0c-ac69f570cfdf
STATUS:CONFIRMED
LAST-MODIFIED:20250306T142411Z
DESCRIPTION:4. Liga Herren Gruppe 4\nBegegnungs-Nr: 0\nHeim: Seebach-Kügeliloo\nGast: Höngg II\n\nAdresse: Maienstrasse 9\, 8050 Zürich\n
LOCATION:Maienstrasse 9\, 8050 Zürich
CATEGORIES:Saison 2024/25
END:VEVENT
BEGIN:VEVENT
DTSTAMP:20260425T005109Z
DTSTART;TZID=Europe/Berlin:20250129T193000
DTEND;TZID=Europe/Berlin:20250129T223000
SUMMARY:HE 4. Liga Gr. 4 Seebach-Kügeliloo vs Niederhasli IV (0)
UID:32cfccc9-d121-46f0-ab7d-353d468d9c32
STATUS:CONFIRMED
LAST-MODIFIED:20250131T143637Z
DESCRIPTION:4. Liga Herren Gruppe 4\nBegegnungs-Nr: 0\nHeim: Seebach-Kügeliloo\nGast: Niederhasli IV\n\nAdresse: Maienstrasse 9\, 8050 Zürich\n
LOCATION:Maienstrasse 9\, 8050 Zürich
CATEGORIES:Saison 2024/25
END:VEVENT
BEGIN:VEVENT
DTSTAMP:20260425T005109Z
DTSTART;TZID=Europe/Berlin:20250108T193000
DTEND;TZID=Europe/Berlin:20250108T223000
SUMMARY:HE 4. Liga Gr. 4 Seebach-Kügeliloo vs Pinguin Zürich IV (0)
UID:495f54bc-b9b9-439e-95ce-7d20602ed271
STATUS:CONFIRMED
LAST-MODIFIED:20250110T151036Z
DESCRIPTION:4. Liga Herren Gruppe 4\nBegegnungs-Nr: 0\nHeim: Seebach-Kügeliloo\nGast: Pinguin Zürich IV\n\nAdresse: Maienstrasse 9\, 8050 Zürich\n
LOCATION:Maienstrasse 9\, 8050 Zürich
CATEGORIES:Saison 2024/25
END:VEVENT
BEGIN:VEVENT
DTSTAMP:20260425T005109Z
DTSTART;TZID=Europe/Berlin:20241211T193000
DTEND;TZID=Europe/Berlin:20241211T223000
SUMMARY:HE 4. Liga Gr. 4 Seebach-Kügeliloo vs Thalwil III (0)
UID:d053e521-6939-4c0e-8d1c-16dbacfcc357
STATUS:CONFIRMED
LAST-MODIFIED:20241212T091738Z
DESCRIPTION:4. Liga Herren Gruppe 4\nBegegnungs-Nr: 0\nHeim: Seebach-Kügeliloo\nGast: Thalwil III\n\nAdresse: Maienstrasse 9\, 8050 Zürich\n
LOCATION:Maienstrasse 9\, 8050 Zürich
CATEGORIES:Saison 2024/25
END:VEVENT
BEGIN:VEVENT
DTSTAMP:20260425T005109Z
DTSTART;TZID=Europe/Berlin:20241106T193000
DTEND;TZID=Europe/Berlin:20241106T223000
SUMMARY:HE 4. Liga Gr. 4 Seebach-Kügeliloo vs Young Stars ZH VIII (0)
UID:12590f0c-b8d3-4db3-96c1-b190ae68cf85
STATUS:CONFIRMED
LAST-MODIFIED:20241108T134726Z
DESCRIPTION:4. Liga Herren Gruppe 4\nBegegnungs-Nr: 0\nHeim: Seebach-Kügeliloo\nGast: Young Stars ZH VIII\n\nAdresse: Maienstrasse 9\, 8050 Zürich\n
LOCATION:Maienstrasse 9\, 8050 Zürich
CATEGORIES:Saison 2024/25
END:VEVENT
BEGIN:VEVENT
DTSTAMP:20260425T005109Z
DTSTART;TZID=Europe/Berlin:20241113T193000
DTEND;TZID=Europe/Berlin:20241113T223000
SUMMARY:HE 4. Liga Gr. 4 Seebach-Kügeliloo vs Dietikon-Weiningen II (0)
UID:48f123ad-5f86-42bc-9482-557c8c2f5931
STATUS:CONFIRMED
LAST-MODIFIED:20241114T073612Z
DESCRIPTION:4. Liga Herren Gruppe 4\nBegegnungs-Nr: 0\nHeim: Seebach-Kügeliloo\nGast: Dietikon-Weiningen II\n\nAdresse: Maienstrasse 9\, 8050 Zürich\n
LOCATION:Maienstrasse 9\, 8050 Zürich
CATEGORIES:Saison 2024/25
END:VEVENT
BEGIN:VEVENT
DTSTAMP:20260425T005109Z
DTSTART;TZID=Europe/Berlin:20240904T193000
DTEND;TZID=Europe/Berlin:20240904T223000
SUMMARY:HE 4. Liga Gr. 4 Seebach-Kügeliloo vs Buchs Zürich II (0)
UID:9719623b-8265-4efb-8166-1446b5ebfa2a
STATUS:CONFIRMED
LAST-MODIFIED:20240905T063729Z
DESCRIPTION:4. Liga Herren Gruppe 4\nBegegnungs-Nr: 0\nHeim: Seebach-Kügeliloo\nGast: Buchs Zürich II\n\nAdresse: Maienstrasse 9\, 8050 Zürich\n
LOCATION:Maienstrasse 9\, 8050 Zürich
CATEGORIES:Saison 2024/25
END:VEVENT
BEGIN:VEVENT
DTSTAMP:20260425T005109Z
DTSTART;TZID=Europe/Berlin:20250508T200000
DTEND;TZID=Europe/Berlin:20250508T230000
SUMMARY:HE 4.Liga Abstieg Ettenhausen III vs Seebach-Kügeliloo (412)
UID:9acf4fcf-5944-41d6-bc52-fc73c0999f40
STATUS:CONFIRMED
LAST-MODIFIED:20250513T095222Z
DESCRIPTION:4. Liga Herren Abstieg\nBegegnungs-Nr: 412\nHeim: Ettenhausen III\nGast: Seebach-Kügeliloo\n
LOCATION:
CATEGORIES:Saison 2024/25
END:VEVENT
BEGIN:VEVENT
DTSTAMP:20260425T005109Z
DTSTART;TZID=Europe/Berlin:20250328T201500
DTEND;TZID=Europe/Berlin:20250328T231500
SUMMARY:HE 4. Liga Gr. 4 Thalwil III vs Seebach-Kügeliloo (0)
UID:5dc93709-da15-44f9-ae61-77f8309e1a5d
STATUS:CONFIRMED
LAST-MODIFIED:20250404T083000Z
DESCRIPTION:4. Liga Herren Gruppe 4\nBegegnungs-Nr: 0\nHeim: Thalwil III\nGast: Seebach-Kügeliloo\n\nAdresse: Bergstrasse 2\, 8800 Thalwil\n
LOCATION:Bergstrasse 2\, 8800 Thalwil
CATEGORIES:Saison 2024/25
END:VEVENT
BEGIN:VEVENT
DTSTAMP:20260425T005109Z
DTSTART;TZID=Europe/Berlin:20250312T201500
DTEND;TZID=Europe/Berlin:20250312T231500
SUMMARY:HE 4. Liga Gr. 4 Young Stars ZH VIII vs Seebach-Kügeliloo (0)
UID:3d056725-736d-466c-84c2-6b5fbe679050
STATUS:CONFIRMED
LAST-MODIFIED:20250320T075826Z
DESCRIPTION:4. Liga Herren Gruppe 4\nBegegnungs-Nr: 0\nHeim: Young Stars ZH VIII\nGast: Seebach-Kügeliloo\n\nAdresse: Seefeldstrasse 93\, 8008 Zürich\n
LOCATION:Seefeldstrasse 93\, 8008 Zürich
CATEGORIES:Saison 2024/25
END:VEVENT
BEGIN:VEVENT
DTSTAMP:20260425T005109Z
DTSTART;TZID=Europe/Berlin:20250207T200000
DTEND;TZID=Europe/Berlin:20250207T230000
SUMMARY:HE 4. Liga Gr. 4 Dietikon-Weiningen II vs Seebach-Kügeliloo (0)
UID:5bb90af9-a94b-4a73-98e2-19f53627cc22
STATUS:CONFIRMED
LAST-MODIFIED:20250213T131824Z
DESCRIPTION:4. Liga Herren Gruppe 4\nBegegnungs-Nr: 0\nHeim: Dietikon-Weiningen II\nGast: Seebach-Kügeliloo\n\nAdresse: Bohnackerstrasse 5\, 8953 Dietikon\n
LOCATION:Bohnackerstrasse 5\, 8953 Dietikon
CATEGORIES:Saison 2024/25
END:VEVENT
BEGIN:VEVENT
DTSTAMP:20260425T005109Z
DTSTART;TZID=Europe/Berlin:20250124T193000
DTEND;TZID=Europe/Berlin:20250124T223000
SUMMARY:HE 4. Liga Gr. 4 Buchs Zürich II vs Seebach-Kügeliloo (0)
UID:70ab64c9-373b-435b-a880-05803c1d0414
STATUS:CONFIRMED
LAST-MODIFIED:20250129T123529Z
DESCRIPTION:4. Liga Herren Gruppe 4\nBegegnungs-Nr: 0\nHeim: Buchs Zürich II\nGast: Seebach-Kügeliloo\n\nAdresse: Drisglerstrasse 3\, 8107 Buchs ZH\n
LOCATION:Drisglerstrasse 3\, 8107 Buchs ZH
CATEGORIES:Saison 2024/25
END:VEVENT
BEGIN:VEVENT
DTSTAMP:20260425T005109Z
DTSTART;TZID=Europe/Berlin:20241101T200000
DTEND;TZID=Europe/Berlin:20241101T230000
SUMMARY:HE 4. Liga Gr. 4 Höngg II vs Seebach-Kügeliloo (0)
UID:539151ab-9731-43a8-817a-abc957b71caf
STATUS:CONFIRMED
LAST-MODIFIED:20241107T162953Z
DESCRIPTION:4. Liga Herren Gruppe 4\nBegegnungs-Nr: 0\nHeim: Höngg II\nGast: Seebach-Kügeliloo\n\nAdresse: Bläsistrasse 2\, 8049 Zürich\n
LOCATION:Bläsistrasse 2\, 8049 Zürich
CATEGORIES:Saison 2024/25
END:VEVENT
BEGIN:VEVENT
DTSTAMP:20260425T005109Z
DTSTART;TZID=Europe/Berlin:20240916T193000
DTEND;TZID=Europe/Berlin:20240916T223000
SUMMARY:HE 4. Liga Gr. 4 Niederhasli IV vs Seebach-Kügeliloo (0)
UID:208121b1-2978-44a7-8789-a13e1ab52dc7
STATUS:CONFIRMED
LAST-MODIFIED:20240917T071015Z
DESCRIPTION:4. Liga Herren Gruppe 4\nBegegnungs-Nr: 0\nHeim: Niederhasli IV\nGast: Seebach-Kügeliloo\n\nAdresse: Dorfstrasse 22\, 8155 Niederhasli\n
LOCATION:Dorfstrasse 22\, 8155 Niederhasli
CATEGORIES:Saison 2024/25
END:VEVENT
BEGIN:VEVENT
DTSTAMP:20260425T005109Z
DTSTART;TZID=Europe/Berlin:20240830T193000
DTEND;TZID=Europe/Berlin:20240830T223000
SUMMARY:HE 4. Liga Gr. 4 Pinguin Zürich IV vs Seebach-Kügeliloo (0)
UID:e419e9b1-7406-432e-80f7-c74797f36330
STATUS:CONFIRMED
LAST-MODIFIED:20240904T102209Z
DESCRIPTION:4. Liga Herren Gruppe 4\nBegegnungs-Nr: 0\nHeim: Pinguin Zürich IV\nGast: Seebach-Kügeliloo\n\nAdresse: Basteiplatz\, 8001 Zürich\n
LOCATION:Basteiplatz\, 8001 Zürich
CATEGORIES:Saison 2024/25
END:VEVENT
END:VCALENDAR
