BEGIN:VCALENDAR
PRODID:-//nuDatenautomaten//framework iCal4j //DE
VERSION:2.0
CALSCALE:GREGORIAN
BEGIN:VTIMEZONE
TZID:Europe/Berlin
LAST-MODIFIED:20260306T231828Z
TZURL:https://www.tzurl.org/zoneinfo/Europe/Berlin
X-LIC-LOCATION:Europe/Berlin
X-PROLEPTIC-TZNAME:LMT
BEGIN:STANDARD
TZNAME:CET
TZOFFSETFROM:+005328
TZOFFSETTO:+0100
DTSTART:18930401T000000
END:STANDARD
BEGIN:DAYLIGHT
TZNAME:CEST
TZOFFSETFROM:+0100
TZOFFSETTO:+0200
DTSTART:19160430T230000
RDATE:19400401T020000
RDATE:19430329T020000
RDATE:19460414T020000
RDATE:19470406T030000
RDATE:19480418T020000
RDATE:19490410T020000
RDATE:19800406T020000
END:DAYLIGHT
BEGIN:STANDARD
TZNAME:CET
TZOFFSETFROM:+0200
TZOFFSETTO:+0100
DTSTART:19161001T010000
RDATE:19421102T030000
RDATE:19431004T030000
RDATE:19441002T030000
RDATE:19451118T030000
RDATE:19461007T030000
END:STANDARD
BEGIN:DAYLIGHT
TZNAME:CEST
TZOFFSETFROM:+0100
TZOFFSETTO:+0200
DTSTART:19170416T020000
RRULE:FREQ=YEARLY;UNTIL=19180415T010000Z;BYMONTH=4;BYDAY=3MO
END:DAYLIGHT
BEGIN:STANDARD
TZNAME:CET
TZOFFSETFROM:+0200
TZOFFSETTO:+0100
DTSTART:19170917T030000
RRULE:FREQ=YEARLY;UNTIL=19180916T010000Z;BYMONTH=9;BYDAY=3MO
END:STANDARD
BEGIN:DAYLIGHT
TZNAME:CEST
TZOFFSETFROM:+0100
TZOFFSETTO:+0200
DTSTART:19440403T020000
RRULE:FREQ=YEARLY;UNTIL=19450402T010000Z;BYMONTH=4;BYDAY=1MO
END:DAYLIGHT
BEGIN:DAYLIGHT
TZNAME:CEMT
TZOFFSETFROM:+0200
TZOFFSETTO:+0300
DTSTART:19450524T020000
RDATE:19470511T030000
END:DAYLIGHT
BEGIN:DAYLIGHT
TZNAME:CEST
TZOFFSETFROM:+0300
TZOFFSETTO:+0200
DTSTART:19450924T030000
RDATE:19470629T030000
END:DAYLIGHT
BEGIN:STANDARD
TZNAME:CET
TZOFFSETFROM:+0100
TZOFFSETTO:+0100
DTSTART:19460101T000000
RDATE:19800101T000000
END:STANDARD
BEGIN:STANDARD
TZNAME:CET
TZOFFSETFROM:+0200
TZOFFSETTO:+0100
DTSTART:19471005T030000
RRULE:FREQ=YEARLY;UNTIL=19491002T010000Z;BYMONTH=10;BYDAY=1SU
END:STANDARD
BEGIN:STANDARD
TZNAME:CET
TZOFFSETFROM:+0200
TZOFFSETTO:+0100
DTSTART:19800928T030000
RRULE:FREQ=YEARLY;UNTIL=19950924T010000Z;BYMONTH=9;BYDAY=-1SU
END:STANDARD
BEGIN:DAYLIGHT
TZNAME:CEST
TZOFFSETFROM:+0100
TZOFFSETTO:+0200
DTSTART:19810329T020000
RRULE:FREQ=YEARLY;BYMONTH=3;BYDAY=-1SU
END:DAYLIGHT
BEGIN:STANDARD
TZNAME:CET
TZOFFSETFROM:+0200
TZOFFSETTO:+0100
DTSTART:19961027T030000
RRULE:FREQ=YEARLY;BYMONTH=10;BYDAY=-1SU
END:STANDARD
END:VTIMEZONE
BEGIN:VEVENT
DTSTAMP:20260425T021421Z
DTSTART;TZID=Europe/Berlin:20250108T193000
DTEND;TZID=Europe/Berlin:20250108T223000
SUMMARY:HE 4. Liga Gr. 5 Kloten vs Zürich-Affoltern VI (0)
UID:2d87fd40-03b9-4a66-a96d-b324d167ed56
STATUS:CONFIRMED
LAST-MODIFIED:20250110T151058Z
DESCRIPTION:4. Liga Herren Gruppe 5\nBegegnungs-Nr: 0\nHeim: Kloten\nGast: Zürich-Affoltern VI\n\nAdresse: Schluefweg 10\, 8302 Kloten\n
LOCATION:Schluefweg 10\, 8302 Kloten
CATEGORIES:Saison 2024/25
END:VEVENT
BEGIN:VEVENT
DTSTAMP:20260425T021421Z
DTSTART;TZID=Europe/Berlin:20241204T193000
DTEND;TZID=Europe/Berlin:20241204T223000
SUMMARY:HE 4. Liga Gr. 5 Kloten vs Uster IV (0)
UID:a8153ed1-a6a9-4526-8901-9ca7ee924327
STATUS:CONFIRMED
LAST-MODIFIED:20241205T124551Z
DESCRIPTION:4. Liga Herren Gruppe 5\nBegegnungs-Nr: 0\nHeim: Kloten\nGast: Uster IV\n\nAdresse: Schluefweg 10\, 8302 Kloten\n
LOCATION:Schluefweg 10\, 8302 Kloten
CATEGORIES:Saison 2024/25
END:VEVENT
BEGIN:VEVENT
DTSTAMP:20260425T021421Z
DTSTART;TZID=Europe/Berlin:20241030T193000
DTEND;TZID=Europe/Berlin:20241030T223000
SUMMARY:HE 4. Liga Gr. 5 Kloten vs Buchs Zürich III (0)
UID:92b16f94-c8c0-43d9-ba1d-f35b1f0cf4f9
STATUS:CONFIRMED
LAST-MODIFIED:20241108T134738Z
DESCRIPTION:4. Liga Herren Gruppe 5\nBegegnungs-Nr: 0\nHeim: Kloten\nGast: Buchs Zürich III\n\nAdresse: Schluefweg 10\, 8302 Kloten\n
LOCATION:Schluefweg 10\, 8302 Kloten
CATEGORIES:Saison 2024/25
END:VEVENT
BEGIN:VEVENT
DTSTAMP:20260425T021421Z
DTSTART;TZID=Europe/Berlin:20240925T193000
DTEND;TZID=Europe/Berlin:20240925T223000
SUMMARY:HE 4. Liga Gr. 5 Kloten vs Meilen-Männedorf II (0)
UID:97fc913d-a036-456d-9e72-c3fdc3c0691a
STATUS:CONFIRMED
LAST-MODIFIED:20240926T114140Z
DESCRIPTION:4. Liga Herren Gruppe 5\nBegegnungs-Nr: 0\nHeim: Kloten\nGast: Meilen-Männedorf II\n\nAdresse: Schluefweg 10\, 8302 Kloten\n
LOCATION:Schluefweg 10\, 8302 Kloten
CATEGORIES:Saison 2024/25
END:VEVENT
BEGIN:VEVENT
DTSTAMP:20260425T021421Z
DTSTART;TZID=Europe/Berlin:20240904T193000
DTEND;TZID=Europe/Berlin:20240904T223000
SUMMARY:HE 4. Liga Gr. 5 Kloten vs BW-Wollishofen III (0)
UID:9c355950-9e4b-4f44-921e-f2bf0968c232
STATUS:CONFIRMED
LAST-MODIFIED:20240905T063741Z
DESCRIPTION:4. Liga Herren Gruppe 5\nBegegnungs-Nr: 0\nHeim: Kloten\nGast: BW-Wollishofen III\n\nAdresse: Schluefweg 10\, 8302 Kloten\n
LOCATION:Schluefweg 10\, 8302 Kloten
CATEGORIES:Saison 2024/25
END:VEVENT
BEGIN:VEVENT
DTSTAMP:20260425T021421Z
DTSTART;TZID=Europe/Berlin:20250312T193000
DTEND;TZID=Europe/Berlin:20250312T223000
SUMMARY:HE 4. Liga Gr. 5 Kloten vs Bülach III (0)
UID:cc7cc16e-0add-47db-9d98-a5a29ec37551
STATUS:CONFIRMED
LAST-MODIFIED:20250313T102849Z
DESCRIPTION:4. Liga Herren Gruppe 5\nBegegnungs-Nr: 0\nHeim: Kloten\nGast: Bülach III\n\nAdresse: Schluefweg 10\, 8302 Kloten\n
LOCATION:Schluefweg 10\, 8302 Kloten
CATEGORIES:Saison 2024/25
END:VEVENT
BEGIN:VEVENT
DTSTAMP:20260425T021421Z
DTSTART;TZID=Europe/Berlin:20250129T193000
DTEND;TZID=Europe/Berlin:20250129T223000
SUMMARY:HE 4. Liga Gr. 5 Kloten vs Pinguin Zürich III (0)
UID:d663ad30-6534-4cd9-9b7f-5288fc99ee9b
STATUS:CONFIRMED
LAST-MODIFIED:20250131T143709Z
DESCRIPTION:4. Liga Herren Gruppe 5\nBegegnungs-Nr: 0\nHeim: Kloten\nGast: Pinguin Zürich III\n\nAdresse: Schluefweg 10\, 8302 Kloten\n
LOCATION:Schluefweg 10\, 8302 Kloten
CATEGORIES:Saison 2024/25
END:VEVENT
BEGIN:VEVENT
DTSTAMP:20260425T021421Z
DTSTART;TZID=Europe/Berlin:20250122T200000
DTEND;TZID=Europe/Berlin:20250122T230000
SUMMARY:HE 4. Liga Gr. 5 BW-Wollishofen III vs Kloten (0)
UID:b6e6207e-b459-4897-b131-584b6b80a972
STATUS:CONFIRMED
LAST-MODIFIED:20250123T082759Z
DESCRIPTION:4. Liga Herren Gruppe 5\nBegegnungs-Nr: 0\nHeim: BW-Wollishofen III\nGast: Kloten\n\nAdresse: Kilchbergstr. 28\, 8038 Zürich\n
LOCATION:Kilchbergstr. 28\, 8038 Zürich
CATEGORIES:Saison 2024/25
END:VEVENT
BEGIN:VEVENT
DTSTAMP:20260425T021421Z
DTSTART;TZID=Europe/Berlin:20241107T201500
DTEND;TZID=Europe/Berlin:20241107T231500
SUMMARY:HE 4. Liga Gr. 5 Bülach III vs Kloten (0)
UID:1386c4b8-7e75-4fee-909d-c15d4462a131
STATUS:CONFIRMED
LAST-MODIFIED:20241108T134802Z
DESCRIPTION:4. Liga Herren Gruppe 5\nBegegnungs-Nr: 0\nHeim: Bülach III\nGast: Kloten\n\nAdresse: Unterweg 51\, 8180 Bülach\n
LOCATION:Unterweg 51\, 8180 Bülach
CATEGORIES:Saison 2024/25
END:VEVENT
BEGIN:VEVENT
DTSTAMP:20260425T021421Z
DTSTART;TZID=Europe/Berlin:20240927T193000
DTEND;TZID=Europe/Berlin:20240927T223000
SUMMARY:HE 4. Liga Gr. 5 Pinguin Zürich III vs Kloten (0)
UID:601c080a-00a5-4d92-8042-9ff84120d642
STATUS:CONFIRMED
LAST-MODIFIED:20240930T124555Z
DESCRIPTION:4. Liga Herren Gruppe 5\nBegegnungs-Nr: 0\nHeim: Pinguin Zürich III\nGast: Kloten\n\nAdresse: Basteiplatz\, 8001 Zürich\n
LOCATION:Basteiplatz\, 8001 Zürich
CATEGORIES:Saison 2024/25
END:VEVENT
BEGIN:VEVENT
DTSTAMP:20260425T021421Z
DTSTART;TZID=Europe/Berlin:20240826T201500
DTEND;TZID=Europe/Berlin:20240826T231500
SUMMARY:HE 4. Liga Gr. 5 Zürich-Affoltern VI vs Kloten (0)
UID:0af1dca6-e2d4-4845-b194-e3a4cec9aad8
STATUS:CONFIRMED
LAST-MODIFIED:20240828T083802Z
DESCRIPTION:4. Liga Herren Gruppe 5\nBegegnungs-Nr: 0\nHeim: Zürich-Affoltern VI\nGast: Kloten\n\nAdresse: Rümlangstr. 89\, 8052 Zürich\n
LOCATION:Rümlangstr. 89\, 8052 Zürich
CATEGORIES:Saison 2024/25
END:VEVENT
BEGIN:VEVENT
DTSTAMP:20260425T021421Z
DTSTART;TZID=Europe/Berlin:20250324T194500
DTEND;TZID=Europe/Berlin:20250324T224500
SUMMARY:HE 4. Liga Gr. 5 Uster IV vs Kloten (0)
UID:9835859a-89ee-4371-bd20-5a54574cee3b
STATUS:CONFIRMED
LAST-MODIFIED:20250327T133754Z
DESCRIPTION:4. Liga Herren Gruppe 5\nBegegnungs-Nr: 0\nHeim: Uster IV\nGast: Kloten\n\nAdresse: Wilstrasse 30 / Zürcherstrasse\, 8610 Uster\n
LOCATION:Wilstrasse 30 / Zürcherstrasse\, 8610 Uster
CATEGORIES:Saison 2024/25
END:VEVENT
BEGIN:VEVENT
DTSTAMP:20260425T021421Z
DTSTART;TZID=Europe/Berlin:20250221T193000
DTEND;TZID=Europe/Berlin:20250221T223000
SUMMARY:HE 4. Liga Gr. 5 Buchs Zürich III vs Kloten (0)
UID:c07b9955-d9e1-4909-9092-aa03e5e4350e
STATUS:CONFIRMED
LAST-MODIFIED:20250227T112632Z
DESCRIPTION:4. Liga Herren Gruppe 5\nBegegnungs-Nr: 0\nHeim: Buchs Zürich III\nGast: Kloten\n\nAdresse: Drisglerstrasse 3\, 8107 Buchs ZH\n
LOCATION:Drisglerstrasse 3\, 8107 Buchs ZH
CATEGORIES:Saison 2024/25
END:VEVENT
BEGIN:VEVENT
DTSTAMP:20260425T021421Z
DTSTART;TZID=Europe/Berlin:20250214T194500
DTEND;TZID=Europe/Berlin:20250214T224500
SUMMARY:HE 4. Liga Gr. 5 Meilen-Männedorf II vs Kloten (0)
UID:c3d56aaa-3be9-47ca-b94a-0a0c674a4fa7
STATUS:CONFIRMED
LAST-MODIFIED:20250219T113015Z
DESCRIPTION:4. Liga Herren Gruppe 5\nBegegnungs-Nr: 0\nHeim: Meilen-Männedorf II\nGast: Kloten\n\nAdresse: Schulstrasse 10\, 8708 Männedorf\n
LOCATION:Schulstrasse 10\, 8708 Männedorf
CATEGORIES:Saison 2024/25
END:VEVENT
END:VCALENDAR
