BEGIN:VCALENDAR
PRODID:-//nuDatenautomaten//framework iCal4j //DE
VERSION:2.0
CALSCALE:GREGORIAN
BEGIN:VTIMEZONE
TZID:Europe/Berlin
LAST-MODIFIED:20260306T231828Z
TZURL:https://www.tzurl.org/zoneinfo/Europe/Berlin
X-LIC-LOCATION:Europe/Berlin
X-PROLEPTIC-TZNAME:LMT
BEGIN:STANDARD
TZNAME:CET
TZOFFSETFROM:+005328
TZOFFSETTO:+0100
DTSTART:18930401T000000
END:STANDARD
BEGIN:DAYLIGHT
TZNAME:CEST
TZOFFSETFROM:+0100
TZOFFSETTO:+0200
DTSTART:19160430T230000
RDATE:19400401T020000
RDATE:19430329T020000
RDATE:19460414T020000
RDATE:19470406T030000
RDATE:19480418T020000
RDATE:19490410T020000
RDATE:19800406T020000
END:DAYLIGHT
BEGIN:STANDARD
TZNAME:CET
TZOFFSETFROM:+0200
TZOFFSETTO:+0100
DTSTART:19161001T010000
RDATE:19421102T030000
RDATE:19431004T030000
RDATE:19441002T030000
RDATE:19451118T030000
RDATE:19461007T030000
END:STANDARD
BEGIN:DAYLIGHT
TZNAME:CEST
TZOFFSETFROM:+0100
TZOFFSETTO:+0200
DTSTART:19170416T020000
RRULE:FREQ=YEARLY;UNTIL=19180415T010000Z;BYMONTH=4;BYDAY=3MO
END:DAYLIGHT
BEGIN:STANDARD
TZNAME:CET
TZOFFSETFROM:+0200
TZOFFSETTO:+0100
DTSTART:19170917T030000
RRULE:FREQ=YEARLY;UNTIL=19180916T010000Z;BYMONTH=9;BYDAY=3MO
END:STANDARD
BEGIN:DAYLIGHT
TZNAME:CEST
TZOFFSETFROM:+0100
TZOFFSETTO:+0200
DTSTART:19440403T020000
RRULE:FREQ=YEARLY;UNTIL=19450402T010000Z;BYMONTH=4;BYDAY=1MO
END:DAYLIGHT
BEGIN:DAYLIGHT
TZNAME:CEMT
TZOFFSETFROM:+0200
TZOFFSETTO:+0300
DTSTART:19450524T020000
RDATE:19470511T030000
END:DAYLIGHT
BEGIN:DAYLIGHT
TZNAME:CEST
TZOFFSETFROM:+0300
TZOFFSETTO:+0200
DTSTART:19450924T030000
RDATE:19470629T030000
END:DAYLIGHT
BEGIN:STANDARD
TZNAME:CET
TZOFFSETFROM:+0100
TZOFFSETTO:+0100
DTSTART:19460101T000000
RDATE:19800101T000000
END:STANDARD
BEGIN:STANDARD
TZNAME:CET
TZOFFSETFROM:+0200
TZOFFSETTO:+0100
DTSTART:19471005T030000
RRULE:FREQ=YEARLY;UNTIL=19491002T010000Z;BYMONTH=10;BYDAY=1SU
END:STANDARD
BEGIN:STANDARD
TZNAME:CET
TZOFFSETFROM:+0200
TZOFFSETTO:+0100
DTSTART:19800928T030000
RRULE:FREQ=YEARLY;UNTIL=19950924T010000Z;BYMONTH=9;BYDAY=-1SU
END:STANDARD
BEGIN:DAYLIGHT
TZNAME:CEST
TZOFFSETFROM:+0100
TZOFFSETTO:+0200
DTSTART:19810329T020000
RRULE:FREQ=YEARLY;BYMONTH=3;BYDAY=-1SU
END:DAYLIGHT
BEGIN:STANDARD
TZNAME:CET
TZOFFSETFROM:+0200
TZOFFSETTO:+0100
DTSTART:19961027T030000
RRULE:FREQ=YEARLY;BYMONTH=10;BYDAY=-1SU
END:STANDARD
END:VTIMEZONE
BEGIN:VEVENT
DTSTAMP:20260425T032003Z
DTSTART;TZID=Europe/Berlin:20250430T194500
DTEND;TZID=Europe/Berlin:20250430T224500
SUMMARY:HE 3.Liga Abstieg Gr.A Steckborn-Homburg II vs Ruggell (311)
UID:d28c340f-b878-45a5-b5b7-6234f37019c8
STATUS:CONFIRMED
LAST-MODIFIED:20250506T135431Z
DESCRIPTION:3. Liag Herren Abstieg Gruppe A\nBegegnungs-Nr: 311\nHeim: Steckborn-Homburg II\nGast: Ruggell\n\nAdresse: Schulstrasse 4\, 8508 Unterhörstetten\n
LOCATION:Schulstrasse 4\, 8508 Unterhörstetten
CATEGORIES:Saison 2024/25
END:VEVENT
BEGIN:VEVENT
DTSTAMP:20260425T032003Z
DTSTART;TZID=Europe/Berlin:20250205T194500
DTEND;TZID=Europe/Berlin:20250205T224500
SUMMARY:HE 3. Liga Gr. 2 Steckborn-Homburg II vs Gaiserwald II (0)
UID:a6e5fc6b-8a85-4829-aaab-15aefe9ff74e
STATUS:CONFIRMED
LAST-MODIFIED:20250206T140611Z
DESCRIPTION:3. Liga Herren Gruppe 2\nBegegnungs-Nr: 0\nHeim: Steckborn-Homburg II\nGast: Gaiserwald II\n\nAdresse: Schulstrasse 4\, 8508 Unterhörstetten\n
LOCATION:Schulstrasse 4\, 8508 Unterhörstetten
CATEGORIES:Saison 2024/25
END:VEVENT
BEGIN:VEVENT
DTSTAMP:20260425T032003Z
DTSTART;TZID=Europe/Berlin:20241213T194500
DTEND;TZID=Europe/Berlin:20241213T224500
SUMMARY:HE 3. Liga Gr. 2 Steckborn-Homburg II vs Herisau (0)
UID:d6a96763-fdf7-4128-aafb-019763705b96
STATUS:CONFIRMED
LAST-MODIFIED:20241217T104148Z
DESCRIPTION:3. Liga Herren Gruppe 2\nBegegnungs-Nr: 0\nHeim: Steckborn-Homburg II\nGast: Herisau\n\nAdresse: Schulstrasse 4\, 8508 Unterhörstetten\n
LOCATION:Schulstrasse 4\, 8508 Unterhörstetten
CATEGORIES:Saison 2024/25
END:VEVENT
BEGIN:VEVENT
DTSTAMP:20260425T032003Z
DTSTART;TZID=Europe/Berlin:20241108T200000
DTEND;TZID=Europe/Berlin:20241108T230000
SUMMARY:HE 3. Liga Gr. 2 Steckborn-Homburg II vs Wallenwil II (0)
UID:dc0ea78f-4318-47f5-a67e-e2c0da3a83f1
STATUS:CONFIRMED
LAST-MODIFIED:20241114T070336Z
DESCRIPTION:3. Liga Herren Gruppe 2\nBegegnungs-Nr: 0\nHeim: Steckborn-Homburg II\nGast: Wallenwil II\n\nAdresse: Feldbach\, 8266 Steckborn\n
LOCATION:Feldbach\, 8266 Steckborn
CATEGORIES:Saison 2024/25
END:VEVENT
BEGIN:VEVENT
DTSTAMP:20260425T032003Z
DTSTART;TZID=Europe/Berlin:20240920T194500
DTEND;TZID=Europe/Berlin:20240920T224500
SUMMARY:HE 3. Liga Gr. 2 Steckborn-Homburg II vs Wil SG III (0)
UID:47579c15-5beb-4856-9535-d645934d069f
STATUS:CONFIRMED
LAST-MODIFIED:20240926T113508Z
DESCRIPTION:3. Liga Herren Gruppe 2\nBegegnungs-Nr: 0\nHeim: Steckborn-Homburg II\nGast: Wil SG III\n\nAdresse: Schulstrasse 4\, 8508 Unterhörstetten\n
LOCATION:Schulstrasse 4\, 8508 Unterhörstetten
CATEGORIES:Saison 2024/25
END:VEVENT
BEGIN:VEVENT
DTSTAMP:20260425T032003Z
DTSTART;TZID=Europe/Berlin:20240830T194500
DTEND;TZID=Europe/Berlin:20240830T224500
SUMMARY:HE 3. Liga Gr. 2 Steckborn-Homburg II vs St. Gallen IV (0)
UID:fffac2d9-390d-4201-a8be-9da76b07660e
STATUS:CONFIRMED
LAST-MODIFIED:20240904T093503Z
DESCRIPTION:3. Liga Herren Gruppe 2\nBegegnungs-Nr: 0\nHeim: Steckborn-Homburg II\nGast: St. Gallen IV\n\nAdresse: Schulstrasse 4\, 8508 Unterhörstetten\n
LOCATION:Schulstrasse 4\, 8508 Unterhörstetten
CATEGORIES:Saison 2024/25
END:VEVENT
BEGIN:VEVENT
DTSTAMP:20260425T032003Z
DTSTART;TZID=Europe/Berlin:20250307T194500
DTEND;TZID=Europe/Berlin:20250307T224500
SUMMARY:HE 3. Liga Gr. 2 Steckborn-Homburg II vs Toggenburg (0)
UID:409924f5-bdf0-49ea-adc7-5b5009a821e3
STATUS:CONFIRMED
LAST-MODIFIED:20250311T144139Z
DESCRIPTION:3. Liga Herren Gruppe 2\nBegegnungs-Nr: 0\nHeim: Steckborn-Homburg II\nGast: Toggenburg\n\nAdresse: Schulstrasse 4\, 8508 Unterhörstetten\n
LOCATION:Schulstrasse 4\, 8508 Unterhörstetten
CATEGORIES:Saison 2024/25
END:VEVENT
BEGIN:VEVENT
DTSTAMP:20260425T032003Z
DTSTART;TZID=Europe/Berlin:20250214T194500
DTEND;TZID=Europe/Berlin:20250214T224500
SUMMARY:HE 3. Liga Gr. 2 Steckborn-Homburg II vs Romanshorn II (0)
UID:746d7911-9a3b-4f22-bb5c-28efdf967331
STATUS:CONFIRMED
LAST-MODIFIED:20250219T112730Z
DESCRIPTION:3. Liga Herren Gruppe 2\nBegegnungs-Nr: 0\nHeim: Steckborn-Homburg II\nGast: Romanshorn II\n\nAdresse: Schulstrasse 4\, 8508 Unterhörstetten\n
LOCATION:Schulstrasse 4\, 8508 Unterhörstetten
CATEGORIES:Saison 2024/25
END:VEVENT
BEGIN:VEVENT
DTSTAMP:20260425T032003Z
DTSTART;TZID=Europe/Berlin:20250512T193000
DTEND;TZID=Europe/Berlin:20250512T223000
SUMMARY:HE 3.Liga Abstieg Gr.A Pinguin Zürich II vs Steckborn-Homburg II (313)
UID:79579c24-ba01-4f69-9ea8-1aef23d55214
STATUS:CONFIRMED
LAST-MODIFIED:20250515T131447Z
DESCRIPTION:3. Liag Herren Abstieg Gruppe A\nBegegnungs-Nr: 313\nHeim: Pinguin Zürich II\nGast: Steckborn-Homburg II\n\nAdresse: Basteiplatz\, 8001 Zürich\n
LOCATION:Basteiplatz\, 8001 Zürich
CATEGORIES:Saison 2024/25
END:VEVENT
BEGIN:VEVENT
DTSTAMP:20260425T032003Z
DTSTART;TZID=Europe/Berlin:20250128T201500
DTEND;TZID=Europe/Berlin:20250128T231500
SUMMARY:HE 3. Liga Gr. 2 Wil SG III vs Steckborn-Homburg II (0)
UID:133d0b95-a122-425d-82de-297d1ef73a57
STATUS:CONFIRMED
LAST-MODIFIED:20250129T111528Z
DESCRIPTION:3. Liga Herren Gruppe 2\nBegegnungs-Nr: 0\nHeim: Wil SG III\nGast: Steckborn-Homburg II\n\nAdresse: Lindenhofstr. 23\, 9500 Wil\n
LOCATION:Lindenhofstr. 23\, 9500 Wil
CATEGORIES:Saison 2024/25
END:VEVENT
BEGIN:VEVENT
DTSTAMP:20260425T032003Z
DTSTART;TZID=Europe/Berlin:20250111T150000
DTEND;TZID=Europe/Berlin:20250111T180000
SUMMARY:HE 3. Liga Gr. 2 St. Gallen IV vs Steckborn-Homburg II (0)
UID:cf8e5465-6a8f-4f7a-a16c-85adf6a89c74
STATUS:CONFIRMED
LAST-MODIFIED:20250113T113806Z
DESCRIPTION:3. Liga Herren Gruppe 2\nBegegnungs-Nr: 0\nHeim: St. Gallen IV\nGast: Steckborn-Homburg II\n\nAdresse: Zilstrasse 61\, 9016 St.Gallen\n
LOCATION:Zilstrasse 61\, 9016 St.Gallen
CATEGORIES:Saison 2024/25
END:VEVENT
BEGIN:VEVENT
DTSTAMP:20260425T032003Z
DTSTART;TZID=Europe/Berlin:20241115T200000
DTEND;TZID=Europe/Berlin:20241115T230000
SUMMARY:HE 3. Liga Gr. 2 Toggenburg vs Steckborn-Homburg II (0)
UID:ed933cda-e3a8-4444-aaa0-5efcdaffcdb3
STATUS:CONFIRMED
LAST-MODIFIED:20241122T150709Z
DESCRIPTION:3. Liga Herren Gruppe 2\nBegegnungs-Nr: 0\nHeim: Toggenburg\nGast: Steckborn-Homburg II\n\nAdresse: Frohmaderweg\, 9630 Wattwil\n
LOCATION:Frohmaderweg\, 9630 Wattwil
CATEGORIES:Saison 2024/25
END:VEVENT
BEGIN:VEVENT
DTSTAMP:20260425T032003Z
DTSTART;TZID=Europe/Berlin:20240923T201500
DTEND;TZID=Europe/Berlin:20240923T231500
SUMMARY:HE 3. Liga Gr. 2 Romanshorn II vs Steckborn-Homburg II (0)
UID:deeac103-cc13-4ff5-9910-af6e6f5c47d0
STATUS:CONFIRMED
LAST-MODIFIED:20240926T113520Z
DESCRIPTION:3. Liga Herren Gruppe 2\nBegegnungs-Nr: 0\nHeim: Romanshorn II\nGast: Steckborn-Homburg II\n\nAdresse: Florastrasse\, 8590 Romanshorn\n
LOCATION:Florastrasse\, 8590 Romanshorn
CATEGORIES:Saison 2024/25
END:VEVENT
BEGIN:VEVENT
DTSTAMP:20260425T032003Z
DTSTART;TZID=Europe/Berlin:20240910T200000
DTEND;TZID=Europe/Berlin:20240910T230000
SUMMARY:HE 3. Liga Gr. 2 Gaiserwald II vs Steckborn-Homburg II (0)
UID:cd7a0818-29d5-4c60-bb1a-3577eb4696ea
STATUS:CONFIRMED
LAST-MODIFIED:20240912T130237Z
DESCRIPTION:3. Liga Herren Gruppe 2\nBegegnungs-Nr: 0\nHeim: Gaiserwald II\nGast: Steckborn-Homburg II\n\nAdresse: Sonnenbergstrasse 15\, 9030 Abtwil\n
LOCATION:Sonnenbergstrasse 15\, 9030 Abtwil
CATEGORIES:Saison 2024/25
END:VEVENT
BEGIN:VEVENT
DTSTAMP:20260425T032003Z
DTSTART;TZID=Europe/Berlin:20250328T200000
DTEND;TZID=Europe/Berlin:20250328T230000
SUMMARY:HE 3. Liga Gr. 2 Herisau vs Steckborn-Homburg II (0)
UID:65ec4eef-0386-432f-870e-6c185dc3f435
STATUS:CONFIRMED
LAST-MODIFIED:20250402T101840Z
DESCRIPTION:3. Liga Herren Gruppe 2\nBegegnungs-Nr: 0\nHeim: Herisau\nGast: Steckborn-Homburg II\n\nAdresse: Schwellbrunnerstrasse 29\, 9100 Herisau\n
LOCATION:Schwellbrunnerstrasse 29\, 9100 Herisau
CATEGORIES:Saison 2024/25
END:VEVENT
BEGIN:VEVENT
DTSTAMP:20260425T032003Z
DTSTART;TZID=Europe/Berlin:20250313T201500
DTEND;TZID=Europe/Berlin:20250313T231500
SUMMARY:HE 3. Liga Gr. 2 Wallenwil II vs Steckborn-Homburg II (0)
UID:a532056e-1bb1-428f-87a8-38b2398204d5
STATUS:CONFIRMED
LAST-MODIFIED:20250314T124107Z
DESCRIPTION:3. Liga Herren Gruppe 2\nBegegnungs-Nr: 0\nHeim: Wallenwil II\nGast: Steckborn-Homburg II\n\nAdresse: Stationsstrasse 29\, 8360 Wallenwil\n
LOCATION:Stationsstrasse 29\, 8360 Wallenwil
CATEGORIES:Saison 2024/25
END:VEVENT
END:VCALENDAR
